BEGIN:VCALENDAR
VERSION:2.0
PRODID:-//Parohia Sfântul Dumitru Suceava - ECPv6.8.0//NONSGML v1.0//EN
CALSCALE:GREGORIAN
METHOD:PUBLISH
X-ORIGINAL-URL:https://sfantuldumitrusuceava.ro
X-WR-CALDESC:Events for Parohia Sfântul Dumitru Suceava
REFRESH-INTERVAL;VALUE=DURATION:PT1H
X-Robots-Tag:noindex
X-PUBLISHED-TTL:PT1H
BEGIN:VTIMEZONE
TZID:UTC
BEGIN:STANDARD
TZOFFSETFROM:+0000
TZOFFSETTO:+0000
TZNAME:UTC
DTSTART:20280101T000000
END:STANDARD
TZID:Europe/Helsinki
BEGIN:DAYLIGHT
TZOFFSETFROM:+0200
TZOFFSETTO:+0300
TZNAME:EEST
DTSTART:20280326T010000
END:DAYLIGHT
BEGIN:STANDARD
TZOFFSETFROM:+0300
TZOFFSETTO:+0200
TZNAME:EET
DTSTART:20281029T010000
END:STANDARD
END:VTIMEZONE
BEGIN:VEVENT
DTSTART;TZID=UTC:20280410T090000
DTEND;TZID=UTC:20280410T103000
DTSTAMP:20260425T104835
CREATED:20241102T141724Z
LAST-MODIFIED:20241102T141724Z
UID:25964-1838970000-1838975400@sfantuldumitrusuceava.ro
SUMMARY:Sfânta Liturghie
DESCRIPTION:
URL:https://sfantuldumitrusuceava.ro/eveniment/program-de-curatenie-si-audiente/2028-04-10/
END:VEVENT
BEGIN:VEVENT
DTSTART;TZID=UTC:20280411T080000
DTEND;TZID=UTC:20280411T093000
DTSTAMP:20260425T104835
CREATED:20241102T141955Z
LAST-MODIFIED:20241102T141955Z
UID:25966-1839052800-1839058200@sfantuldumitrusuceava.ro
SUMMARY:Sfânta Liturghie
DESCRIPTION:
URL:https://sfantuldumitrusuceava.ro/eveniment/sfanta-liturghie/2028-04-11/
END:VEVENT
BEGIN:VEVENT
DTSTART;TZID=UTC:20280412T080000
DTEND;TZID=UTC:20280412T093000
DTSTAMP:20260425T104835
CREATED:20241102T142044Z
LAST-MODIFIED:20241102T142044Z
UID:25967-1839139200-1839144600@sfantuldumitrusuceava.ro
SUMMARY:Sfânta Liturghie
DESCRIPTION:
URL:https://sfantuldumitrusuceava.ro/eveniment/sfanta-liturghie-2/2028-04-12/
END:VEVENT
BEGIN:VEVENT
DTSTART;TZID=UTC:20280412T170000
DTEND;TZID=UTC:20280412T193000
DTSTAMP:20260425T104835
CREATED:20241102T142205Z
LAST-MODIFIED:20241102T142205Z
UID:25968-1839171600-1839180600@sfantuldumitrusuceava.ro
SUMMARY:Sfințirea Apei\, Acatistul Maicii Domnului ”Pantanassa”\, Taina Sfântului Maslu
DESCRIPTION:
URL:https://sfantuldumitrusuceava.ro/eveniment/sfintirea-apei-acatistul-maicii-domnului-pantanassa-taina-sfantului-maslu/2028-04-12/
END:VEVENT
BEGIN:VEVENT
DTSTART;TZID=UTC:20280413T080000
DTEND;TZID=UTC:20280413T093000
DTSTAMP:20260425T104835
CREATED:20241102T142240Z
LAST-MODIFIED:20241102T142240Z
UID:25969-1839225600-1839231000@sfantuldumitrusuceava.ro
SUMMARY:Sfânta Liturghie
DESCRIPTION:
URL:https://sfantuldumitrusuceava.ro/eveniment/sfanta-liturghie-3/2028-04-13/
END:VEVENT
BEGIN:VEVENT
DTSTART;TZID=UTC:20280414T080000
DTEND;TZID=UTC:20280414T120000
DTSTAMP:20260425T104835
CREATED:20241102T142355Z
LAST-MODIFIED:20241102T142355Z
UID:25970-1839312000-1839326400@sfantuldumitrusuceava.ro
SUMMARY:Utrenia\, Sfânta Liturghie\, Sfințirea Apei și Taina Sfântului Maslu
DESCRIPTION:
URL:https://sfantuldumitrusuceava.ro/eveniment/utrenia-sfanta-liturghie-sfintirea-apei-si-taina-sfantului-maslu/2028-04-14/
END:VEVENT
BEGIN:VEVENT
DTSTART;TZID=UTC:20280415T080000
DTEND;TZID=UTC:20280415T093000
DTSTAMP:20260425T104835
CREATED:20241102T142433Z
LAST-MODIFIED:20241102T142433Z
UID:25971-1839398400-1839403800@sfantuldumitrusuceava.ro
SUMMARY:Sfânta Liturghie și Spovedanie
DESCRIPTION:
URL:https://sfantuldumitrusuceava.ro/eveniment/sfanta-liturghie-si-spovedanie/2028-04-15/
END:VEVENT
BEGIN:VEVENT
DTSTART;TZID=UTC:20280415T103000
DTEND;TZID=UTC:20280415T110000
DTSTAMP:20260425T104835
CREATED:20241102T142519Z
LAST-MODIFIED:20241102T142519Z
UID:25972-1839407400-1839409200@sfantuldumitrusuceava.ro
SUMMARY:Pomenirea celor adormiți (Parastas)
DESCRIPTION:
URL:https://sfantuldumitrusuceava.ro/eveniment/pomenirea-celor-adormiti-parastas/2028-04-15/
END:VEVENT
BEGIN:VEVENT
DTSTART;TZID=Europe/Helsinki:20280416T080000
DTEND;TZID=Europe/Helsinki:20280416T120000
DTSTAMP:20260425T104835
CREATED:20241102T100818Z
LAST-MODIFIED:20241102T100818Z
UID:25973-1839484800-1839499200@sfantuldumitrusuceava.ro
SUMMARY:Utrenia\, Acatistul și Sfânta Liturghie
DESCRIPTION:
URL:https://sfantuldumitrusuceava.ro/eveniment/duminica/2028-04-16/
END:VEVENT
BEGIN:VEVENT
DTSTART;TZID=UTC:20280417T070000
DTEND;TZID=UTC:20280417T090000
DTSTAMP:20260425T104835
CREATED:20241102T141909Z
LAST-MODIFIED:20241102T141909Z
UID:25975-1839567600-1839574800@sfantuldumitrusuceava.ro
SUMMARY:Program de curățenie si Audiențe
DESCRIPTION:
URL:https://sfantuldumitrusuceava.ro/eveniment/program-de-curatenie-si-audiente-2/2028-04-17/
END:VEVENT
BEGIN:VEVENT
DTSTART;TZID=UTC:20280417T090000
DTEND;TZID=UTC:20280417T103000
DTSTAMP:20260425T104835
CREATED:20241102T141724Z
LAST-MODIFIED:20241102T141724Z
UID:25974-1839574800-1839580200@sfantuldumitrusuceava.ro
SUMMARY:Sfânta Liturghie
DESCRIPTION:
URL:https://sfantuldumitrusuceava.ro/eveniment/program-de-curatenie-si-audiente/2028-04-17/
END:VEVENT
BEGIN:VEVENT
DTSTART;TZID=UTC:20280418T080000
DTEND;TZID=UTC:20280418T093000
DTSTAMP:20260425T104835
CREATED:20241102T141955Z
LAST-MODIFIED:20241102T141955Z
UID:25976-1839657600-1839663000@sfantuldumitrusuceava.ro
SUMMARY:Sfânta Liturghie
DESCRIPTION:
URL:https://sfantuldumitrusuceava.ro/eveniment/sfanta-liturghie/2028-04-18/
END:VEVENT
BEGIN:VEVENT
DTSTART;TZID=UTC:20280419T080000
DTEND;TZID=UTC:20280419T093000
DTSTAMP:20260425T104835
CREATED:20241102T142044Z
LAST-MODIFIED:20241102T142044Z
UID:25977-1839744000-1839749400@sfantuldumitrusuceava.ro
SUMMARY:Sfânta Liturghie
DESCRIPTION:
URL:https://sfantuldumitrusuceava.ro/eveniment/sfanta-liturghie-2/2028-04-19/
END:VEVENT
BEGIN:VEVENT
DTSTART;TZID=UTC:20280419T170000
DTEND;TZID=UTC:20280419T193000
DTSTAMP:20260425T104835
CREATED:20241102T142205Z
LAST-MODIFIED:20241102T142205Z
UID:25978-1839776400-1839785400@sfantuldumitrusuceava.ro
SUMMARY:Sfințirea Apei\, Acatistul Maicii Domnului ”Pantanassa”\, Taina Sfântului Maslu
DESCRIPTION:
URL:https://sfantuldumitrusuceava.ro/eveniment/sfintirea-apei-acatistul-maicii-domnului-pantanassa-taina-sfantului-maslu/2028-04-19/
END:VEVENT
BEGIN:VEVENT
DTSTART;TZID=UTC:20280420T080000
DTEND;TZID=UTC:20280420T093000
DTSTAMP:20260425T104835
CREATED:20241102T142240Z
LAST-MODIFIED:20241102T142240Z
UID:25979-1839830400-1839835800@sfantuldumitrusuceava.ro
SUMMARY:Sfânta Liturghie
DESCRIPTION:
URL:https://sfantuldumitrusuceava.ro/eveniment/sfanta-liturghie-3/2028-04-20/
END:VEVENT
BEGIN:VEVENT
DTSTART;TZID=UTC:20280421T080000
DTEND;TZID=UTC:20280421T120000
DTSTAMP:20260425T104835
CREATED:20241102T142355Z
LAST-MODIFIED:20241102T142355Z
UID:25980-1839916800-1839931200@sfantuldumitrusuceava.ro
SUMMARY:Utrenia\, Sfânta Liturghie\, Sfințirea Apei și Taina Sfântului Maslu
DESCRIPTION:
URL:https://sfantuldumitrusuceava.ro/eveniment/utrenia-sfanta-liturghie-sfintirea-apei-si-taina-sfantului-maslu/2028-04-21/
END:VEVENT
BEGIN:VEVENT
DTSTART;TZID=UTC:20280422T080000
DTEND;TZID=UTC:20280422T093000
DTSTAMP:20260425T104835
CREATED:20241102T142433Z
LAST-MODIFIED:20241102T142433Z
UID:25981-1840003200-1840008600@sfantuldumitrusuceava.ro
SUMMARY:Sfânta Liturghie și Spovedanie
DESCRIPTION:
URL:https://sfantuldumitrusuceava.ro/eveniment/sfanta-liturghie-si-spovedanie/2028-04-22/
END:VEVENT
BEGIN:VEVENT
DTSTART;TZID=UTC:20280422T103000
DTEND;TZID=UTC:20280422T110000
DTSTAMP:20260425T104835
CREATED:20241102T142519Z
LAST-MODIFIED:20241102T142519Z
UID:25982-1840012200-1840014000@sfantuldumitrusuceava.ro
SUMMARY:Pomenirea celor adormiți (Parastas)
DESCRIPTION:
URL:https://sfantuldumitrusuceava.ro/eveniment/pomenirea-celor-adormiti-parastas/2028-04-22/
END:VEVENT
BEGIN:VEVENT
DTSTART;TZID=Europe/Helsinki:20280423T080000
DTEND;TZID=Europe/Helsinki:20280423T120000
DTSTAMP:20260425T104835
CREATED:20241102T100818Z
LAST-MODIFIED:20241102T100818Z
UID:25983-1840089600-1840104000@sfantuldumitrusuceava.ro
SUMMARY:Utrenia\, Acatistul și Sfânta Liturghie
DESCRIPTION:
URL:https://sfantuldumitrusuceava.ro/eveniment/duminica/2028-04-23/
END:VEVENT
END:VCALENDAR