BEGIN:VCALENDAR
VERSION:2.0
PRODID:-//Parohia Sfântul Dumitru Suceava - ECPv6.8.0//NONSGML v1.0//EN
CALSCALE:GREGORIAN
METHOD:PUBLISH
X-WR-CALNAME:Parohia Sfântul Dumitru Suceava
X-ORIGINAL-URL:https://sfantuldumitrusuceava.ro
X-WR-CALDESC:Events for Parohia Sfântul Dumitru Suceava
REFRESH-INTERVAL;VALUE=DURATION:PT1H
X-Robots-Tag:noindex
X-PUBLISHED-TTL:PT1H
BEGIN:VTIMEZONE
TZID:UTC
BEGIN:STANDARD
TZOFFSETFROM:+0000
TZOFFSETTO:+0000
TZNAME:UTC
DTSTART:20280101T000000
END:STANDARD
TZID:Europe/Helsinki
BEGIN:DAYLIGHT
TZOFFSETFROM:+0200
TZOFFSETTO:+0300
TZNAME:EEST
DTSTART:20280326T010000
END:DAYLIGHT
BEGIN:STANDARD
TZOFFSETFROM:+0300
TZOFFSETTO:+0200
TZNAME:EET
DTSTART:20281029T010000
END:STANDARD
END:VTIMEZONE
BEGIN:VEVENT
DTSTART;TZID=UTC:20280219T080000
DTEND;TZID=UTC:20280219T093000
DTSTAMP:20260425T162134
CREATED:20241102T142433Z
LAST-MODIFIED:20241102T142433Z
UID:25891-1834560000-1834565400@sfantuldumitrusuceava.ro
SUMMARY:Sfânta Liturghie și Spovedanie
DESCRIPTION:
URL:https://sfantuldumitrusuceava.ro/eveniment/sfanta-liturghie-si-spovedanie/2028-02-19/
END:VEVENT
BEGIN:VEVENT
DTSTART;TZID=UTC:20280219T103000
DTEND;TZID=UTC:20280219T110000
DTSTAMP:20260425T162134
CREATED:20241102T142519Z
LAST-MODIFIED:20241102T142519Z
UID:25892-1834569000-1834570800@sfantuldumitrusuceava.ro
SUMMARY:Pomenirea celor adormiți (Parastas)
DESCRIPTION:
URL:https://sfantuldumitrusuceava.ro/eveniment/pomenirea-celor-adormiti-parastas/2028-02-19/
END:VEVENT
BEGIN:VEVENT
DTSTART;TZID=Europe/Helsinki:20280220T080000
DTEND;TZID=Europe/Helsinki:20280220T120000
DTSTAMP:20260425T162134
CREATED:20241102T100818Z
LAST-MODIFIED:20241102T100818Z
UID:25893-1834646400-1834660800@sfantuldumitrusuceava.ro
SUMMARY:Utrenia\, Acatistul și Sfânta Liturghie
DESCRIPTION:
URL:https://sfantuldumitrusuceava.ro/eveniment/duminica/2028-02-20/
END:VEVENT
BEGIN:VEVENT
DTSTART;TZID=UTC:20280221T070000
DTEND;TZID=UTC:20280221T090000
DTSTAMP:20260425T162134
CREATED:20241102T141909Z
LAST-MODIFIED:20241102T141909Z
UID:25895-1834729200-1834736400@sfantuldumitrusuceava.ro
SUMMARY:Program de curățenie si Audiențe
DESCRIPTION:
URL:https://sfantuldumitrusuceava.ro/eveniment/program-de-curatenie-si-audiente-2/2028-02-21/
END:VEVENT
BEGIN:VEVENT
DTSTART;TZID=UTC:20280221T090000
DTEND;TZID=UTC:20280221T103000
DTSTAMP:20260425T162134
CREATED:20241102T141724Z
LAST-MODIFIED:20241102T141724Z
UID:25894-1834736400-1834741800@sfantuldumitrusuceava.ro
SUMMARY:Sfânta Liturghie
DESCRIPTION:
URL:https://sfantuldumitrusuceava.ro/eveniment/program-de-curatenie-si-audiente/2028-02-21/
END:VEVENT
BEGIN:VEVENT
DTSTART;TZID=UTC:20280222T080000
DTEND;TZID=UTC:20280222T093000
DTSTAMP:20260425T162134
CREATED:20241102T141955Z
LAST-MODIFIED:20241102T141955Z
UID:25896-1834819200-1834824600@sfantuldumitrusuceava.ro
SUMMARY:Sfânta Liturghie
DESCRIPTION:
URL:https://sfantuldumitrusuceava.ro/eveniment/sfanta-liturghie/2028-02-22/
END:VEVENT
BEGIN:VEVENT
DTSTART;TZID=UTC:20280223T080000
DTEND;TZID=UTC:20280223T093000
DTSTAMP:20260425T162134
CREATED:20241102T142044Z
LAST-MODIFIED:20241102T142044Z
UID:25897-1834905600-1834911000@sfantuldumitrusuceava.ro
SUMMARY:Sfânta Liturghie
DESCRIPTION:
URL:https://sfantuldumitrusuceava.ro/eveniment/sfanta-liturghie-2/2028-02-23/
END:VEVENT
BEGIN:VEVENT
DTSTART;TZID=UTC:20280223T170000
DTEND;TZID=UTC:20280223T193000
DTSTAMP:20260425T162134
CREATED:20241102T142205Z
LAST-MODIFIED:20241102T142205Z
UID:25898-1834938000-1834947000@sfantuldumitrusuceava.ro
SUMMARY:Sfințirea Apei\, Acatistul Maicii Domnului ”Pantanassa”\, Taina Sfântului Maslu
DESCRIPTION:
URL:https://sfantuldumitrusuceava.ro/eveniment/sfintirea-apei-acatistul-maicii-domnului-pantanassa-taina-sfantului-maslu/2028-02-23/
END:VEVENT
BEGIN:VEVENT
DTSTART;TZID=UTC:20280224T080000
DTEND;TZID=UTC:20280224T093000
DTSTAMP:20260425T162134
CREATED:20241102T142240Z
LAST-MODIFIED:20241102T142240Z
UID:25899-1834992000-1834997400@sfantuldumitrusuceava.ro
SUMMARY:Sfânta Liturghie
DESCRIPTION:
URL:https://sfantuldumitrusuceava.ro/eveniment/sfanta-liturghie-3/2028-02-24/
END:VEVENT
BEGIN:VEVENT
DTSTART;TZID=UTC:20280225T080000
DTEND;TZID=UTC:20280225T120000
DTSTAMP:20260425T162134
CREATED:20241102T142355Z
LAST-MODIFIED:20241102T142355Z
UID:25900-1835078400-1835092800@sfantuldumitrusuceava.ro
SUMMARY:Utrenia\, Sfânta Liturghie\, Sfințirea Apei și Taina Sfântului Maslu
DESCRIPTION:
URL:https://sfantuldumitrusuceava.ro/eveniment/utrenia-sfanta-liturghie-sfintirea-apei-si-taina-sfantului-maslu/2028-02-25/
END:VEVENT
BEGIN:VEVENT
DTSTART;TZID=UTC:20280226T080000
DTEND;TZID=UTC:20280226T093000
DTSTAMP:20260425T162134
CREATED:20241102T142433Z
LAST-MODIFIED:20241102T142433Z
UID:25901-1835164800-1835170200@sfantuldumitrusuceava.ro
SUMMARY:Sfânta Liturghie și Spovedanie
DESCRIPTION:
URL:https://sfantuldumitrusuceava.ro/eveniment/sfanta-liturghie-si-spovedanie/2028-02-26/
END:VEVENT
BEGIN:VEVENT
DTSTART;TZID=UTC:20280226T103000
DTEND;TZID=UTC:20280226T110000
DTSTAMP:20260425T162134
CREATED:20241102T142519Z
LAST-MODIFIED:20241102T142519Z
UID:25902-1835173800-1835175600@sfantuldumitrusuceava.ro
SUMMARY:Pomenirea celor adormiți (Parastas)
DESCRIPTION:
URL:https://sfantuldumitrusuceava.ro/eveniment/pomenirea-celor-adormiti-parastas/2028-02-26/
END:VEVENT
BEGIN:VEVENT
DTSTART;TZID=Europe/Helsinki:20280227T080000
DTEND;TZID=Europe/Helsinki:20280227T120000
DTSTAMP:20260425T162134
CREATED:20241102T100818Z
LAST-MODIFIED:20241102T100818Z
UID:25903-1835251200-1835265600@sfantuldumitrusuceava.ro
SUMMARY:Utrenia\, Acatistul și Sfânta Liturghie
DESCRIPTION:
URL:https://sfantuldumitrusuceava.ro/eveniment/duminica/2028-02-27/
END:VEVENT
BEGIN:VEVENT
DTSTART;TZID=UTC:20280228T070000
DTEND;TZID=UTC:20280228T090000
DTSTAMP:20260425T162134
CREATED:20241102T141909Z
LAST-MODIFIED:20241102T141909Z
UID:25905-1835334000-1835341200@sfantuldumitrusuceava.ro
SUMMARY:Program de curățenie si Audiențe
DESCRIPTION:
URL:https://sfantuldumitrusuceava.ro/eveniment/program-de-curatenie-si-audiente-2/2028-02-28/
END:VEVENT
BEGIN:VEVENT
DTSTART;TZID=UTC:20280228T090000
DTEND;TZID=UTC:20280228T103000
DTSTAMP:20260425T162134
CREATED:20241102T141724Z
LAST-MODIFIED:20241102T141724Z
UID:25904-1835341200-1835346600@sfantuldumitrusuceava.ro
SUMMARY:Sfânta Liturghie
DESCRIPTION:
URL:https://sfantuldumitrusuceava.ro/eveniment/program-de-curatenie-si-audiente/2028-02-28/
END:VEVENT
BEGIN:VEVENT
DTSTART;TZID=UTC:20280229T080000
DTEND;TZID=UTC:20280229T093000
DTSTAMP:20260425T162134
CREATED:20241102T141955Z
LAST-MODIFIED:20241102T141955Z
UID:25906-1835424000-1835429400@sfantuldumitrusuceava.ro
SUMMARY:Sfânta Liturghie
DESCRIPTION:
URL:https://sfantuldumitrusuceava.ro/eveniment/sfanta-liturghie/2028-02-29/
END:VEVENT
BEGIN:VEVENT
DTSTART;TZID=UTC:20280301T080000
DTEND;TZID=UTC:20280301T093000
DTSTAMP:20260425T162134
CREATED:20241102T142044Z
LAST-MODIFIED:20241102T142044Z
UID:25907-1835510400-1835515800@sfantuldumitrusuceava.ro
SUMMARY:Sfânta Liturghie
DESCRIPTION:
URL:https://sfantuldumitrusuceava.ro/eveniment/sfanta-liturghie-2/2028-03-01/
END:VEVENT
BEGIN:VEVENT
DTSTART;TZID=UTC:20280301T170000
DTEND;TZID=UTC:20280301T193000
DTSTAMP:20260425T162134
CREATED:20241102T142205Z
LAST-MODIFIED:20241102T142205Z
UID:25908-1835542800-1835551800@sfantuldumitrusuceava.ro
SUMMARY:Sfințirea Apei\, Acatistul Maicii Domnului ”Pantanassa”\, Taina Sfântului Maslu
DESCRIPTION:
URL:https://sfantuldumitrusuceava.ro/eveniment/sfintirea-apei-acatistul-maicii-domnului-pantanassa-taina-sfantului-maslu/2028-03-01/
END:VEVENT
BEGIN:VEVENT
DTSTART;TZID=UTC:20280302T080000
DTEND;TZID=UTC:20280302T093000
DTSTAMP:20260425T162134
CREATED:20241102T142240Z
LAST-MODIFIED:20241102T142240Z
UID:25909-1835596800-1835602200@sfantuldumitrusuceava.ro
SUMMARY:Sfânta Liturghie
DESCRIPTION:
URL:https://sfantuldumitrusuceava.ro/eveniment/sfanta-liturghie-3/2028-03-02/
END:VEVENT
BEGIN:VEVENT
DTSTART;TZID=UTC:20280303T080000
DTEND;TZID=UTC:20280303T120000
DTSTAMP:20260425T162134
CREATED:20241102T142355Z
LAST-MODIFIED:20241102T142355Z
UID:25910-1835683200-1835697600@sfantuldumitrusuceava.ro
SUMMARY:Utrenia\, Sfânta Liturghie\, Sfințirea Apei și Taina Sfântului Maslu
DESCRIPTION:
URL:https://sfantuldumitrusuceava.ro/eveniment/utrenia-sfanta-liturghie-sfintirea-apei-si-taina-sfantului-maslu/2028-03-03/
END:VEVENT
BEGIN:VEVENT
DTSTART;TZID=UTC:20280304T080000
DTEND;TZID=UTC:20280304T093000
DTSTAMP:20260425T162134
CREATED:20241102T142433Z
LAST-MODIFIED:20241102T142433Z
UID:25911-1835769600-1835775000@sfantuldumitrusuceava.ro
SUMMARY:Sfânta Liturghie și Spovedanie
DESCRIPTION:
URL:https://sfantuldumitrusuceava.ro/eveniment/sfanta-liturghie-si-spovedanie/2028-03-04/
END:VEVENT
BEGIN:VEVENT
DTSTART;TZID=UTC:20280304T103000
DTEND;TZID=UTC:20280304T110000
DTSTAMP:20260425T162134
CREATED:20241102T142519Z
LAST-MODIFIED:20241102T142519Z
UID:25912-1835778600-1835780400@sfantuldumitrusuceava.ro
SUMMARY:Pomenirea celor adormiți (Parastas)
DESCRIPTION:
URL:https://sfantuldumitrusuceava.ro/eveniment/pomenirea-celor-adormiti-parastas/2028-03-04/
END:VEVENT
BEGIN:VEVENT
DTSTART;TZID=Europe/Helsinki:20280305T080000
DTEND;TZID=Europe/Helsinki:20280305T120000
DTSTAMP:20260425T162134
CREATED:20241102T100818Z
LAST-MODIFIED:20241102T100818Z
UID:25913-1835856000-1835870400@sfantuldumitrusuceava.ro
SUMMARY:Utrenia\, Acatistul și Sfânta Liturghie
DESCRIPTION:
URL:https://sfantuldumitrusuceava.ro/eveniment/duminica/2028-03-05/
END:VEVENT
BEGIN:VEVENT
DTSTART;TZID=UTC:20280306T070000
DTEND;TZID=UTC:20280306T090000
DTSTAMP:20260425T162134
CREATED:20241102T141909Z
LAST-MODIFIED:20241102T141909Z
UID:25915-1835938800-1835946000@sfantuldumitrusuceava.ro
SUMMARY:Program de curățenie si Audiențe
DESCRIPTION:
URL:https://sfantuldumitrusuceava.ro/eveniment/program-de-curatenie-si-audiente-2/2028-03-06/
END:VEVENT
BEGIN:VEVENT
DTSTART;TZID=UTC:20280306T090000
DTEND;TZID=UTC:20280306T103000
DTSTAMP:20260425T162134
CREATED:20241102T141724Z
LAST-MODIFIED:20241102T141724Z
UID:25914-1835946000-1835951400@sfantuldumitrusuceava.ro
SUMMARY:Sfânta Liturghie
DESCRIPTION:
URL:https://sfantuldumitrusuceava.ro/eveniment/program-de-curatenie-si-audiente/2028-03-06/
END:VEVENT
BEGIN:VEVENT
DTSTART;TZID=UTC:20280307T080000
DTEND;TZID=UTC:20280307T093000
DTSTAMP:20260425T162134
CREATED:20241102T141955Z
LAST-MODIFIED:20241102T141955Z
UID:25916-1836028800-1836034200@sfantuldumitrusuceava.ro
SUMMARY:Sfânta Liturghie
DESCRIPTION:
URL:https://sfantuldumitrusuceava.ro/eveniment/sfanta-liturghie/2028-03-07/
END:VEVENT
BEGIN:VEVENT
DTSTART;TZID=UTC:20280308T080000
DTEND;TZID=UTC:20280308T093000
DTSTAMP:20260425T162134
CREATED:20241102T142044Z
LAST-MODIFIED:20241102T142044Z
UID:25917-1836115200-1836120600@sfantuldumitrusuceava.ro
SUMMARY:Sfânta Liturghie
DESCRIPTION:
URL:https://sfantuldumitrusuceava.ro/eveniment/sfanta-liturghie-2/2028-03-08/
END:VEVENT
BEGIN:VEVENT
DTSTART;TZID=UTC:20280308T170000
DTEND;TZID=UTC:20280308T193000
DTSTAMP:20260425T162134
CREATED:20241102T142205Z
LAST-MODIFIED:20241102T142205Z
UID:25918-1836147600-1836156600@sfantuldumitrusuceava.ro
SUMMARY:Sfințirea Apei\, Acatistul Maicii Domnului ”Pantanassa”\, Taina Sfântului Maslu
DESCRIPTION:
URL:https://sfantuldumitrusuceava.ro/eveniment/sfintirea-apei-acatistul-maicii-domnului-pantanassa-taina-sfantului-maslu/2028-03-08/
END:VEVENT
BEGIN:VEVENT
DTSTART;TZID=UTC:20280309T080000
DTEND;TZID=UTC:20280309T093000
DTSTAMP:20260425T162134
CREATED:20241102T142240Z
LAST-MODIFIED:20241102T142240Z
UID:25919-1836201600-1836207000@sfantuldumitrusuceava.ro
SUMMARY:Sfânta Liturghie
DESCRIPTION:
URL:https://sfantuldumitrusuceava.ro/eveniment/sfanta-liturghie-3/2028-03-09/
END:VEVENT
BEGIN:VEVENT
DTSTART;TZID=UTC:20280310T080000
DTEND;TZID=UTC:20280310T120000
DTSTAMP:20260425T162134
CREATED:20241102T142355Z
LAST-MODIFIED:20241102T142355Z
UID:25920-1836288000-1836302400@sfantuldumitrusuceava.ro
SUMMARY:Utrenia\, Sfânta Liturghie\, Sfințirea Apei și Taina Sfântului Maslu
DESCRIPTION:
URL:https://sfantuldumitrusuceava.ro/eveniment/utrenia-sfanta-liturghie-sfintirea-apei-si-taina-sfantului-maslu/2028-03-10/
END:VEVENT
END:VCALENDAR