BEGIN:VCALENDAR
VERSION:2.0
PRODID:-//Parohia Sfântul Dumitru Suceava - ECPv6.8.0//NONSGML v1.0//EN
CALSCALE:GREGORIAN
METHOD:PUBLISH
X-ORIGINAL-URL:https://sfantuldumitrusuceava.ro
X-WR-CALDESC:Events for Parohia Sfântul Dumitru Suceava
REFRESH-INTERVAL;VALUE=DURATION:PT1H
X-Robots-Tag:noindex
X-PUBLISHED-TTL:PT1H
BEGIN:VTIMEZONE
TZID:UTC
BEGIN:STANDARD
TZOFFSETFROM:+0000
TZOFFSETTO:+0000
TZNAME:UTC
DTSTART:20270101T000000
END:STANDARD
TZID:Europe/Helsinki
BEGIN:DAYLIGHT
TZOFFSETFROM:+0200
TZOFFSETTO:+0300
TZNAME:EEST
DTSTART:20270328T010000
END:DAYLIGHT
BEGIN:STANDARD
TZOFFSETFROM:+0300
TZOFFSETTO:+0200
TZNAME:EET
DTSTART:20271031T010000
END:STANDARD
END:VTIMEZONE
BEGIN:VEVENT
DTSTART;TZID=UTC:20270424T080000
DTEND;TZID=UTC:20270424T093000
DTSTAMP:20260421T005406
CREATED:20241102T142433Z
LAST-MODIFIED:20241102T142433Z
UID:25461-1808553600-1808559000@sfantuldumitrusuceava.ro
SUMMARY:Sfânta Liturghie și Spovedanie
DESCRIPTION:
URL:https://sfantuldumitrusuceava.ro/eveniment/sfanta-liturghie-si-spovedanie/2027-04-24/
END:VEVENT
BEGIN:VEVENT
DTSTART;TZID=UTC:20270424T103000
DTEND;TZID=UTC:20270424T110000
DTSTAMP:20260421T005406
CREATED:20241102T142519Z
LAST-MODIFIED:20241102T142519Z
UID:25462-1808562600-1808564400@sfantuldumitrusuceava.ro
SUMMARY:Pomenirea celor adormiți (Parastas)
DESCRIPTION:
URL:https://sfantuldumitrusuceava.ro/eveniment/pomenirea-celor-adormiti-parastas/2027-04-24/
END:VEVENT
BEGIN:VEVENT
DTSTART;TZID=Europe/Helsinki:20270425T080000
DTEND;TZID=Europe/Helsinki:20270425T120000
DTSTAMP:20260421T005406
CREATED:20241102T100818Z
LAST-MODIFIED:20241102T100818Z
UID:25463-1808640000-1808654400@sfantuldumitrusuceava.ro
SUMMARY:Utrenia\, Acatistul și Sfânta Liturghie
DESCRIPTION:
URL:https://sfantuldumitrusuceava.ro/eveniment/duminica/2027-04-25/
END:VEVENT
BEGIN:VEVENT
DTSTART;TZID=UTC:20270426T070000
DTEND;TZID=UTC:20270426T090000
DTSTAMP:20260421T005406
CREATED:20241102T141909Z
LAST-MODIFIED:20241102T141909Z
UID:25465-1808722800-1808730000@sfantuldumitrusuceava.ro
SUMMARY:Program de curățenie si Audiențe
DESCRIPTION:
URL:https://sfantuldumitrusuceava.ro/eveniment/program-de-curatenie-si-audiente-2/2027-04-26/
END:VEVENT
BEGIN:VEVENT
DTSTART;TZID=UTC:20270426T090000
DTEND;TZID=UTC:20270426T103000
DTSTAMP:20260421T005406
CREATED:20241102T141724Z
LAST-MODIFIED:20241102T141724Z
UID:25464-1808730000-1808735400@sfantuldumitrusuceava.ro
SUMMARY:Sfânta Liturghie
DESCRIPTION:
URL:https://sfantuldumitrusuceava.ro/eveniment/program-de-curatenie-si-audiente/2027-04-26/
END:VEVENT
BEGIN:VEVENT
DTSTART;TZID=UTC:20270427T080000
DTEND;TZID=UTC:20270427T093000
DTSTAMP:20260421T005406
CREATED:20241102T141955Z
LAST-MODIFIED:20241102T141955Z
UID:25466-1808812800-1808818200@sfantuldumitrusuceava.ro
SUMMARY:Sfânta Liturghie
DESCRIPTION:
URL:https://sfantuldumitrusuceava.ro/eveniment/sfanta-liturghie/2027-04-27/
END:VEVENT
BEGIN:VEVENT
DTSTART;TZID=UTC:20270428T080000
DTEND;TZID=UTC:20270428T093000
DTSTAMP:20260421T005406
CREATED:20241102T142044Z
LAST-MODIFIED:20241102T142044Z
UID:25467-1808899200-1808904600@sfantuldumitrusuceava.ro
SUMMARY:Sfânta Liturghie
DESCRIPTION:
URL:https://sfantuldumitrusuceava.ro/eveniment/sfanta-liturghie-2/2027-04-28/
END:VEVENT
BEGIN:VEVENT
DTSTART;TZID=UTC:20270428T170000
DTEND;TZID=UTC:20270428T193000
DTSTAMP:20260421T005406
CREATED:20241102T142205Z
LAST-MODIFIED:20241102T142205Z
UID:25468-1808931600-1808940600@sfantuldumitrusuceava.ro
SUMMARY:Sfințirea Apei\, Acatistul Maicii Domnului ”Pantanassa”\, Taina Sfântului Maslu
DESCRIPTION:
URL:https://sfantuldumitrusuceava.ro/eveniment/sfintirea-apei-acatistul-maicii-domnului-pantanassa-taina-sfantului-maslu/2027-04-28/
END:VEVENT
BEGIN:VEVENT
DTSTART;TZID=UTC:20270429T080000
DTEND;TZID=UTC:20270429T093000
DTSTAMP:20260421T005406
CREATED:20241102T142240Z
LAST-MODIFIED:20241102T142240Z
UID:25469-1808985600-1808991000@sfantuldumitrusuceava.ro
SUMMARY:Sfânta Liturghie
DESCRIPTION:
URL:https://sfantuldumitrusuceava.ro/eveniment/sfanta-liturghie-3/2027-04-29/
END:VEVENT
BEGIN:VEVENT
DTSTART;TZID=UTC:20270430T080000
DTEND;TZID=UTC:20270430T120000
DTSTAMP:20260421T005406
CREATED:20241102T142355Z
LAST-MODIFIED:20241102T142355Z
UID:25470-1809072000-1809086400@sfantuldumitrusuceava.ro
SUMMARY:Utrenia\, Sfânta Liturghie\, Sfințirea Apei și Taina Sfântului Maslu
DESCRIPTION:
URL:https://sfantuldumitrusuceava.ro/eveniment/utrenia-sfanta-liturghie-sfintirea-apei-si-taina-sfantului-maslu/2027-04-30/
END:VEVENT
BEGIN:VEVENT
DTSTART;TZID=UTC:20270501T080000
DTEND;TZID=UTC:20270501T093000
DTSTAMP:20260421T005406
CREATED:20241102T142433Z
LAST-MODIFIED:20241102T142433Z
UID:25471-1809158400-1809163800@sfantuldumitrusuceava.ro
SUMMARY:Sfânta Liturghie și Spovedanie
DESCRIPTION:
URL:https://sfantuldumitrusuceava.ro/eveniment/sfanta-liturghie-si-spovedanie/2027-05-01/
END:VEVENT
BEGIN:VEVENT
DTSTART;TZID=UTC:20270501T103000
DTEND;TZID=UTC:20270501T110000
DTSTAMP:20260421T005406
CREATED:20241102T142519Z
LAST-MODIFIED:20241102T142519Z
UID:25472-1809167400-1809169200@sfantuldumitrusuceava.ro
SUMMARY:Pomenirea celor adormiți (Parastas)
DESCRIPTION:
URL:https://sfantuldumitrusuceava.ro/eveniment/pomenirea-celor-adormiti-parastas/2027-05-01/
END:VEVENT
BEGIN:VEVENT
DTSTART;TZID=Europe/Helsinki:20270502T080000
DTEND;TZID=Europe/Helsinki:20270502T120000
DTSTAMP:20260421T005406
CREATED:20241102T100818Z
LAST-MODIFIED:20241102T100818Z
UID:25473-1809244800-1809259200@sfantuldumitrusuceava.ro
SUMMARY:Utrenia\, Acatistul și Sfânta Liturghie
DESCRIPTION:
URL:https://sfantuldumitrusuceava.ro/eveniment/duminica/2027-05-02/
END:VEVENT
BEGIN:VEVENT
DTSTART;TZID=UTC:20270503T070000
DTEND;TZID=UTC:20270503T090000
DTSTAMP:20260421T005406
CREATED:20241102T141909Z
LAST-MODIFIED:20241102T141909Z
UID:25475-1809327600-1809334800@sfantuldumitrusuceava.ro
SUMMARY:Program de curățenie si Audiențe
DESCRIPTION:
URL:https://sfantuldumitrusuceava.ro/eveniment/program-de-curatenie-si-audiente-2/2027-05-03/
END:VEVENT
BEGIN:VEVENT
DTSTART;TZID=UTC:20270503T090000
DTEND;TZID=UTC:20270503T103000
DTSTAMP:20260421T005406
CREATED:20241102T141724Z
LAST-MODIFIED:20241102T141724Z
UID:25474-1809334800-1809340200@sfantuldumitrusuceava.ro
SUMMARY:Sfânta Liturghie
DESCRIPTION:
URL:https://sfantuldumitrusuceava.ro/eveniment/program-de-curatenie-si-audiente/2027-05-03/
END:VEVENT
BEGIN:VEVENT
DTSTART;TZID=UTC:20270504T080000
DTEND;TZID=UTC:20270504T093000
DTSTAMP:20260421T005406
CREATED:20241102T141955Z
LAST-MODIFIED:20241102T141955Z
UID:25476-1809417600-1809423000@sfantuldumitrusuceava.ro
SUMMARY:Sfânta Liturghie
DESCRIPTION:
URL:https://sfantuldumitrusuceava.ro/eveniment/sfanta-liturghie/2027-05-04/
END:VEVENT
BEGIN:VEVENT
DTSTART;TZID=UTC:20270505T080000
DTEND;TZID=UTC:20270505T093000
DTSTAMP:20260421T005406
CREATED:20241102T142044Z
LAST-MODIFIED:20241102T142044Z
UID:25477-1809504000-1809509400@sfantuldumitrusuceava.ro
SUMMARY:Sfânta Liturghie
DESCRIPTION:
URL:https://sfantuldumitrusuceava.ro/eveniment/sfanta-liturghie-2/2027-05-05/
END:VEVENT
BEGIN:VEVENT
DTSTART;TZID=UTC:20270505T170000
DTEND;TZID=UTC:20270505T193000
DTSTAMP:20260421T005406
CREATED:20241102T142205Z
LAST-MODIFIED:20241102T142205Z
UID:25478-1809536400-1809545400@sfantuldumitrusuceava.ro
SUMMARY:Sfințirea Apei\, Acatistul Maicii Domnului ”Pantanassa”\, Taina Sfântului Maslu
DESCRIPTION:
URL:https://sfantuldumitrusuceava.ro/eveniment/sfintirea-apei-acatistul-maicii-domnului-pantanassa-taina-sfantului-maslu/2027-05-05/
END:VEVENT
BEGIN:VEVENT
DTSTART;TZID=UTC:20270506T080000
DTEND;TZID=UTC:20270506T093000
DTSTAMP:20260421T005406
CREATED:20241102T142240Z
LAST-MODIFIED:20241102T142240Z
UID:25479-1809590400-1809595800@sfantuldumitrusuceava.ro
SUMMARY:Sfânta Liturghie
DESCRIPTION:
URL:https://sfantuldumitrusuceava.ro/eveniment/sfanta-liturghie-3/2027-05-06/
END:VEVENT
BEGIN:VEVENT
DTSTART;TZID=UTC:20270507T080000
DTEND;TZID=UTC:20270507T120000
DTSTAMP:20260421T005406
CREATED:20241102T142355Z
LAST-MODIFIED:20241102T142355Z
UID:25480-1809676800-1809691200@sfantuldumitrusuceava.ro
SUMMARY:Utrenia\, Sfânta Liturghie\, Sfințirea Apei și Taina Sfântului Maslu
DESCRIPTION:
URL:https://sfantuldumitrusuceava.ro/eveniment/utrenia-sfanta-liturghie-sfintirea-apei-si-taina-sfantului-maslu/2027-05-07/
END:VEVENT
BEGIN:VEVENT
DTSTART;TZID=UTC:20270508T080000
DTEND;TZID=UTC:20270508T093000
DTSTAMP:20260421T005406
CREATED:20241102T142433Z
LAST-MODIFIED:20241102T142433Z
UID:25481-1809763200-1809768600@sfantuldumitrusuceava.ro
SUMMARY:Sfânta Liturghie și Spovedanie
DESCRIPTION:
URL:https://sfantuldumitrusuceava.ro/eveniment/sfanta-liturghie-si-spovedanie/2027-05-08/
END:VEVENT
BEGIN:VEVENT
DTSTART;TZID=UTC:20270508T103000
DTEND;TZID=UTC:20270508T110000
DTSTAMP:20260421T005406
CREATED:20241102T142519Z
LAST-MODIFIED:20241102T142519Z
UID:25482-1809772200-1809774000@sfantuldumitrusuceava.ro
SUMMARY:Pomenirea celor adormiți (Parastas)
DESCRIPTION:
URL:https://sfantuldumitrusuceava.ro/eveniment/pomenirea-celor-adormiti-parastas/2027-05-08/
END:VEVENT
BEGIN:VEVENT
DTSTART;TZID=Europe/Helsinki:20270509T080000
DTEND;TZID=Europe/Helsinki:20270509T120000
DTSTAMP:20260421T005406
CREATED:20241102T100818Z
LAST-MODIFIED:20241102T100818Z
UID:25483-1809849600-1809864000@sfantuldumitrusuceava.ro
SUMMARY:Utrenia\, Acatistul și Sfânta Liturghie
DESCRIPTION:
URL:https://sfantuldumitrusuceava.ro/eveniment/duminica/2027-05-09/
END:VEVENT
BEGIN:VEVENT
DTSTART;TZID=UTC:20270510T070000
DTEND;TZID=UTC:20270510T090000
DTSTAMP:20260421T005406
CREATED:20241102T141909Z
LAST-MODIFIED:20241102T141909Z
UID:25485-1809932400-1809939600@sfantuldumitrusuceava.ro
SUMMARY:Program de curățenie si Audiențe
DESCRIPTION:
URL:https://sfantuldumitrusuceava.ro/eveniment/program-de-curatenie-si-audiente-2/2027-05-10/
END:VEVENT
BEGIN:VEVENT
DTSTART;TZID=UTC:20270510T090000
DTEND;TZID=UTC:20270510T103000
DTSTAMP:20260421T005406
CREATED:20241102T141724Z
LAST-MODIFIED:20241102T141724Z
UID:25484-1809939600-1809945000@sfantuldumitrusuceava.ro
SUMMARY:Sfânta Liturghie
DESCRIPTION:
URL:https://sfantuldumitrusuceava.ro/eveniment/program-de-curatenie-si-audiente/2027-05-10/
END:VEVENT
BEGIN:VEVENT
DTSTART;TZID=UTC:20270511T080000
DTEND;TZID=UTC:20270511T093000
DTSTAMP:20260421T005406
CREATED:20241102T141955Z
LAST-MODIFIED:20241102T141955Z
UID:25486-1810022400-1810027800@sfantuldumitrusuceava.ro
SUMMARY:Sfânta Liturghie
DESCRIPTION:
URL:https://sfantuldumitrusuceava.ro/eveniment/sfanta-liturghie/2027-05-11/
END:VEVENT
BEGIN:VEVENT
DTSTART;TZID=UTC:20270512T080000
DTEND;TZID=UTC:20270512T093000
DTSTAMP:20260421T005406
CREATED:20241102T142044Z
LAST-MODIFIED:20241102T142044Z
UID:25487-1810108800-1810114200@sfantuldumitrusuceava.ro
SUMMARY:Sfânta Liturghie
DESCRIPTION:
URL:https://sfantuldumitrusuceava.ro/eveniment/sfanta-liturghie-2/2027-05-12/
END:VEVENT
BEGIN:VEVENT
DTSTART;TZID=UTC:20270512T170000
DTEND;TZID=UTC:20270512T193000
DTSTAMP:20260421T005406
CREATED:20241102T142205Z
LAST-MODIFIED:20241102T142205Z
UID:25488-1810141200-1810150200@sfantuldumitrusuceava.ro
SUMMARY:Sfințirea Apei\, Acatistul Maicii Domnului ”Pantanassa”\, Taina Sfântului Maslu
DESCRIPTION:
URL:https://sfantuldumitrusuceava.ro/eveniment/sfintirea-apei-acatistul-maicii-domnului-pantanassa-taina-sfantului-maslu/2027-05-12/
END:VEVENT
BEGIN:VEVENT
DTSTART;TZID=UTC:20270513T080000
DTEND;TZID=UTC:20270513T093000
DTSTAMP:20260421T005406
CREATED:20241102T142240Z
LAST-MODIFIED:20241102T142240Z
UID:25489-1810195200-1810200600@sfantuldumitrusuceava.ro
SUMMARY:Sfânta Liturghie
DESCRIPTION:
URL:https://sfantuldumitrusuceava.ro/eveniment/sfanta-liturghie-3/2027-05-13/
END:VEVENT
BEGIN:VEVENT
DTSTART;TZID=UTC:20270514T080000
DTEND;TZID=UTC:20270514T120000
DTSTAMP:20260421T005406
CREATED:20241102T142355Z
LAST-MODIFIED:20241102T142355Z
UID:25490-1810281600-1810296000@sfantuldumitrusuceava.ro
SUMMARY:Utrenia\, Sfânta Liturghie\, Sfințirea Apei și Taina Sfântului Maslu
DESCRIPTION:
URL:https://sfantuldumitrusuceava.ro/eveniment/utrenia-sfanta-liturghie-sfintirea-apei-si-taina-sfantului-maslu/2027-05-14/
END:VEVENT
END:VCALENDAR