BEGIN:VCALENDAR
VERSION:2.0
PRODID:-//Parohia Sfântul Dumitru Suceava - ECPv6.8.0//NONSGML v1.0//EN
CALSCALE:GREGORIAN
METHOD:PUBLISH
X-WR-CALNAME:Parohia Sfântul Dumitru Suceava
X-ORIGINAL-URL:https://sfantuldumitrusuceava.ro
X-WR-CALDESC:Events for Parohia Sfântul Dumitru Suceava
REFRESH-INTERVAL;VALUE=DURATION:PT1H
X-Robots-Tag:noindex
X-PUBLISHED-TTL:PT1H
BEGIN:VTIMEZONE
TZID:UTC
BEGIN:STANDARD
TZOFFSETFROM:+0000
TZOFFSETTO:+0000
TZNAME:UTC
DTSTART:20270101T000000
END:STANDARD
TZID:Europe/Helsinki
BEGIN:DAYLIGHT
TZOFFSETFROM:+0200
TZOFFSETTO:+0300
TZNAME:EEST
DTSTART:20270328T010000
END:DAYLIGHT
BEGIN:STANDARD
TZOFFSETFROM:+0300
TZOFFSETTO:+0200
TZNAME:EET
DTSTART:20271031T010000
END:STANDARD
END:VTIMEZONE
BEGIN:VEVENT
DTSTART;TZID=UTC:20270412T070000
DTEND;TZID=UTC:20270412T090000
DTSTAMP:20260421T033230
CREATED:20241102T141909Z
LAST-MODIFIED:20241102T141909Z
UID:25445-1807513200-1807520400@sfantuldumitrusuceava.ro
SUMMARY:Program de curățenie si Audiențe
DESCRIPTION:
URL:https://sfantuldumitrusuceava.ro/eveniment/program-de-curatenie-si-audiente-2/2027-04-12/
END:VEVENT
BEGIN:VEVENT
DTSTART;TZID=UTC:20270412T090000
DTEND;TZID=UTC:20270412T103000
DTSTAMP:20260421T033230
CREATED:20241102T141724Z
LAST-MODIFIED:20241102T141724Z
UID:25444-1807520400-1807525800@sfantuldumitrusuceava.ro
SUMMARY:Sfânta Liturghie
DESCRIPTION:
URL:https://sfantuldumitrusuceava.ro/eveniment/program-de-curatenie-si-audiente/2027-04-12/
END:VEVENT
BEGIN:VEVENT
DTSTART;TZID=UTC:20270413T080000
DTEND;TZID=UTC:20270413T093000
DTSTAMP:20260421T033230
CREATED:20241102T141955Z
LAST-MODIFIED:20241102T141955Z
UID:25446-1807603200-1807608600@sfantuldumitrusuceava.ro
SUMMARY:Sfânta Liturghie
DESCRIPTION:
URL:https://sfantuldumitrusuceava.ro/eveniment/sfanta-liturghie/2027-04-13/
END:VEVENT
BEGIN:VEVENT
DTSTART;TZID=UTC:20270414T080000
DTEND;TZID=UTC:20270414T093000
DTSTAMP:20260421T033230
CREATED:20241102T142044Z
LAST-MODIFIED:20241102T142044Z
UID:25447-1807689600-1807695000@sfantuldumitrusuceava.ro
SUMMARY:Sfânta Liturghie
DESCRIPTION:
URL:https://sfantuldumitrusuceava.ro/eveniment/sfanta-liturghie-2/2027-04-14/
END:VEVENT
BEGIN:VEVENT
DTSTART;TZID=UTC:20270414T170000
DTEND;TZID=UTC:20270414T193000
DTSTAMP:20260421T033230
CREATED:20241102T142205Z
LAST-MODIFIED:20241102T142205Z
UID:25448-1807722000-1807731000@sfantuldumitrusuceava.ro
SUMMARY:Sfințirea Apei\, Acatistul Maicii Domnului ”Pantanassa”\, Taina Sfântului Maslu
DESCRIPTION:
URL:https://sfantuldumitrusuceava.ro/eveniment/sfintirea-apei-acatistul-maicii-domnului-pantanassa-taina-sfantului-maslu/2027-04-14/
END:VEVENT
BEGIN:VEVENT
DTSTART;TZID=UTC:20270415T080000
DTEND;TZID=UTC:20270415T093000
DTSTAMP:20260421T033230
CREATED:20241102T142240Z
LAST-MODIFIED:20241102T142240Z
UID:25449-1807776000-1807781400@sfantuldumitrusuceava.ro
SUMMARY:Sfânta Liturghie
DESCRIPTION:
URL:https://sfantuldumitrusuceava.ro/eveniment/sfanta-liturghie-3/2027-04-15/
END:VEVENT
BEGIN:VEVENT
DTSTART;TZID=UTC:20270416T080000
DTEND;TZID=UTC:20270416T120000
DTSTAMP:20260421T033230
CREATED:20241102T142355Z
LAST-MODIFIED:20241102T142355Z
UID:25450-1807862400-1807876800@sfantuldumitrusuceava.ro
SUMMARY:Utrenia\, Sfânta Liturghie\, Sfințirea Apei și Taina Sfântului Maslu
DESCRIPTION:
URL:https://sfantuldumitrusuceava.ro/eveniment/utrenia-sfanta-liturghie-sfintirea-apei-si-taina-sfantului-maslu/2027-04-16/
END:VEVENT
BEGIN:VEVENT
DTSTART;TZID=UTC:20270417T080000
DTEND;TZID=UTC:20270417T093000
DTSTAMP:20260421T033230
CREATED:20241102T142433Z
LAST-MODIFIED:20241102T142433Z
UID:25451-1807948800-1807954200@sfantuldumitrusuceava.ro
SUMMARY:Sfânta Liturghie și Spovedanie
DESCRIPTION:
URL:https://sfantuldumitrusuceava.ro/eveniment/sfanta-liturghie-si-spovedanie/2027-04-17/
END:VEVENT
BEGIN:VEVENT
DTSTART;TZID=UTC:20270417T103000
DTEND;TZID=UTC:20270417T110000
DTSTAMP:20260421T033230
CREATED:20241102T142519Z
LAST-MODIFIED:20241102T142519Z
UID:25452-1807957800-1807959600@sfantuldumitrusuceava.ro
SUMMARY:Pomenirea celor adormiți (Parastas)
DESCRIPTION:
URL:https://sfantuldumitrusuceava.ro/eveniment/pomenirea-celor-adormiti-parastas/2027-04-17/
END:VEVENT
BEGIN:VEVENT
DTSTART;TZID=Europe/Helsinki:20270418T080000
DTEND;TZID=Europe/Helsinki:20270418T120000
DTSTAMP:20260421T033230
CREATED:20241102T100818Z
LAST-MODIFIED:20241102T100818Z
UID:25453-1808035200-1808049600@sfantuldumitrusuceava.ro
SUMMARY:Utrenia\, Acatistul și Sfânta Liturghie
DESCRIPTION:
URL:https://sfantuldumitrusuceava.ro/eveniment/duminica/2027-04-18/
END:VEVENT
BEGIN:VEVENT
DTSTART;TZID=UTC:20270419T070000
DTEND;TZID=UTC:20270419T090000
DTSTAMP:20260421T033230
CREATED:20241102T141909Z
LAST-MODIFIED:20241102T141909Z
UID:25455-1808118000-1808125200@sfantuldumitrusuceava.ro
SUMMARY:Program de curățenie si Audiențe
DESCRIPTION:
URL:https://sfantuldumitrusuceava.ro/eveniment/program-de-curatenie-si-audiente-2/2027-04-19/
END:VEVENT
BEGIN:VEVENT
DTSTART;TZID=UTC:20270419T090000
DTEND;TZID=UTC:20270419T103000
DTSTAMP:20260421T033230
CREATED:20241102T141724Z
LAST-MODIFIED:20241102T141724Z
UID:25454-1808125200-1808130600@sfantuldumitrusuceava.ro
SUMMARY:Sfânta Liturghie
DESCRIPTION:
URL:https://sfantuldumitrusuceava.ro/eveniment/program-de-curatenie-si-audiente/2027-04-19/
END:VEVENT
BEGIN:VEVENT
DTSTART;TZID=UTC:20270420T080000
DTEND;TZID=UTC:20270420T093000
DTSTAMP:20260421T033230
CREATED:20241102T141955Z
LAST-MODIFIED:20241102T141955Z
UID:25456-1808208000-1808213400@sfantuldumitrusuceava.ro
SUMMARY:Sfânta Liturghie
DESCRIPTION:
URL:https://sfantuldumitrusuceava.ro/eveniment/sfanta-liturghie/2027-04-20/
END:VEVENT
BEGIN:VEVENT
DTSTART;TZID=UTC:20270421T080000
DTEND;TZID=UTC:20270421T093000
DTSTAMP:20260421T033230
CREATED:20241102T142044Z
LAST-MODIFIED:20241102T142044Z
UID:25457-1808294400-1808299800@sfantuldumitrusuceava.ro
SUMMARY:Sfânta Liturghie
DESCRIPTION:
URL:https://sfantuldumitrusuceava.ro/eveniment/sfanta-liturghie-2/2027-04-21/
END:VEVENT
BEGIN:VEVENT
DTSTART;TZID=UTC:20270421T170000
DTEND;TZID=UTC:20270421T193000
DTSTAMP:20260421T033230
CREATED:20241102T142205Z
LAST-MODIFIED:20241102T142205Z
UID:25458-1808326800-1808335800@sfantuldumitrusuceava.ro
SUMMARY:Sfințirea Apei\, Acatistul Maicii Domnului ”Pantanassa”\, Taina Sfântului Maslu
DESCRIPTION:
URL:https://sfantuldumitrusuceava.ro/eveniment/sfintirea-apei-acatistul-maicii-domnului-pantanassa-taina-sfantului-maslu/2027-04-21/
END:VEVENT
BEGIN:VEVENT
DTSTART;TZID=UTC:20270422T080000
DTEND;TZID=UTC:20270422T093000
DTSTAMP:20260421T033230
CREATED:20241102T142240Z
LAST-MODIFIED:20241102T142240Z
UID:25459-1808380800-1808386200@sfantuldumitrusuceava.ro
SUMMARY:Sfânta Liturghie
DESCRIPTION:
URL:https://sfantuldumitrusuceava.ro/eveniment/sfanta-liturghie-3/2027-04-22/
END:VEVENT
BEGIN:VEVENT
DTSTART;TZID=UTC:20270423T080000
DTEND;TZID=UTC:20270423T120000
DTSTAMP:20260421T033230
CREATED:20241102T142355Z
LAST-MODIFIED:20241102T142355Z
UID:25460-1808467200-1808481600@sfantuldumitrusuceava.ro
SUMMARY:Utrenia\, Sfânta Liturghie\, Sfințirea Apei și Taina Sfântului Maslu
DESCRIPTION:
URL:https://sfantuldumitrusuceava.ro/eveniment/utrenia-sfanta-liturghie-sfintirea-apei-si-taina-sfantului-maslu/2027-04-23/
END:VEVENT
BEGIN:VEVENT
DTSTART;TZID=UTC:20270424T080000
DTEND;TZID=UTC:20270424T093000
DTSTAMP:20260421T033230
CREATED:20241102T142433Z
LAST-MODIFIED:20241102T142433Z
UID:25461-1808553600-1808559000@sfantuldumitrusuceava.ro
SUMMARY:Sfânta Liturghie și Spovedanie
DESCRIPTION:
URL:https://sfantuldumitrusuceava.ro/eveniment/sfanta-liturghie-si-spovedanie/2027-04-24/
END:VEVENT
BEGIN:VEVENT
DTSTART;TZID=UTC:20270424T103000
DTEND;TZID=UTC:20270424T110000
DTSTAMP:20260421T033230
CREATED:20241102T142519Z
LAST-MODIFIED:20241102T142519Z
UID:25462-1808562600-1808564400@sfantuldumitrusuceava.ro
SUMMARY:Pomenirea celor adormiți (Parastas)
DESCRIPTION:
URL:https://sfantuldumitrusuceava.ro/eveniment/pomenirea-celor-adormiti-parastas/2027-04-24/
END:VEVENT
BEGIN:VEVENT
DTSTART;TZID=Europe/Helsinki:20270425T080000
DTEND;TZID=Europe/Helsinki:20270425T120000
DTSTAMP:20260421T033230
CREATED:20241102T100818Z
LAST-MODIFIED:20241102T100818Z
UID:25463-1808640000-1808654400@sfantuldumitrusuceava.ro
SUMMARY:Utrenia\, Acatistul și Sfânta Liturghie
DESCRIPTION:
URL:https://sfantuldumitrusuceava.ro/eveniment/duminica/2027-04-25/
END:VEVENT
BEGIN:VEVENT
DTSTART;TZID=UTC:20270426T070000
DTEND;TZID=UTC:20270426T090000
DTSTAMP:20260421T033230
CREATED:20241102T141909Z
LAST-MODIFIED:20241102T141909Z
UID:25465-1808722800-1808730000@sfantuldumitrusuceava.ro
SUMMARY:Program de curățenie si Audiențe
DESCRIPTION:
URL:https://sfantuldumitrusuceava.ro/eveniment/program-de-curatenie-si-audiente-2/2027-04-26/
END:VEVENT
BEGIN:VEVENT
DTSTART;TZID=UTC:20270426T090000
DTEND;TZID=UTC:20270426T103000
DTSTAMP:20260421T033230
CREATED:20241102T141724Z
LAST-MODIFIED:20241102T141724Z
UID:25464-1808730000-1808735400@sfantuldumitrusuceava.ro
SUMMARY:Sfânta Liturghie
DESCRIPTION:
URL:https://sfantuldumitrusuceava.ro/eveniment/program-de-curatenie-si-audiente/2027-04-26/
END:VEVENT
BEGIN:VEVENT
DTSTART;TZID=UTC:20270427T080000
DTEND;TZID=UTC:20270427T093000
DTSTAMP:20260421T033230
CREATED:20241102T141955Z
LAST-MODIFIED:20241102T141955Z
UID:25466-1808812800-1808818200@sfantuldumitrusuceava.ro
SUMMARY:Sfânta Liturghie
DESCRIPTION:
URL:https://sfantuldumitrusuceava.ro/eveniment/sfanta-liturghie/2027-04-27/
END:VEVENT
BEGIN:VEVENT
DTSTART;TZID=UTC:20270428T080000
DTEND;TZID=UTC:20270428T093000
DTSTAMP:20260421T033230
CREATED:20241102T142044Z
LAST-MODIFIED:20241102T142044Z
UID:25467-1808899200-1808904600@sfantuldumitrusuceava.ro
SUMMARY:Sfânta Liturghie
DESCRIPTION:
URL:https://sfantuldumitrusuceava.ro/eveniment/sfanta-liturghie-2/2027-04-28/
END:VEVENT
BEGIN:VEVENT
DTSTART;TZID=UTC:20270428T170000
DTEND;TZID=UTC:20270428T193000
DTSTAMP:20260421T033230
CREATED:20241102T142205Z
LAST-MODIFIED:20241102T142205Z
UID:25468-1808931600-1808940600@sfantuldumitrusuceava.ro
SUMMARY:Sfințirea Apei\, Acatistul Maicii Domnului ”Pantanassa”\, Taina Sfântului Maslu
DESCRIPTION:
URL:https://sfantuldumitrusuceava.ro/eveniment/sfintirea-apei-acatistul-maicii-domnului-pantanassa-taina-sfantului-maslu/2027-04-28/
END:VEVENT
BEGIN:VEVENT
DTSTART;TZID=UTC:20270429T080000
DTEND;TZID=UTC:20270429T093000
DTSTAMP:20260421T033230
CREATED:20241102T142240Z
LAST-MODIFIED:20241102T142240Z
UID:25469-1808985600-1808991000@sfantuldumitrusuceava.ro
SUMMARY:Sfânta Liturghie
DESCRIPTION:
URL:https://sfantuldumitrusuceava.ro/eveniment/sfanta-liturghie-3/2027-04-29/
END:VEVENT
BEGIN:VEVENT
DTSTART;TZID=UTC:20270430T080000
DTEND;TZID=UTC:20270430T120000
DTSTAMP:20260421T033230
CREATED:20241102T142355Z
LAST-MODIFIED:20241102T142355Z
UID:25470-1809072000-1809086400@sfantuldumitrusuceava.ro
SUMMARY:Utrenia\, Sfânta Liturghie\, Sfințirea Apei și Taina Sfântului Maslu
DESCRIPTION:
URL:https://sfantuldumitrusuceava.ro/eveniment/utrenia-sfanta-liturghie-sfintirea-apei-si-taina-sfantului-maslu/2027-04-30/
END:VEVENT
BEGIN:VEVENT
DTSTART;TZID=UTC:20270501T080000
DTEND;TZID=UTC:20270501T093000
DTSTAMP:20260421T033230
CREATED:20241102T142433Z
LAST-MODIFIED:20241102T142433Z
UID:25471-1809158400-1809163800@sfantuldumitrusuceava.ro
SUMMARY:Sfânta Liturghie și Spovedanie
DESCRIPTION:
URL:https://sfantuldumitrusuceava.ro/eveniment/sfanta-liturghie-si-spovedanie/2027-05-01/
END:VEVENT
BEGIN:VEVENT
DTSTART;TZID=UTC:20270501T103000
DTEND;TZID=UTC:20270501T110000
DTSTAMP:20260421T033230
CREATED:20241102T142519Z
LAST-MODIFIED:20241102T142519Z
UID:25472-1809167400-1809169200@sfantuldumitrusuceava.ro
SUMMARY:Pomenirea celor adormiți (Parastas)
DESCRIPTION:
URL:https://sfantuldumitrusuceava.ro/eveniment/pomenirea-celor-adormiti-parastas/2027-05-01/
END:VEVENT
BEGIN:VEVENT
DTSTART;TZID=Europe/Helsinki:20270502T080000
DTEND;TZID=Europe/Helsinki:20270502T120000
DTSTAMP:20260421T033230
CREATED:20241102T100818Z
LAST-MODIFIED:20241102T100818Z
UID:25473-1809244800-1809259200@sfantuldumitrusuceava.ro
SUMMARY:Utrenia\, Acatistul și Sfânta Liturghie
DESCRIPTION:
URL:https://sfantuldumitrusuceava.ro/eveniment/duminica/2027-05-02/
END:VEVENT
END:VCALENDAR