BEGIN:VCALENDAR
VERSION:2.0
PRODID:-//Parohia Sfântul Dumitru Suceava - ECPv6.8.0//NONSGML v1.0//EN
CALSCALE:GREGORIAN
METHOD:PUBLISH
X-WR-CALNAME:Parohia Sfântul Dumitru Suceava
X-ORIGINAL-URL:https://sfantuldumitrusuceava.ro
X-WR-CALDESC:Events for Parohia Sfântul Dumitru Suceava
REFRESH-INTERVAL;VALUE=DURATION:PT1H
X-Robots-Tag:noindex
X-PUBLISHED-TTL:PT1H
BEGIN:VTIMEZONE
TZID:Europe/Helsinki
BEGIN:DAYLIGHT
TZOFFSETFROM:+0200
TZOFFSETTO:+0300
TZNAME:EEST
DTSTART:20240331T010000
END:DAYLIGHT
BEGIN:STANDARD
TZOFFSETFROM:+0300
TZOFFSETTO:+0200
TZNAME:EET
DTSTART:20241027T010000
END:STANDARD
END:VTIMEZONE
BEGIN:VEVENT
DTSTART;TZID=Europe/Helsinki:20241103T080000
DTEND;TZID=Europe/Helsinki:20241103T120000
DTSTAMP:20260424T105814
CREATED:20241102T100818Z
LAST-MODIFIED:20241102T141540Z
UID:24085-1730620800-1730635200@sfantuldumitrusuceava.ro
SUMMARY:Utrenia\, Acatistul și Sfânta Liturghie
DESCRIPTION:
URL:https://sfantuldumitrusuceava.ro/eveniment/duminica/2024-11-03/
END:VEVENT
END:VCALENDAR