BEGIN:VCALENDAR
VERSION:2.0
PRODID:-//Parohia Sfântul Dumitru Suceava - ECPv6.8.0//NONSGML v1.0//EN
CALSCALE:GREGORIAN
METHOD:PUBLISH
X-WR-CALNAME:Parohia Sfântul Dumitru Suceava
X-ORIGINAL-URL:https://sfantuldumitrusuceava.ro
X-WR-CALDESC:Events for Parohia Sfântul Dumitru Suceava
REFRESH-INTERVAL;VALUE=DURATION:PT1H
X-Robots-Tag:noindex
X-PUBLISHED-TTL:PT1H
BEGIN:VTIMEZONE
TZID:UTC
BEGIN:STANDARD
TZOFFSETFROM:+0000
TZOFFSETTO:+0000
TZNAME:UTC
DTSTART:20270101T000000
END:STANDARD
TZID:Europe/Helsinki
BEGIN:DAYLIGHT
TZOFFSETFROM:+0200
TZOFFSETTO:+0300
TZNAME:EEST
DTSTART:20270328T010000
END:DAYLIGHT
BEGIN:STANDARD
TZOFFSETFROM:+0300
TZOFFSETTO:+0200
TZNAME:EET
DTSTART:20271031T010000
END:STANDARD
END:VTIMEZONE
BEGIN:VEVENT
DTSTART;TZID=UTC:20270113T170000
DTEND;TZID=UTC:20270113T193000
DTSTAMP:20260420T011629
CREATED:20241102T142205Z
LAST-MODIFIED:20241102T142205Z
UID:25318-1799859600-1799868600@sfantuldumitrusuceava.ro
SUMMARY:Sfințirea Apei\, Acatistul Maicii Domnului ”Pantanassa”\, Taina Sfântului Maslu
DESCRIPTION:
URL:https://sfantuldumitrusuceava.ro/eveniment/sfintirea-apei-acatistul-maicii-domnului-pantanassa-taina-sfantului-maslu/2027-01-13/
END:VEVENT
BEGIN:VEVENT
DTSTART;TZID=UTC:20270114T080000
DTEND;TZID=UTC:20270114T093000
DTSTAMP:20260420T011629
CREATED:20241102T142240Z
LAST-MODIFIED:20241102T142240Z
UID:25319-1799913600-1799919000@sfantuldumitrusuceava.ro
SUMMARY:Sfânta Liturghie
DESCRIPTION:
URL:https://sfantuldumitrusuceava.ro/eveniment/sfanta-liturghie-3/2027-01-14/
END:VEVENT
BEGIN:VEVENT
DTSTART;TZID=UTC:20270115T080000
DTEND;TZID=UTC:20270115T120000
DTSTAMP:20260420T011629
CREATED:20241102T142355Z
LAST-MODIFIED:20241102T142355Z
UID:25320-1800000000-1800014400@sfantuldumitrusuceava.ro
SUMMARY:Utrenia\, Sfânta Liturghie\, Sfințirea Apei și Taina Sfântului Maslu
DESCRIPTION:
URL:https://sfantuldumitrusuceava.ro/eveniment/utrenia-sfanta-liturghie-sfintirea-apei-si-taina-sfantului-maslu/2027-01-15/
END:VEVENT
BEGIN:VEVENT
DTSTART;TZID=UTC:20270116T080000
DTEND;TZID=UTC:20270116T093000
DTSTAMP:20260420T011629
CREATED:20241102T142433Z
LAST-MODIFIED:20241102T142433Z
UID:25321-1800086400-1800091800@sfantuldumitrusuceava.ro
SUMMARY:Sfânta Liturghie și Spovedanie
DESCRIPTION:
URL:https://sfantuldumitrusuceava.ro/eveniment/sfanta-liturghie-si-spovedanie/2027-01-16/
END:VEVENT
BEGIN:VEVENT
DTSTART;TZID=UTC:20270116T103000
DTEND;TZID=UTC:20270116T110000
DTSTAMP:20260420T011629
CREATED:20241102T142519Z
LAST-MODIFIED:20241102T142519Z
UID:25322-1800095400-1800097200@sfantuldumitrusuceava.ro
SUMMARY:Pomenirea celor adormiți (Parastas)
DESCRIPTION:
URL:https://sfantuldumitrusuceava.ro/eveniment/pomenirea-celor-adormiti-parastas/2027-01-16/
END:VEVENT
BEGIN:VEVENT
DTSTART;TZID=Europe/Helsinki:20270117T080000
DTEND;TZID=Europe/Helsinki:20270117T120000
DTSTAMP:20260420T011629
CREATED:20241102T100818Z
LAST-MODIFIED:20241102T100818Z
UID:25323-1800172800-1800187200@sfantuldumitrusuceava.ro
SUMMARY:Utrenia\, Acatistul și Sfânta Liturghie
DESCRIPTION:
URL:https://sfantuldumitrusuceava.ro/eveniment/duminica/2027-01-17/
END:VEVENT
BEGIN:VEVENT
DTSTART;TZID=UTC:20270118T070000
DTEND;TZID=UTC:20270118T090000
DTSTAMP:20260420T011629
CREATED:20241102T141909Z
LAST-MODIFIED:20241102T141909Z
UID:25325-1800255600-1800262800@sfantuldumitrusuceava.ro
SUMMARY:Program de curățenie si Audiențe
DESCRIPTION:
URL:https://sfantuldumitrusuceava.ro/eveniment/program-de-curatenie-si-audiente-2/2027-01-18/
END:VEVENT
BEGIN:VEVENT
DTSTART;TZID=UTC:20270118T090000
DTEND;TZID=UTC:20270118T103000
DTSTAMP:20260420T011629
CREATED:20241102T141724Z
LAST-MODIFIED:20241102T141724Z
UID:25324-1800262800-1800268200@sfantuldumitrusuceava.ro
SUMMARY:Sfânta Liturghie
DESCRIPTION:
URL:https://sfantuldumitrusuceava.ro/eveniment/program-de-curatenie-si-audiente/2027-01-18/
END:VEVENT
BEGIN:VEVENT
DTSTART;TZID=UTC:20270119T080000
DTEND;TZID=UTC:20270119T093000
DTSTAMP:20260420T011629
CREATED:20241102T141955Z
LAST-MODIFIED:20241102T141955Z
UID:25326-1800345600-1800351000@sfantuldumitrusuceava.ro
SUMMARY:Sfânta Liturghie
DESCRIPTION:
URL:https://sfantuldumitrusuceava.ro/eveniment/sfanta-liturghie/2027-01-19/
END:VEVENT
BEGIN:VEVENT
DTSTART;TZID=UTC:20270120T080000
DTEND;TZID=UTC:20270120T093000
DTSTAMP:20260420T011629
CREATED:20241102T142044Z
LAST-MODIFIED:20241102T142044Z
UID:25327-1800432000-1800437400@sfantuldumitrusuceava.ro
SUMMARY:Sfânta Liturghie
DESCRIPTION:
URL:https://sfantuldumitrusuceava.ro/eveniment/sfanta-liturghie-2/2027-01-20/
END:VEVENT
BEGIN:VEVENT
DTSTART;TZID=UTC:20270120T170000
DTEND;TZID=UTC:20270120T193000
DTSTAMP:20260420T011629
CREATED:20241102T142205Z
LAST-MODIFIED:20241102T142205Z
UID:25328-1800464400-1800473400@sfantuldumitrusuceava.ro
SUMMARY:Sfințirea Apei\, Acatistul Maicii Domnului ”Pantanassa”\, Taina Sfântului Maslu
DESCRIPTION:
URL:https://sfantuldumitrusuceava.ro/eveniment/sfintirea-apei-acatistul-maicii-domnului-pantanassa-taina-sfantului-maslu/2027-01-20/
END:VEVENT
BEGIN:VEVENT
DTSTART;TZID=UTC:20270121T080000
DTEND;TZID=UTC:20270121T093000
DTSTAMP:20260420T011629
CREATED:20241102T142240Z
LAST-MODIFIED:20241102T142240Z
UID:25329-1800518400-1800523800@sfantuldumitrusuceava.ro
SUMMARY:Sfânta Liturghie
DESCRIPTION:
URL:https://sfantuldumitrusuceava.ro/eveniment/sfanta-liturghie-3/2027-01-21/
END:VEVENT
BEGIN:VEVENT
DTSTART;TZID=UTC:20270122T080000
DTEND;TZID=UTC:20270122T120000
DTSTAMP:20260420T011629
CREATED:20241102T142355Z
LAST-MODIFIED:20241102T142355Z
UID:25330-1800604800-1800619200@sfantuldumitrusuceava.ro
SUMMARY:Utrenia\, Sfânta Liturghie\, Sfințirea Apei și Taina Sfântului Maslu
DESCRIPTION:
URL:https://sfantuldumitrusuceava.ro/eveniment/utrenia-sfanta-liturghie-sfintirea-apei-si-taina-sfantului-maslu/2027-01-22/
END:VEVENT
BEGIN:VEVENT
DTSTART;TZID=UTC:20270123T080000
DTEND;TZID=UTC:20270123T093000
DTSTAMP:20260420T011629
CREATED:20241102T142433Z
LAST-MODIFIED:20241102T142433Z
UID:25331-1800691200-1800696600@sfantuldumitrusuceava.ro
SUMMARY:Sfânta Liturghie și Spovedanie
DESCRIPTION:
URL:https://sfantuldumitrusuceava.ro/eveniment/sfanta-liturghie-si-spovedanie/2027-01-23/
END:VEVENT
BEGIN:VEVENT
DTSTART;TZID=UTC:20270123T103000
DTEND;TZID=UTC:20270123T110000
DTSTAMP:20260420T011629
CREATED:20241102T142519Z
LAST-MODIFIED:20241102T142519Z
UID:25332-1800700200-1800702000@sfantuldumitrusuceava.ro
SUMMARY:Pomenirea celor adormiți (Parastas)
DESCRIPTION:
URL:https://sfantuldumitrusuceava.ro/eveniment/pomenirea-celor-adormiti-parastas/2027-01-23/
END:VEVENT
BEGIN:VEVENT
DTSTART;TZID=Europe/Helsinki:20270124T080000
DTEND;TZID=Europe/Helsinki:20270124T120000
DTSTAMP:20260420T011629
CREATED:20241102T100818Z
LAST-MODIFIED:20241102T100818Z
UID:25333-1800777600-1800792000@sfantuldumitrusuceava.ro
SUMMARY:Utrenia\, Acatistul și Sfânta Liturghie
DESCRIPTION:
URL:https://sfantuldumitrusuceava.ro/eveniment/duminica/2027-01-24/
END:VEVENT
BEGIN:VEVENT
DTSTART;TZID=UTC:20270125T070000
DTEND;TZID=UTC:20270125T090000
DTSTAMP:20260420T011629
CREATED:20241102T141909Z
LAST-MODIFIED:20241102T141909Z
UID:25335-1800860400-1800867600@sfantuldumitrusuceava.ro
SUMMARY:Program de curățenie si Audiențe
DESCRIPTION:
URL:https://sfantuldumitrusuceava.ro/eveniment/program-de-curatenie-si-audiente-2/2027-01-25/
END:VEVENT
BEGIN:VEVENT
DTSTART;TZID=UTC:20270125T090000
DTEND;TZID=UTC:20270125T103000
DTSTAMP:20260420T011629
CREATED:20241102T141724Z
LAST-MODIFIED:20241102T141724Z
UID:25334-1800867600-1800873000@sfantuldumitrusuceava.ro
SUMMARY:Sfânta Liturghie
DESCRIPTION:
URL:https://sfantuldumitrusuceava.ro/eveniment/program-de-curatenie-si-audiente/2027-01-25/
END:VEVENT
BEGIN:VEVENT
DTSTART;TZID=UTC:20270126T080000
DTEND;TZID=UTC:20270126T093000
DTSTAMP:20260420T011629
CREATED:20241102T141955Z
LAST-MODIFIED:20241102T141955Z
UID:25336-1800950400-1800955800@sfantuldumitrusuceava.ro
SUMMARY:Sfânta Liturghie
DESCRIPTION:
URL:https://sfantuldumitrusuceava.ro/eveniment/sfanta-liturghie/2027-01-26/
END:VEVENT
BEGIN:VEVENT
DTSTART;TZID=UTC:20270127T080000
DTEND;TZID=UTC:20270127T093000
DTSTAMP:20260420T011629
CREATED:20241102T142044Z
LAST-MODIFIED:20241102T142044Z
UID:25337-1801036800-1801042200@sfantuldumitrusuceava.ro
SUMMARY:Sfânta Liturghie
DESCRIPTION:
URL:https://sfantuldumitrusuceava.ro/eveniment/sfanta-liturghie-2/2027-01-27/
END:VEVENT
BEGIN:VEVENT
DTSTART;TZID=UTC:20270127T170000
DTEND;TZID=UTC:20270127T193000
DTSTAMP:20260420T011629
CREATED:20241102T142205Z
LAST-MODIFIED:20241102T142205Z
UID:25338-1801069200-1801078200@sfantuldumitrusuceava.ro
SUMMARY:Sfințirea Apei\, Acatistul Maicii Domnului ”Pantanassa”\, Taina Sfântului Maslu
DESCRIPTION:
URL:https://sfantuldumitrusuceava.ro/eveniment/sfintirea-apei-acatistul-maicii-domnului-pantanassa-taina-sfantului-maslu/2027-01-27/
END:VEVENT
BEGIN:VEVENT
DTSTART;TZID=UTC:20270128T080000
DTEND;TZID=UTC:20270128T093000
DTSTAMP:20260420T011629
CREATED:20241102T142240Z
LAST-MODIFIED:20241102T142240Z
UID:25339-1801123200-1801128600@sfantuldumitrusuceava.ro
SUMMARY:Sfânta Liturghie
DESCRIPTION:
URL:https://sfantuldumitrusuceava.ro/eveniment/sfanta-liturghie-3/2027-01-28/
END:VEVENT
BEGIN:VEVENT
DTSTART;TZID=UTC:20270129T080000
DTEND;TZID=UTC:20270129T120000
DTSTAMP:20260420T011629
CREATED:20241102T142355Z
LAST-MODIFIED:20241102T142355Z
UID:25340-1801209600-1801224000@sfantuldumitrusuceava.ro
SUMMARY:Utrenia\, Sfânta Liturghie\, Sfințirea Apei și Taina Sfântului Maslu
DESCRIPTION:
URL:https://sfantuldumitrusuceava.ro/eveniment/utrenia-sfanta-liturghie-sfintirea-apei-si-taina-sfantului-maslu/2027-01-29/
END:VEVENT
BEGIN:VEVENT
DTSTART;TZID=UTC:20270130T080000
DTEND;TZID=UTC:20270130T093000
DTSTAMP:20260420T011629
CREATED:20241102T142433Z
LAST-MODIFIED:20241102T142433Z
UID:25341-1801296000-1801301400@sfantuldumitrusuceava.ro
SUMMARY:Sfânta Liturghie și Spovedanie
DESCRIPTION:
URL:https://sfantuldumitrusuceava.ro/eveniment/sfanta-liturghie-si-spovedanie/2027-01-30/
END:VEVENT
BEGIN:VEVENT
DTSTART;TZID=UTC:20270130T103000
DTEND;TZID=UTC:20270130T110000
DTSTAMP:20260420T011629
CREATED:20241102T142519Z
LAST-MODIFIED:20241102T142519Z
UID:25342-1801305000-1801306800@sfantuldumitrusuceava.ro
SUMMARY:Pomenirea celor adormiți (Parastas)
DESCRIPTION:
URL:https://sfantuldumitrusuceava.ro/eveniment/pomenirea-celor-adormiti-parastas/2027-01-30/
END:VEVENT
BEGIN:VEVENT
DTSTART;TZID=Europe/Helsinki:20270131T080000
DTEND;TZID=Europe/Helsinki:20270131T120000
DTSTAMP:20260420T011629
CREATED:20241102T100818Z
LAST-MODIFIED:20241102T100818Z
UID:25343-1801382400-1801396800@sfantuldumitrusuceava.ro
SUMMARY:Utrenia\, Acatistul și Sfânta Liturghie
DESCRIPTION:
URL:https://sfantuldumitrusuceava.ro/eveniment/duminica/2027-01-31/
END:VEVENT
BEGIN:VEVENT
DTSTART;TZID=UTC:20270201T070000
DTEND;TZID=UTC:20270201T090000
DTSTAMP:20260420T011629
CREATED:20241102T141909Z
LAST-MODIFIED:20241102T141909Z
UID:25345-1801465200-1801472400@sfantuldumitrusuceava.ro
SUMMARY:Program de curățenie si Audiențe
DESCRIPTION:
URL:https://sfantuldumitrusuceava.ro/eveniment/program-de-curatenie-si-audiente-2/2027-02-01/
END:VEVENT
BEGIN:VEVENT
DTSTART;TZID=UTC:20270201T090000
DTEND;TZID=UTC:20270201T103000
DTSTAMP:20260420T011629
CREATED:20241102T141724Z
LAST-MODIFIED:20241102T141724Z
UID:25344-1801472400-1801477800@sfantuldumitrusuceava.ro
SUMMARY:Sfânta Liturghie
DESCRIPTION:
URL:https://sfantuldumitrusuceava.ro/eveniment/program-de-curatenie-si-audiente/2027-02-01/
END:VEVENT
BEGIN:VEVENT
DTSTART;TZID=UTC:20270202T080000
DTEND;TZID=UTC:20270202T093000
DTSTAMP:20260420T011629
CREATED:20241102T141955Z
LAST-MODIFIED:20241102T141955Z
UID:25346-1801555200-1801560600@sfantuldumitrusuceava.ro
SUMMARY:Sfânta Liturghie
DESCRIPTION:
URL:https://sfantuldumitrusuceava.ro/eveniment/sfanta-liturghie/2027-02-02/
END:VEVENT
BEGIN:VEVENT
DTSTART;TZID=UTC:20270203T080000
DTEND;TZID=UTC:20270203T093000
DTSTAMP:20260420T011629
CREATED:20241102T142044Z
LAST-MODIFIED:20241102T142044Z
UID:25347-1801641600-1801647000@sfantuldumitrusuceava.ro
SUMMARY:Sfânta Liturghie
DESCRIPTION:
URL:https://sfantuldumitrusuceava.ro/eveniment/sfanta-liturghie-2/2027-02-03/
END:VEVENT
END:VCALENDAR