BEGIN:VCALENDAR
VERSION:2.0
PRODID:-//Parohia Sfântul Dumitru Suceava - ECPv6.8.0//NONSGML v1.0//EN
CALSCALE:GREGORIAN
METHOD:PUBLISH
X-WR-CALNAME:Parohia Sfântul Dumitru Suceava
X-ORIGINAL-URL:https://sfantuldumitrusuceava.ro
X-WR-CALDESC:Events for Parohia Sfântul Dumitru Suceava
REFRESH-INTERVAL;VALUE=DURATION:PT1H
X-Robots-Tag:noindex
X-PUBLISHED-TTL:PT1H
BEGIN:VTIMEZONE
TZID:UTC
BEGIN:STANDARD
TZOFFSETFROM:+0000
TZOFFSETTO:+0000
TZNAME:UTC
DTSTART:20270101T000000
END:STANDARD
TZID:Europe/Helsinki
BEGIN:DAYLIGHT
TZOFFSETFROM:+0200
TZOFFSETTO:+0300
TZNAME:EEST
DTSTART:20270328T010000
END:DAYLIGHT
BEGIN:STANDARD
TZOFFSETFROM:+0300
TZOFFSETTO:+0200
TZNAME:EET
DTSTART:20271031T010000
END:STANDARD
END:VTIMEZONE
BEGIN:VEVENT
DTSTART;TZID=UTC:20270526T080000
DTEND;TZID=UTC:20270526T093000
DTSTAMP:20260421T162928
CREATED:20241102T142044Z
LAST-MODIFIED:20241102T142044Z
UID:25507-1811318400-1811323800@sfantuldumitrusuceava.ro
SUMMARY:Sfânta Liturghie
DESCRIPTION:
URL:https://sfantuldumitrusuceava.ro/eveniment/sfanta-liturghie-2/2027-05-26/
END:VEVENT
BEGIN:VEVENT
DTSTART;TZID=UTC:20270526T170000
DTEND;TZID=UTC:20270526T193000
DTSTAMP:20260421T162928
CREATED:20241102T142205Z
LAST-MODIFIED:20241102T142205Z
UID:25508-1811350800-1811359800@sfantuldumitrusuceava.ro
SUMMARY:Sfințirea Apei\, Acatistul Maicii Domnului ”Pantanassa”\, Taina Sfântului Maslu
DESCRIPTION:
URL:https://sfantuldumitrusuceava.ro/eveniment/sfintirea-apei-acatistul-maicii-domnului-pantanassa-taina-sfantului-maslu/2027-05-26/
END:VEVENT
BEGIN:VEVENT
DTSTART;TZID=UTC:20270527T080000
DTEND;TZID=UTC:20270527T093000
DTSTAMP:20260421T162928
CREATED:20241102T142240Z
LAST-MODIFIED:20241102T142240Z
UID:25509-1811404800-1811410200@sfantuldumitrusuceava.ro
SUMMARY:Sfânta Liturghie
DESCRIPTION:
URL:https://sfantuldumitrusuceava.ro/eveniment/sfanta-liturghie-3/2027-05-27/
END:VEVENT
BEGIN:VEVENT
DTSTART;TZID=UTC:20270528T080000
DTEND;TZID=UTC:20270528T120000
DTSTAMP:20260421T162928
CREATED:20241102T142355Z
LAST-MODIFIED:20241102T142355Z
UID:25510-1811491200-1811505600@sfantuldumitrusuceava.ro
SUMMARY:Utrenia\, Sfânta Liturghie\, Sfințirea Apei și Taina Sfântului Maslu
DESCRIPTION:
URL:https://sfantuldumitrusuceava.ro/eveniment/utrenia-sfanta-liturghie-sfintirea-apei-si-taina-sfantului-maslu/2027-05-28/
END:VEVENT
BEGIN:VEVENT
DTSTART;TZID=UTC:20270529T080000
DTEND;TZID=UTC:20270529T093000
DTSTAMP:20260421T162928
CREATED:20241102T142433Z
LAST-MODIFIED:20241102T142433Z
UID:25511-1811577600-1811583000@sfantuldumitrusuceava.ro
SUMMARY:Sfânta Liturghie și Spovedanie
DESCRIPTION:
URL:https://sfantuldumitrusuceava.ro/eveniment/sfanta-liturghie-si-spovedanie/2027-05-29/
END:VEVENT
BEGIN:VEVENT
DTSTART;TZID=UTC:20270529T103000
DTEND;TZID=UTC:20270529T110000
DTSTAMP:20260421T162928
CREATED:20241102T142519Z
LAST-MODIFIED:20241102T142519Z
UID:25512-1811586600-1811588400@sfantuldumitrusuceava.ro
SUMMARY:Pomenirea celor adormiți (Parastas)
DESCRIPTION:
URL:https://sfantuldumitrusuceava.ro/eveniment/pomenirea-celor-adormiti-parastas/2027-05-29/
END:VEVENT
BEGIN:VEVENT
DTSTART;TZID=Europe/Helsinki:20270530T080000
DTEND;TZID=Europe/Helsinki:20270530T120000
DTSTAMP:20260421T162928
CREATED:20241102T100818Z
LAST-MODIFIED:20241102T100818Z
UID:25513-1811664000-1811678400@sfantuldumitrusuceava.ro
SUMMARY:Utrenia\, Acatistul și Sfânta Liturghie
DESCRIPTION:
URL:https://sfantuldumitrusuceava.ro/eveniment/duminica/2027-05-30/
END:VEVENT
BEGIN:VEVENT
DTSTART;TZID=UTC:20270531T070000
DTEND;TZID=UTC:20270531T090000
DTSTAMP:20260421T162928
CREATED:20241102T141909Z
LAST-MODIFIED:20241102T141909Z
UID:25515-1811746800-1811754000@sfantuldumitrusuceava.ro
SUMMARY:Program de curățenie si Audiențe
DESCRIPTION:
URL:https://sfantuldumitrusuceava.ro/eveniment/program-de-curatenie-si-audiente-2/2027-05-31/
END:VEVENT
BEGIN:VEVENT
DTSTART;TZID=UTC:20270531T090000
DTEND;TZID=UTC:20270531T103000
DTSTAMP:20260421T162928
CREATED:20241102T141724Z
LAST-MODIFIED:20241102T141724Z
UID:25514-1811754000-1811759400@sfantuldumitrusuceava.ro
SUMMARY:Sfânta Liturghie
DESCRIPTION:
URL:https://sfantuldumitrusuceava.ro/eveniment/program-de-curatenie-si-audiente/2027-05-31/
END:VEVENT
BEGIN:VEVENT
DTSTART;TZID=UTC:20270601T080000
DTEND;TZID=UTC:20270601T093000
DTSTAMP:20260421T162928
CREATED:20241102T141955Z
LAST-MODIFIED:20241102T141955Z
UID:25516-1811836800-1811842200@sfantuldumitrusuceava.ro
SUMMARY:Sfânta Liturghie
DESCRIPTION:
URL:https://sfantuldumitrusuceava.ro/eveniment/sfanta-liturghie/2027-06-01/
END:VEVENT
BEGIN:VEVENT
DTSTART;TZID=UTC:20270602T080000
DTEND;TZID=UTC:20270602T093000
DTSTAMP:20260421T162928
CREATED:20241102T142044Z
LAST-MODIFIED:20241102T142044Z
UID:25517-1811923200-1811928600@sfantuldumitrusuceava.ro
SUMMARY:Sfânta Liturghie
DESCRIPTION:
URL:https://sfantuldumitrusuceava.ro/eveniment/sfanta-liturghie-2/2027-06-02/
END:VEVENT
BEGIN:VEVENT
DTSTART;TZID=UTC:20270602T170000
DTEND;TZID=UTC:20270602T193000
DTSTAMP:20260421T162928
CREATED:20241102T142205Z
LAST-MODIFIED:20241102T142205Z
UID:25518-1811955600-1811964600@sfantuldumitrusuceava.ro
SUMMARY:Sfințirea Apei\, Acatistul Maicii Domnului ”Pantanassa”\, Taina Sfântului Maslu
DESCRIPTION:
URL:https://sfantuldumitrusuceava.ro/eveniment/sfintirea-apei-acatistul-maicii-domnului-pantanassa-taina-sfantului-maslu/2027-06-02/
END:VEVENT
BEGIN:VEVENT
DTSTART;TZID=UTC:20270603T080000
DTEND;TZID=UTC:20270603T093000
DTSTAMP:20260421T162928
CREATED:20241102T142240Z
LAST-MODIFIED:20241102T142240Z
UID:25519-1812009600-1812015000@sfantuldumitrusuceava.ro
SUMMARY:Sfânta Liturghie
DESCRIPTION:
URL:https://sfantuldumitrusuceava.ro/eveniment/sfanta-liturghie-3/2027-06-03/
END:VEVENT
BEGIN:VEVENT
DTSTART;TZID=UTC:20270604T080000
DTEND;TZID=UTC:20270604T120000
DTSTAMP:20260421T162928
CREATED:20241102T142355Z
LAST-MODIFIED:20241102T142355Z
UID:25520-1812096000-1812110400@sfantuldumitrusuceava.ro
SUMMARY:Utrenia\, Sfânta Liturghie\, Sfințirea Apei și Taina Sfântului Maslu
DESCRIPTION:
URL:https://sfantuldumitrusuceava.ro/eveniment/utrenia-sfanta-liturghie-sfintirea-apei-si-taina-sfantului-maslu/2027-06-04/
END:VEVENT
BEGIN:VEVENT
DTSTART;TZID=UTC:20270605T080000
DTEND;TZID=UTC:20270605T093000
DTSTAMP:20260421T162928
CREATED:20241102T142433Z
LAST-MODIFIED:20241102T142433Z
UID:25521-1812182400-1812187800@sfantuldumitrusuceava.ro
SUMMARY:Sfânta Liturghie și Spovedanie
DESCRIPTION:
URL:https://sfantuldumitrusuceava.ro/eveniment/sfanta-liturghie-si-spovedanie/2027-06-05/
END:VEVENT
BEGIN:VEVENT
DTSTART;TZID=UTC:20270605T103000
DTEND;TZID=UTC:20270605T110000
DTSTAMP:20260421T162928
CREATED:20241102T142519Z
LAST-MODIFIED:20241102T142519Z
UID:25522-1812191400-1812193200@sfantuldumitrusuceava.ro
SUMMARY:Pomenirea celor adormiți (Parastas)
DESCRIPTION:
URL:https://sfantuldumitrusuceava.ro/eveniment/pomenirea-celor-adormiti-parastas/2027-06-05/
END:VEVENT
BEGIN:VEVENT
DTSTART;TZID=Europe/Helsinki:20270606T080000
DTEND;TZID=Europe/Helsinki:20270606T120000
DTSTAMP:20260421T162928
CREATED:20241102T100818Z
LAST-MODIFIED:20241102T100818Z
UID:25523-1812268800-1812283200@sfantuldumitrusuceava.ro
SUMMARY:Utrenia\, Acatistul și Sfânta Liturghie
DESCRIPTION:
URL:https://sfantuldumitrusuceava.ro/eveniment/duminica/2027-06-06/
END:VEVENT
BEGIN:VEVENT
DTSTART;TZID=UTC:20270607T070000
DTEND;TZID=UTC:20270607T090000
DTSTAMP:20260421T162928
CREATED:20241102T141909Z
LAST-MODIFIED:20241102T141909Z
UID:25525-1812351600-1812358800@sfantuldumitrusuceava.ro
SUMMARY:Program de curățenie si Audiențe
DESCRIPTION:
URL:https://sfantuldumitrusuceava.ro/eveniment/program-de-curatenie-si-audiente-2/2027-06-07/
END:VEVENT
BEGIN:VEVENT
DTSTART;TZID=UTC:20270607T090000
DTEND;TZID=UTC:20270607T103000
DTSTAMP:20260421T162928
CREATED:20241102T141724Z
LAST-MODIFIED:20241102T141724Z
UID:25524-1812358800-1812364200@sfantuldumitrusuceava.ro
SUMMARY:Sfânta Liturghie
DESCRIPTION:
URL:https://sfantuldumitrusuceava.ro/eveniment/program-de-curatenie-si-audiente/2027-06-07/
END:VEVENT
BEGIN:VEVENT
DTSTART;TZID=UTC:20270608T080000
DTEND;TZID=UTC:20270608T093000
DTSTAMP:20260421T162928
CREATED:20241102T141955Z
LAST-MODIFIED:20241102T141955Z
UID:25526-1812441600-1812447000@sfantuldumitrusuceava.ro
SUMMARY:Sfânta Liturghie
DESCRIPTION:
URL:https://sfantuldumitrusuceava.ro/eveniment/sfanta-liturghie/2027-06-08/
END:VEVENT
BEGIN:VEVENT
DTSTART;TZID=UTC:20270609T080000
DTEND;TZID=UTC:20270609T093000
DTSTAMP:20260421T162928
CREATED:20241102T142044Z
LAST-MODIFIED:20241102T142044Z
UID:25527-1812528000-1812533400@sfantuldumitrusuceava.ro
SUMMARY:Sfânta Liturghie
DESCRIPTION:
URL:https://sfantuldumitrusuceava.ro/eveniment/sfanta-liturghie-2/2027-06-09/
END:VEVENT
BEGIN:VEVENT
DTSTART;TZID=UTC:20270609T170000
DTEND;TZID=UTC:20270609T193000
DTSTAMP:20260421T162928
CREATED:20241102T142205Z
LAST-MODIFIED:20241102T142205Z
UID:25528-1812560400-1812569400@sfantuldumitrusuceava.ro
SUMMARY:Sfințirea Apei\, Acatistul Maicii Domnului ”Pantanassa”\, Taina Sfântului Maslu
DESCRIPTION:
URL:https://sfantuldumitrusuceava.ro/eveniment/sfintirea-apei-acatistul-maicii-domnului-pantanassa-taina-sfantului-maslu/2027-06-09/
END:VEVENT
BEGIN:VEVENT
DTSTART;TZID=UTC:20270610T080000
DTEND;TZID=UTC:20270610T093000
DTSTAMP:20260421T162928
CREATED:20241102T142240Z
LAST-MODIFIED:20241102T142240Z
UID:25529-1812614400-1812619800@sfantuldumitrusuceava.ro
SUMMARY:Sfânta Liturghie
DESCRIPTION:
URL:https://sfantuldumitrusuceava.ro/eveniment/sfanta-liturghie-3/2027-06-10/
END:VEVENT
BEGIN:VEVENT
DTSTART;TZID=UTC:20270611T080000
DTEND;TZID=UTC:20270611T120000
DTSTAMP:20260421T162928
CREATED:20241102T142355Z
LAST-MODIFIED:20241102T142355Z
UID:25530-1812700800-1812715200@sfantuldumitrusuceava.ro
SUMMARY:Utrenia\, Sfânta Liturghie\, Sfințirea Apei și Taina Sfântului Maslu
DESCRIPTION:
URL:https://sfantuldumitrusuceava.ro/eveniment/utrenia-sfanta-liturghie-sfintirea-apei-si-taina-sfantului-maslu/2027-06-11/
END:VEVENT
BEGIN:VEVENT
DTSTART;TZID=UTC:20270612T080000
DTEND;TZID=UTC:20270612T093000
DTSTAMP:20260421T162928
CREATED:20241102T142433Z
LAST-MODIFIED:20241102T142433Z
UID:25531-1812787200-1812792600@sfantuldumitrusuceava.ro
SUMMARY:Sfânta Liturghie și Spovedanie
DESCRIPTION:
URL:https://sfantuldumitrusuceava.ro/eveniment/sfanta-liturghie-si-spovedanie/2027-06-12/
END:VEVENT
BEGIN:VEVENT
DTSTART;TZID=UTC:20270612T103000
DTEND;TZID=UTC:20270612T110000
DTSTAMP:20260421T162928
CREATED:20241102T142519Z
LAST-MODIFIED:20241102T142519Z
UID:25532-1812796200-1812798000@sfantuldumitrusuceava.ro
SUMMARY:Pomenirea celor adormiți (Parastas)
DESCRIPTION:
URL:https://sfantuldumitrusuceava.ro/eveniment/pomenirea-celor-adormiti-parastas/2027-06-12/
END:VEVENT
BEGIN:VEVENT
DTSTART;TZID=Europe/Helsinki:20270613T080000
DTEND;TZID=Europe/Helsinki:20270613T120000
DTSTAMP:20260421T162928
CREATED:20241102T100818Z
LAST-MODIFIED:20241102T100818Z
UID:25533-1812873600-1812888000@sfantuldumitrusuceava.ro
SUMMARY:Utrenia\, Acatistul și Sfânta Liturghie
DESCRIPTION:
URL:https://sfantuldumitrusuceava.ro/eveniment/duminica/2027-06-13/
END:VEVENT
BEGIN:VEVENT
DTSTART;TZID=UTC:20270614T070000
DTEND;TZID=UTC:20270614T090000
DTSTAMP:20260421T162928
CREATED:20241102T141909Z
LAST-MODIFIED:20241102T141909Z
UID:25535-1812956400-1812963600@sfantuldumitrusuceava.ro
SUMMARY:Program de curățenie si Audiențe
DESCRIPTION:
URL:https://sfantuldumitrusuceava.ro/eveniment/program-de-curatenie-si-audiente-2/2027-06-14/
END:VEVENT
BEGIN:VEVENT
DTSTART;TZID=UTC:20270614T090000
DTEND;TZID=UTC:20270614T103000
DTSTAMP:20260421T162928
CREATED:20241102T141724Z
LAST-MODIFIED:20241102T141724Z
UID:25534-1812963600-1812969000@sfantuldumitrusuceava.ro
SUMMARY:Sfânta Liturghie
DESCRIPTION:
URL:https://sfantuldumitrusuceava.ro/eveniment/program-de-curatenie-si-audiente/2027-06-14/
END:VEVENT
BEGIN:VEVENT
DTSTART;TZID=UTC:20270615T080000
DTEND;TZID=UTC:20270615T093000
DTSTAMP:20260421T162928
CREATED:20241102T141955Z
LAST-MODIFIED:20241102T141955Z
UID:25536-1813046400-1813051800@sfantuldumitrusuceava.ro
SUMMARY:Sfânta Liturghie
DESCRIPTION:
URL:https://sfantuldumitrusuceava.ro/eveniment/sfanta-liturghie/2027-06-15/
END:VEVENT
END:VCALENDAR