BEGIN:VCALENDAR
VERSION:2.0
PRODID:-//Parohia Sfântul Dumitru Suceava - ECPv6.8.0//NONSGML v1.0//EN
CALSCALE:GREGORIAN
METHOD:PUBLISH
X-ORIGINAL-URL:https://sfantuldumitrusuceava.ro
X-WR-CALDESC:Events for Parohia Sfântul Dumitru Suceava
REFRESH-INTERVAL;VALUE=DURATION:PT1H
X-Robots-Tag:noindex
X-PUBLISHED-TTL:PT1H
BEGIN:VTIMEZONE
TZID:UTC
BEGIN:STANDARD
TZOFFSETFROM:+0000
TZOFFSETTO:+0000
TZNAME:UTC
DTSTART:20270101T000000
END:STANDARD
TZID:Europe/Helsinki
BEGIN:DAYLIGHT
TZOFFSETFROM:+0200
TZOFFSETTO:+0300
TZNAME:EEST
DTSTART:20270328T010000
END:DAYLIGHT
BEGIN:STANDARD
TZOFFSETFROM:+0300
TZOFFSETTO:+0200
TZNAME:EET
DTSTART:20271031T010000
END:STANDARD
END:VTIMEZONE
BEGIN:VEVENT
DTSTART;TZID=UTC:20270706T080000
DTEND;TZID=UTC:20270706T093000
DTSTAMP:20260422T014305
CREATED:20241102T141955Z
LAST-MODIFIED:20241102T141955Z
UID:25566-1814860800-1814866200@sfantuldumitrusuceava.ro
SUMMARY:Sfânta Liturghie
DESCRIPTION:
URL:https://sfantuldumitrusuceava.ro/eveniment/sfanta-liturghie/2027-07-06/
END:VEVENT
BEGIN:VEVENT
DTSTART;TZID=UTC:20270707T080000
DTEND;TZID=UTC:20270707T093000
DTSTAMP:20260422T014305
CREATED:20241102T142044Z
LAST-MODIFIED:20241102T142044Z
UID:25567-1814947200-1814952600@sfantuldumitrusuceava.ro
SUMMARY:Sfânta Liturghie
DESCRIPTION:
URL:https://sfantuldumitrusuceava.ro/eveniment/sfanta-liturghie-2/2027-07-07/
END:VEVENT
BEGIN:VEVENT
DTSTART;TZID=UTC:20270707T170000
DTEND;TZID=UTC:20270707T193000
DTSTAMP:20260422T014305
CREATED:20241102T142205Z
LAST-MODIFIED:20241102T142205Z
UID:25568-1814979600-1814988600@sfantuldumitrusuceava.ro
SUMMARY:Sfințirea Apei\, Acatistul Maicii Domnului ”Pantanassa”\, Taina Sfântului Maslu
DESCRIPTION:
URL:https://sfantuldumitrusuceava.ro/eveniment/sfintirea-apei-acatistul-maicii-domnului-pantanassa-taina-sfantului-maslu/2027-07-07/
END:VEVENT
BEGIN:VEVENT
DTSTART;TZID=UTC:20270708T080000
DTEND;TZID=UTC:20270708T093000
DTSTAMP:20260422T014305
CREATED:20241102T142240Z
LAST-MODIFIED:20241102T142240Z
UID:25569-1815033600-1815039000@sfantuldumitrusuceava.ro
SUMMARY:Sfânta Liturghie
DESCRIPTION:
URL:https://sfantuldumitrusuceava.ro/eveniment/sfanta-liturghie-3/2027-07-08/
END:VEVENT
BEGIN:VEVENT
DTSTART;TZID=UTC:20270709T080000
DTEND;TZID=UTC:20270709T120000
DTSTAMP:20260422T014305
CREATED:20241102T142355Z
LAST-MODIFIED:20241102T142355Z
UID:25570-1815120000-1815134400@sfantuldumitrusuceava.ro
SUMMARY:Utrenia\, Sfânta Liturghie\, Sfințirea Apei și Taina Sfântului Maslu
DESCRIPTION:
URL:https://sfantuldumitrusuceava.ro/eveniment/utrenia-sfanta-liturghie-sfintirea-apei-si-taina-sfantului-maslu/2027-07-09/
END:VEVENT
BEGIN:VEVENT
DTSTART;TZID=UTC:20270710T080000
DTEND;TZID=UTC:20270710T093000
DTSTAMP:20260422T014305
CREATED:20241102T142433Z
LAST-MODIFIED:20241102T142433Z
UID:25571-1815206400-1815211800@sfantuldumitrusuceava.ro
SUMMARY:Sfânta Liturghie și Spovedanie
DESCRIPTION:
URL:https://sfantuldumitrusuceava.ro/eveniment/sfanta-liturghie-si-spovedanie/2027-07-10/
END:VEVENT
BEGIN:VEVENT
DTSTART;TZID=UTC:20270710T103000
DTEND;TZID=UTC:20270710T110000
DTSTAMP:20260422T014305
CREATED:20241102T142519Z
LAST-MODIFIED:20241102T142519Z
UID:25572-1815215400-1815217200@sfantuldumitrusuceava.ro
SUMMARY:Pomenirea celor adormiți (Parastas)
DESCRIPTION:
URL:https://sfantuldumitrusuceava.ro/eveniment/pomenirea-celor-adormiti-parastas/2027-07-10/
END:VEVENT
BEGIN:VEVENT
DTSTART;TZID=Europe/Helsinki:20270711T080000
DTEND;TZID=Europe/Helsinki:20270711T120000
DTSTAMP:20260422T014305
CREATED:20241102T100818Z
LAST-MODIFIED:20241102T100818Z
UID:25573-1815292800-1815307200@sfantuldumitrusuceava.ro
SUMMARY:Utrenia\, Acatistul și Sfânta Liturghie
DESCRIPTION:
URL:https://sfantuldumitrusuceava.ro/eveniment/duminica/2027-07-11/
END:VEVENT
BEGIN:VEVENT
DTSTART;TZID=UTC:20270712T070000
DTEND;TZID=UTC:20270712T090000
DTSTAMP:20260422T014305
CREATED:20241102T141909Z
LAST-MODIFIED:20241102T141909Z
UID:25575-1815375600-1815382800@sfantuldumitrusuceava.ro
SUMMARY:Program de curățenie si Audiențe
DESCRIPTION:
URL:https://sfantuldumitrusuceava.ro/eveniment/program-de-curatenie-si-audiente-2/2027-07-12/
END:VEVENT
BEGIN:VEVENT
DTSTART;TZID=UTC:20270712T090000
DTEND;TZID=UTC:20270712T103000
DTSTAMP:20260422T014305
CREATED:20241102T141724Z
LAST-MODIFIED:20241102T141724Z
UID:25574-1815382800-1815388200@sfantuldumitrusuceava.ro
SUMMARY:Sfânta Liturghie
DESCRIPTION:
URL:https://sfantuldumitrusuceava.ro/eveniment/program-de-curatenie-si-audiente/2027-07-12/
END:VEVENT
BEGIN:VEVENT
DTSTART;TZID=UTC:20270713T080000
DTEND;TZID=UTC:20270713T093000
DTSTAMP:20260422T014305
CREATED:20241102T141955Z
LAST-MODIFIED:20241102T141955Z
UID:25576-1815465600-1815471000@sfantuldumitrusuceava.ro
SUMMARY:Sfânta Liturghie
DESCRIPTION:
URL:https://sfantuldumitrusuceava.ro/eveniment/sfanta-liturghie/2027-07-13/
END:VEVENT
BEGIN:VEVENT
DTSTART;TZID=UTC:20270714T080000
DTEND;TZID=UTC:20270714T093000
DTSTAMP:20260422T014305
CREATED:20241102T142044Z
LAST-MODIFIED:20241102T142044Z
UID:25577-1815552000-1815557400@sfantuldumitrusuceava.ro
SUMMARY:Sfânta Liturghie
DESCRIPTION:
URL:https://sfantuldumitrusuceava.ro/eveniment/sfanta-liturghie-2/2027-07-14/
END:VEVENT
BEGIN:VEVENT
DTSTART;TZID=UTC:20270714T170000
DTEND;TZID=UTC:20270714T193000
DTSTAMP:20260422T014305
CREATED:20241102T142205Z
LAST-MODIFIED:20241102T142205Z
UID:25578-1815584400-1815593400@sfantuldumitrusuceava.ro
SUMMARY:Sfințirea Apei\, Acatistul Maicii Domnului ”Pantanassa”\, Taina Sfântului Maslu
DESCRIPTION:
URL:https://sfantuldumitrusuceava.ro/eveniment/sfintirea-apei-acatistul-maicii-domnului-pantanassa-taina-sfantului-maslu/2027-07-14/
END:VEVENT
BEGIN:VEVENT
DTSTART;TZID=UTC:20270715T080000
DTEND;TZID=UTC:20270715T093000
DTSTAMP:20260422T014305
CREATED:20241102T142240Z
LAST-MODIFIED:20241102T142240Z
UID:25579-1815638400-1815643800@sfantuldumitrusuceava.ro
SUMMARY:Sfânta Liturghie
DESCRIPTION:
URL:https://sfantuldumitrusuceava.ro/eveniment/sfanta-liturghie-3/2027-07-15/
END:VEVENT
BEGIN:VEVENT
DTSTART;TZID=UTC:20270716T080000
DTEND;TZID=UTC:20270716T120000
DTSTAMP:20260422T014305
CREATED:20241102T142355Z
LAST-MODIFIED:20241102T142355Z
UID:25580-1815724800-1815739200@sfantuldumitrusuceava.ro
SUMMARY:Utrenia\, Sfânta Liturghie\, Sfințirea Apei și Taina Sfântului Maslu
DESCRIPTION:
URL:https://sfantuldumitrusuceava.ro/eveniment/utrenia-sfanta-liturghie-sfintirea-apei-si-taina-sfantului-maslu/2027-07-16/
END:VEVENT
BEGIN:VEVENT
DTSTART;TZID=UTC:20270717T080000
DTEND;TZID=UTC:20270717T093000
DTSTAMP:20260422T014305
CREATED:20241102T142433Z
LAST-MODIFIED:20241102T142433Z
UID:25581-1815811200-1815816600@sfantuldumitrusuceava.ro
SUMMARY:Sfânta Liturghie și Spovedanie
DESCRIPTION:
URL:https://sfantuldumitrusuceava.ro/eveniment/sfanta-liturghie-si-spovedanie/2027-07-17/
END:VEVENT
BEGIN:VEVENT
DTSTART;TZID=UTC:20270717T103000
DTEND;TZID=UTC:20270717T110000
DTSTAMP:20260422T014305
CREATED:20241102T142519Z
LAST-MODIFIED:20241102T142519Z
UID:25582-1815820200-1815822000@sfantuldumitrusuceava.ro
SUMMARY:Pomenirea celor adormiți (Parastas)
DESCRIPTION:
URL:https://sfantuldumitrusuceava.ro/eveniment/pomenirea-celor-adormiti-parastas/2027-07-17/
END:VEVENT
BEGIN:VEVENT
DTSTART;TZID=Europe/Helsinki:20270718T080000
DTEND;TZID=Europe/Helsinki:20270718T120000
DTSTAMP:20260422T014305
CREATED:20241102T100818Z
LAST-MODIFIED:20241102T100818Z
UID:25583-1815897600-1815912000@sfantuldumitrusuceava.ro
SUMMARY:Utrenia\, Acatistul și Sfânta Liturghie
DESCRIPTION:
URL:https://sfantuldumitrusuceava.ro/eveniment/duminica/2027-07-18/
END:VEVENT
BEGIN:VEVENT
DTSTART;TZID=UTC:20270719T070000
DTEND;TZID=UTC:20270719T090000
DTSTAMP:20260422T014305
CREATED:20241102T141909Z
LAST-MODIFIED:20241102T141909Z
UID:25585-1815980400-1815987600@sfantuldumitrusuceava.ro
SUMMARY:Program de curățenie si Audiențe
DESCRIPTION:
URL:https://sfantuldumitrusuceava.ro/eveniment/program-de-curatenie-si-audiente-2/2027-07-19/
END:VEVENT
BEGIN:VEVENT
DTSTART;TZID=UTC:20270719T090000
DTEND;TZID=UTC:20270719T103000
DTSTAMP:20260422T014305
CREATED:20241102T141724Z
LAST-MODIFIED:20241102T141724Z
UID:25584-1815987600-1815993000@sfantuldumitrusuceava.ro
SUMMARY:Sfânta Liturghie
DESCRIPTION:
URL:https://sfantuldumitrusuceava.ro/eveniment/program-de-curatenie-si-audiente/2027-07-19/
END:VEVENT
BEGIN:VEVENT
DTSTART;TZID=UTC:20270720T080000
DTEND;TZID=UTC:20270720T093000
DTSTAMP:20260422T014305
CREATED:20241102T141955Z
LAST-MODIFIED:20241102T141955Z
UID:25586-1816070400-1816075800@sfantuldumitrusuceava.ro
SUMMARY:Sfânta Liturghie
DESCRIPTION:
URL:https://sfantuldumitrusuceava.ro/eveniment/sfanta-liturghie/2027-07-20/
END:VEVENT
BEGIN:VEVENT
DTSTART;TZID=UTC:20270721T080000
DTEND;TZID=UTC:20270721T093000
DTSTAMP:20260422T014305
CREATED:20241102T142044Z
LAST-MODIFIED:20241102T142044Z
UID:25587-1816156800-1816162200@sfantuldumitrusuceava.ro
SUMMARY:Sfânta Liturghie
DESCRIPTION:
URL:https://sfantuldumitrusuceava.ro/eveniment/sfanta-liturghie-2/2027-07-21/
END:VEVENT
BEGIN:VEVENT
DTSTART;TZID=UTC:20270721T170000
DTEND;TZID=UTC:20270721T193000
DTSTAMP:20260422T014305
CREATED:20241102T142205Z
LAST-MODIFIED:20241102T142205Z
UID:25588-1816189200-1816198200@sfantuldumitrusuceava.ro
SUMMARY:Sfințirea Apei\, Acatistul Maicii Domnului ”Pantanassa”\, Taina Sfântului Maslu
DESCRIPTION:
URL:https://sfantuldumitrusuceava.ro/eveniment/sfintirea-apei-acatistul-maicii-domnului-pantanassa-taina-sfantului-maslu/2027-07-21/
END:VEVENT
BEGIN:VEVENT
DTSTART;TZID=UTC:20270722T080000
DTEND;TZID=UTC:20270722T093000
DTSTAMP:20260422T014305
CREATED:20241102T142240Z
LAST-MODIFIED:20241102T142240Z
UID:25589-1816243200-1816248600@sfantuldumitrusuceava.ro
SUMMARY:Sfânta Liturghie
DESCRIPTION:
URL:https://sfantuldumitrusuceava.ro/eveniment/sfanta-liturghie-3/2027-07-22/
END:VEVENT
BEGIN:VEVENT
DTSTART;TZID=UTC:20270723T080000
DTEND;TZID=UTC:20270723T120000
DTSTAMP:20260422T014305
CREATED:20241102T142355Z
LAST-MODIFIED:20241102T142355Z
UID:25590-1816329600-1816344000@sfantuldumitrusuceava.ro
SUMMARY:Utrenia\, Sfânta Liturghie\, Sfințirea Apei și Taina Sfântului Maslu
DESCRIPTION:
URL:https://sfantuldumitrusuceava.ro/eveniment/utrenia-sfanta-liturghie-sfintirea-apei-si-taina-sfantului-maslu/2027-07-23/
END:VEVENT
BEGIN:VEVENT
DTSTART;TZID=UTC:20270724T080000
DTEND;TZID=UTC:20270724T093000
DTSTAMP:20260422T014305
CREATED:20241102T142433Z
LAST-MODIFIED:20241102T142433Z
UID:25591-1816416000-1816421400@sfantuldumitrusuceava.ro
SUMMARY:Sfânta Liturghie și Spovedanie
DESCRIPTION:
URL:https://sfantuldumitrusuceava.ro/eveniment/sfanta-liturghie-si-spovedanie/2027-07-24/
END:VEVENT
BEGIN:VEVENT
DTSTART;TZID=UTC:20270724T103000
DTEND;TZID=UTC:20270724T110000
DTSTAMP:20260422T014305
CREATED:20241102T142519Z
LAST-MODIFIED:20241102T142519Z
UID:25592-1816425000-1816426800@sfantuldumitrusuceava.ro
SUMMARY:Pomenirea celor adormiți (Parastas)
DESCRIPTION:
URL:https://sfantuldumitrusuceava.ro/eveniment/pomenirea-celor-adormiti-parastas/2027-07-24/
END:VEVENT
BEGIN:VEVENT
DTSTART;TZID=Europe/Helsinki:20270725T080000
DTEND;TZID=Europe/Helsinki:20270725T120000
DTSTAMP:20260422T014305
CREATED:20241102T100818Z
LAST-MODIFIED:20241102T100818Z
UID:25593-1816502400-1816516800@sfantuldumitrusuceava.ro
SUMMARY:Utrenia\, Acatistul și Sfânta Liturghie
DESCRIPTION:
URL:https://sfantuldumitrusuceava.ro/eveniment/duminica/2027-07-25/
END:VEVENT
BEGIN:VEVENT
DTSTART;TZID=UTC:20270726T070000
DTEND;TZID=UTC:20270726T090000
DTSTAMP:20260422T014305
CREATED:20241102T141909Z
LAST-MODIFIED:20241102T141909Z
UID:25595-1816585200-1816592400@sfantuldumitrusuceava.ro
SUMMARY:Program de curățenie si Audiențe
DESCRIPTION:
URL:https://sfantuldumitrusuceava.ro/eveniment/program-de-curatenie-si-audiente-2/2027-07-26/
END:VEVENT
BEGIN:VEVENT
DTSTART;TZID=UTC:20270726T090000
DTEND;TZID=UTC:20270726T103000
DTSTAMP:20260422T014305
CREATED:20241102T141724Z
LAST-MODIFIED:20241102T141724Z
UID:25594-1816592400-1816597800@sfantuldumitrusuceava.ro
SUMMARY:Sfânta Liturghie
DESCRIPTION:
URL:https://sfantuldumitrusuceava.ro/eveniment/program-de-curatenie-si-audiente/2027-07-26/
END:VEVENT
END:VCALENDAR