BEGIN:VCALENDAR
VERSION:2.0
PRODID:-//Parohia Sfântul Dumitru Suceava - ECPv6.8.0//NONSGML v1.0//EN
CALSCALE:GREGORIAN
METHOD:PUBLISH
X-WR-CALNAME:Parohia Sfântul Dumitru Suceava
X-ORIGINAL-URL:https://sfantuldumitrusuceava.ro
X-WR-CALDESC:Events for Parohia Sfântul Dumitru Suceava
REFRESH-INTERVAL;VALUE=DURATION:PT1H
X-Robots-Tag:noindex
X-PUBLISHED-TTL:PT1H
BEGIN:VTIMEZONE
TZID:UTC
BEGIN:STANDARD
TZOFFSETFROM:+0000
TZOFFSETTO:+0000
TZNAME:UTC
DTSTART:20270101T000000
END:STANDARD
TZID:Europe/Helsinki
BEGIN:DAYLIGHT
TZOFFSETFROM:+0200
TZOFFSETTO:+0300
TZNAME:EEST
DTSTART:20270328T010000
END:DAYLIGHT
BEGIN:STANDARD
TZOFFSETFROM:+0300
TZOFFSETTO:+0200
TZNAME:EET
DTSTART:20271031T010000
END:STANDARD
END:VTIMEZONE
BEGIN:VEVENT
DTSTART;TZID=UTC:20270130T103000
DTEND;TZID=UTC:20270130T110000
DTSTAMP:20260420T052759
CREATED:20241102T142519Z
LAST-MODIFIED:20241102T142519Z
UID:25342-1801305000-1801306800@sfantuldumitrusuceava.ro
SUMMARY:Pomenirea celor adormiți (Parastas)
DESCRIPTION:
URL:https://sfantuldumitrusuceava.ro/eveniment/pomenirea-celor-adormiti-parastas/2027-01-30/
END:VEVENT
BEGIN:VEVENT
DTSTART;TZID=Europe/Helsinki:20270131T080000
DTEND;TZID=Europe/Helsinki:20270131T120000
DTSTAMP:20260420T052759
CREATED:20241102T100818Z
LAST-MODIFIED:20241102T100818Z
UID:25343-1801382400-1801396800@sfantuldumitrusuceava.ro
SUMMARY:Utrenia\, Acatistul și Sfânta Liturghie
DESCRIPTION:
URL:https://sfantuldumitrusuceava.ro/eveniment/duminica/2027-01-31/
END:VEVENT
BEGIN:VEVENT
DTSTART;TZID=UTC:20270201T070000
DTEND;TZID=UTC:20270201T090000
DTSTAMP:20260420T052759
CREATED:20241102T141909Z
LAST-MODIFIED:20241102T141909Z
UID:25345-1801465200-1801472400@sfantuldumitrusuceava.ro
SUMMARY:Program de curățenie si Audiențe
DESCRIPTION:
URL:https://sfantuldumitrusuceava.ro/eveniment/program-de-curatenie-si-audiente-2/2027-02-01/
END:VEVENT
BEGIN:VEVENT
DTSTART;TZID=UTC:20270201T090000
DTEND;TZID=UTC:20270201T103000
DTSTAMP:20260420T052759
CREATED:20241102T141724Z
LAST-MODIFIED:20241102T141724Z
UID:25344-1801472400-1801477800@sfantuldumitrusuceava.ro
SUMMARY:Sfânta Liturghie
DESCRIPTION:
URL:https://sfantuldumitrusuceava.ro/eveniment/program-de-curatenie-si-audiente/2027-02-01/
END:VEVENT
BEGIN:VEVENT
DTSTART;TZID=UTC:20270202T080000
DTEND;TZID=UTC:20270202T093000
DTSTAMP:20260420T052759
CREATED:20241102T141955Z
LAST-MODIFIED:20241102T141955Z
UID:25346-1801555200-1801560600@sfantuldumitrusuceava.ro
SUMMARY:Sfânta Liturghie
DESCRIPTION:
URL:https://sfantuldumitrusuceava.ro/eveniment/sfanta-liturghie/2027-02-02/
END:VEVENT
BEGIN:VEVENT
DTSTART;TZID=UTC:20270203T080000
DTEND;TZID=UTC:20270203T093000
DTSTAMP:20260420T052759
CREATED:20241102T142044Z
LAST-MODIFIED:20241102T142044Z
UID:25347-1801641600-1801647000@sfantuldumitrusuceava.ro
SUMMARY:Sfânta Liturghie
DESCRIPTION:
URL:https://sfantuldumitrusuceava.ro/eveniment/sfanta-liturghie-2/2027-02-03/
END:VEVENT
BEGIN:VEVENT
DTSTART;TZID=UTC:20270203T170000
DTEND;TZID=UTC:20270203T193000
DTSTAMP:20260420T052759
CREATED:20241102T142205Z
LAST-MODIFIED:20241102T142205Z
UID:25348-1801674000-1801683000@sfantuldumitrusuceava.ro
SUMMARY:Sfințirea Apei\, Acatistul Maicii Domnului ”Pantanassa”\, Taina Sfântului Maslu
DESCRIPTION:
URL:https://sfantuldumitrusuceava.ro/eveniment/sfintirea-apei-acatistul-maicii-domnului-pantanassa-taina-sfantului-maslu/2027-02-03/
END:VEVENT
BEGIN:VEVENT
DTSTART;TZID=UTC:20270204T080000
DTEND;TZID=UTC:20270204T093000
DTSTAMP:20260420T052759
CREATED:20241102T142240Z
LAST-MODIFIED:20241102T142240Z
UID:25349-1801728000-1801733400@sfantuldumitrusuceava.ro
SUMMARY:Sfânta Liturghie
DESCRIPTION:
URL:https://sfantuldumitrusuceava.ro/eveniment/sfanta-liturghie-3/2027-02-04/
END:VEVENT
BEGIN:VEVENT
DTSTART;TZID=UTC:20270205T080000
DTEND;TZID=UTC:20270205T120000
DTSTAMP:20260420T052759
CREATED:20241102T142355Z
LAST-MODIFIED:20241102T142355Z
UID:25350-1801814400-1801828800@sfantuldumitrusuceava.ro
SUMMARY:Utrenia\, Sfânta Liturghie\, Sfințirea Apei și Taina Sfântului Maslu
DESCRIPTION:
URL:https://sfantuldumitrusuceava.ro/eveniment/utrenia-sfanta-liturghie-sfintirea-apei-si-taina-sfantului-maslu/2027-02-05/
END:VEVENT
BEGIN:VEVENT
DTSTART;TZID=UTC:20270206T080000
DTEND;TZID=UTC:20270206T093000
DTSTAMP:20260420T052759
CREATED:20241102T142433Z
LAST-MODIFIED:20241102T142433Z
UID:25351-1801900800-1801906200@sfantuldumitrusuceava.ro
SUMMARY:Sfânta Liturghie și Spovedanie
DESCRIPTION:
URL:https://sfantuldumitrusuceava.ro/eveniment/sfanta-liturghie-si-spovedanie/2027-02-06/
END:VEVENT
BEGIN:VEVENT
DTSTART;TZID=UTC:20270206T103000
DTEND;TZID=UTC:20270206T110000
DTSTAMP:20260420T052759
CREATED:20241102T142519Z
LAST-MODIFIED:20241102T142519Z
UID:25352-1801909800-1801911600@sfantuldumitrusuceava.ro
SUMMARY:Pomenirea celor adormiți (Parastas)
DESCRIPTION:
URL:https://sfantuldumitrusuceava.ro/eveniment/pomenirea-celor-adormiti-parastas/2027-02-06/
END:VEVENT
BEGIN:VEVENT
DTSTART;TZID=Europe/Helsinki:20270207T080000
DTEND;TZID=Europe/Helsinki:20270207T120000
DTSTAMP:20260420T052759
CREATED:20241102T100818Z
LAST-MODIFIED:20241102T100818Z
UID:25353-1801987200-1802001600@sfantuldumitrusuceava.ro
SUMMARY:Utrenia\, Acatistul și Sfânta Liturghie
DESCRIPTION:
URL:https://sfantuldumitrusuceava.ro/eveniment/duminica/2027-02-07/
END:VEVENT
BEGIN:VEVENT
DTSTART;TZID=UTC:20270208T070000
DTEND;TZID=UTC:20270208T090000
DTSTAMP:20260420T052759
CREATED:20241102T141909Z
LAST-MODIFIED:20241102T141909Z
UID:25355-1802070000-1802077200@sfantuldumitrusuceava.ro
SUMMARY:Program de curățenie si Audiențe
DESCRIPTION:
URL:https://sfantuldumitrusuceava.ro/eveniment/program-de-curatenie-si-audiente-2/2027-02-08/
END:VEVENT
BEGIN:VEVENT
DTSTART;TZID=UTC:20270208T090000
DTEND;TZID=UTC:20270208T103000
DTSTAMP:20260420T052759
CREATED:20241102T141724Z
LAST-MODIFIED:20241102T141724Z
UID:25354-1802077200-1802082600@sfantuldumitrusuceava.ro
SUMMARY:Sfânta Liturghie
DESCRIPTION:
URL:https://sfantuldumitrusuceava.ro/eveniment/program-de-curatenie-si-audiente/2027-02-08/
END:VEVENT
BEGIN:VEVENT
DTSTART;TZID=UTC:20270209T080000
DTEND;TZID=UTC:20270209T093000
DTSTAMP:20260420T052759
CREATED:20241102T141955Z
LAST-MODIFIED:20241102T141955Z
UID:25356-1802160000-1802165400@sfantuldumitrusuceava.ro
SUMMARY:Sfânta Liturghie
DESCRIPTION:
URL:https://sfantuldumitrusuceava.ro/eveniment/sfanta-liturghie/2027-02-09/
END:VEVENT
BEGIN:VEVENT
DTSTART;TZID=UTC:20270210T080000
DTEND;TZID=UTC:20270210T093000
DTSTAMP:20260420T052759
CREATED:20241102T142044Z
LAST-MODIFIED:20241102T142044Z
UID:25357-1802246400-1802251800@sfantuldumitrusuceava.ro
SUMMARY:Sfânta Liturghie
DESCRIPTION:
URL:https://sfantuldumitrusuceava.ro/eveniment/sfanta-liturghie-2/2027-02-10/
END:VEVENT
BEGIN:VEVENT
DTSTART;TZID=UTC:20270210T170000
DTEND;TZID=UTC:20270210T193000
DTSTAMP:20260420T052759
CREATED:20241102T142205Z
LAST-MODIFIED:20241102T142205Z
UID:25358-1802278800-1802287800@sfantuldumitrusuceava.ro
SUMMARY:Sfințirea Apei\, Acatistul Maicii Domnului ”Pantanassa”\, Taina Sfântului Maslu
DESCRIPTION:
URL:https://sfantuldumitrusuceava.ro/eveniment/sfintirea-apei-acatistul-maicii-domnului-pantanassa-taina-sfantului-maslu/2027-02-10/
END:VEVENT
BEGIN:VEVENT
DTSTART;TZID=UTC:20270211T080000
DTEND;TZID=UTC:20270211T093000
DTSTAMP:20260420T052759
CREATED:20241102T142240Z
LAST-MODIFIED:20241102T142240Z
UID:25359-1802332800-1802338200@sfantuldumitrusuceava.ro
SUMMARY:Sfânta Liturghie
DESCRIPTION:
URL:https://sfantuldumitrusuceava.ro/eveniment/sfanta-liturghie-3/2027-02-11/
END:VEVENT
BEGIN:VEVENT
DTSTART;TZID=UTC:20270212T080000
DTEND;TZID=UTC:20270212T120000
DTSTAMP:20260420T052759
CREATED:20241102T142355Z
LAST-MODIFIED:20241102T142355Z
UID:25360-1802419200-1802433600@sfantuldumitrusuceava.ro
SUMMARY:Utrenia\, Sfânta Liturghie\, Sfințirea Apei și Taina Sfântului Maslu
DESCRIPTION:
URL:https://sfantuldumitrusuceava.ro/eveniment/utrenia-sfanta-liturghie-sfintirea-apei-si-taina-sfantului-maslu/2027-02-12/
END:VEVENT
BEGIN:VEVENT
DTSTART;TZID=UTC:20270213T080000
DTEND;TZID=UTC:20270213T093000
DTSTAMP:20260420T052759
CREATED:20241102T142433Z
LAST-MODIFIED:20241102T142433Z
UID:25361-1802505600-1802511000@sfantuldumitrusuceava.ro
SUMMARY:Sfânta Liturghie și Spovedanie
DESCRIPTION:
URL:https://sfantuldumitrusuceava.ro/eveniment/sfanta-liturghie-si-spovedanie/2027-02-13/
END:VEVENT
BEGIN:VEVENT
DTSTART;TZID=UTC:20270213T103000
DTEND;TZID=UTC:20270213T110000
DTSTAMP:20260420T052759
CREATED:20241102T142519Z
LAST-MODIFIED:20241102T142519Z
UID:25362-1802514600-1802516400@sfantuldumitrusuceava.ro
SUMMARY:Pomenirea celor adormiți (Parastas)
DESCRIPTION:
URL:https://sfantuldumitrusuceava.ro/eveniment/pomenirea-celor-adormiti-parastas/2027-02-13/
END:VEVENT
BEGIN:VEVENT
DTSTART;TZID=Europe/Helsinki:20270214T080000
DTEND;TZID=Europe/Helsinki:20270214T120000
DTSTAMP:20260420T052759
CREATED:20241102T100818Z
LAST-MODIFIED:20241102T100818Z
UID:25363-1802592000-1802606400@sfantuldumitrusuceava.ro
SUMMARY:Utrenia\, Acatistul și Sfânta Liturghie
DESCRIPTION:
URL:https://sfantuldumitrusuceava.ro/eveniment/duminica/2027-02-14/
END:VEVENT
BEGIN:VEVENT
DTSTART;TZID=UTC:20270215T070000
DTEND;TZID=UTC:20270215T090000
DTSTAMP:20260420T052759
CREATED:20241102T141909Z
LAST-MODIFIED:20241102T141909Z
UID:25365-1802674800-1802682000@sfantuldumitrusuceava.ro
SUMMARY:Program de curățenie si Audiențe
DESCRIPTION:
URL:https://sfantuldumitrusuceava.ro/eveniment/program-de-curatenie-si-audiente-2/2027-02-15/
END:VEVENT
BEGIN:VEVENT
DTSTART;TZID=UTC:20270215T090000
DTEND;TZID=UTC:20270215T103000
DTSTAMP:20260420T052759
CREATED:20241102T141724Z
LAST-MODIFIED:20241102T141724Z
UID:25364-1802682000-1802687400@sfantuldumitrusuceava.ro
SUMMARY:Sfânta Liturghie
DESCRIPTION:
URL:https://sfantuldumitrusuceava.ro/eveniment/program-de-curatenie-si-audiente/2027-02-15/
END:VEVENT
BEGIN:VEVENT
DTSTART;TZID=UTC:20270216T080000
DTEND;TZID=UTC:20270216T093000
DTSTAMP:20260420T052759
CREATED:20241102T141955Z
LAST-MODIFIED:20241102T141955Z
UID:25366-1802764800-1802770200@sfantuldumitrusuceava.ro
SUMMARY:Sfânta Liturghie
DESCRIPTION:
URL:https://sfantuldumitrusuceava.ro/eveniment/sfanta-liturghie/2027-02-16/
END:VEVENT
BEGIN:VEVENT
DTSTART;TZID=UTC:20270217T080000
DTEND;TZID=UTC:20270217T093000
DTSTAMP:20260420T052759
CREATED:20241102T142044Z
LAST-MODIFIED:20241102T142044Z
UID:25367-1802851200-1802856600@sfantuldumitrusuceava.ro
SUMMARY:Sfânta Liturghie
DESCRIPTION:
URL:https://sfantuldumitrusuceava.ro/eveniment/sfanta-liturghie-2/2027-02-17/
END:VEVENT
BEGIN:VEVENT
DTSTART;TZID=UTC:20270217T170000
DTEND;TZID=UTC:20270217T193000
DTSTAMP:20260420T052759
CREATED:20241102T142205Z
LAST-MODIFIED:20241102T142205Z
UID:25368-1802883600-1802892600@sfantuldumitrusuceava.ro
SUMMARY:Sfințirea Apei\, Acatistul Maicii Domnului ”Pantanassa”\, Taina Sfântului Maslu
DESCRIPTION:
URL:https://sfantuldumitrusuceava.ro/eveniment/sfintirea-apei-acatistul-maicii-domnului-pantanassa-taina-sfantului-maslu/2027-02-17/
END:VEVENT
BEGIN:VEVENT
DTSTART;TZID=UTC:20270218T080000
DTEND;TZID=UTC:20270218T093000
DTSTAMP:20260420T052759
CREATED:20241102T142240Z
LAST-MODIFIED:20241102T142240Z
UID:25369-1802937600-1802943000@sfantuldumitrusuceava.ro
SUMMARY:Sfânta Liturghie
DESCRIPTION:
URL:https://sfantuldumitrusuceava.ro/eveniment/sfanta-liturghie-3/2027-02-18/
END:VEVENT
BEGIN:VEVENT
DTSTART;TZID=UTC:20270219T080000
DTEND;TZID=UTC:20270219T120000
DTSTAMP:20260420T052759
CREATED:20241102T142355Z
LAST-MODIFIED:20241102T142355Z
UID:25370-1803024000-1803038400@sfantuldumitrusuceava.ro
SUMMARY:Utrenia\, Sfânta Liturghie\, Sfințirea Apei și Taina Sfântului Maslu
DESCRIPTION:
URL:https://sfantuldumitrusuceava.ro/eveniment/utrenia-sfanta-liturghie-sfintirea-apei-si-taina-sfantului-maslu/2027-02-19/
END:VEVENT
BEGIN:VEVENT
DTSTART;TZID=UTC:20270220T080000
DTEND;TZID=UTC:20270220T093000
DTSTAMP:20260420T052759
CREATED:20241102T142433Z
LAST-MODIFIED:20241102T142433Z
UID:25371-1803110400-1803115800@sfantuldumitrusuceava.ro
SUMMARY:Sfânta Liturghie și Spovedanie
DESCRIPTION:
URL:https://sfantuldumitrusuceava.ro/eveniment/sfanta-liturghie-si-spovedanie/2027-02-20/
END:VEVENT
END:VCALENDAR