BEGIN:VCALENDAR
VERSION:2.0
PRODID:-//Parohia Sfântul Dumitru Suceava - ECPv6.8.0//NONSGML v1.0//EN
CALSCALE:GREGORIAN
METHOD:PUBLISH
X-WR-CALNAME:Parohia Sfântul Dumitru Suceava
X-ORIGINAL-URL:https://sfantuldumitrusuceava.ro
X-WR-CALDESC:Events for Parohia Sfântul Dumitru Suceava
REFRESH-INTERVAL;VALUE=DURATION:PT1H
X-Robots-Tag:noindex
X-PUBLISHED-TTL:PT1H
BEGIN:VTIMEZONE
TZID:Europe/Helsinki
BEGIN:DAYLIGHT
TZOFFSETFROM:+0200
TZOFFSETTO:+0300
TZNAME:EEST
DTSTART:20240331T010000
END:DAYLIGHT
BEGIN:STANDARD
TZOFFSETFROM:+0300
TZOFFSETTO:+0200
TZNAME:EET
DTSTART:20241027T010000
END:STANDARD
TZID:UTC
BEGIN:STANDARD
TZOFFSETFROM:+0000
TZOFFSETTO:+0000
TZNAME:UTC
DTSTART:20240101T000000
END:STANDARD
END:VTIMEZONE
BEGIN:VEVENT
DTSTART;TZID=Europe/Helsinki:20241229T080000
DTEND;TZID=Europe/Helsinki:20241229T120000
DTSTAMP:20260421T110450
CREATED:20241102T100818Z
LAST-MODIFIED:20241102T100818Z
UID:24301-1735459200-1735473600@sfantuldumitrusuceava.ro
SUMMARY:Utrenia\, Acatistul și Sfânta Liturghie
DESCRIPTION:
URL:https://sfantuldumitrusuceava.ro/eveniment/duminica/2024-12-29/
END:VEVENT
BEGIN:VEVENT
DTSTART;TZID=UTC:20241228T080000
DTEND;TZID=UTC:20241228T093000
DTSTAMP:20260421T110450
CREATED:20241102T142433Z
LAST-MODIFIED:20241102T142433Z
UID:24779-1735372800-1735378200@sfantuldumitrusuceava.ro
SUMMARY:Sfânta Liturghie și Spovedanie
DESCRIPTION:
URL:https://sfantuldumitrusuceava.ro/eveniment/sfanta-liturghie-si-spovedanie/2024-12-28/
END:VEVENT
BEGIN:VEVENT
DTSTART;TZID=UTC:20241227T080000
DTEND;TZID=UTC:20241227T120000
DTSTAMP:20260421T110450
CREATED:20241102T142355Z
LAST-MODIFIED:20241102T142355Z
UID:24756-1735286400-1735300800@sfantuldumitrusuceava.ro
SUMMARY:Utrenia\, Sfânta Liturghie\, Sfințirea Apei și Taina Sfântului Maslu
DESCRIPTION:
URL:https://sfantuldumitrusuceava.ro/eveniment/utrenia-sfanta-liturghie-sfintirea-apei-si-taina-sfantului-maslu/2024-12-27/
END:VEVENT
BEGIN:VEVENT
DTSTART;TZID=UTC:20241226T080000
DTEND;TZID=UTC:20241226T093000
DTSTAMP:20260421T110450
CREATED:20241102T142240Z
LAST-MODIFIED:20241102T142240Z
UID:24652-1735200000-1735205400@sfantuldumitrusuceava.ro
SUMMARY:Sfânta Liturghie
DESCRIPTION:
URL:https://sfantuldumitrusuceava.ro/eveniment/sfanta-liturghie-3/2024-12-26/
END:VEVENT
BEGIN:VEVENT
DTSTART;TZID=UTC:20241225T170000
DTEND;TZID=UTC:20241225T193000
DTSTAMP:20260421T110450
CREATED:20241102T142205Z
LAST-MODIFIED:20241102T142205Z
UID:24618-1735146000-1735155000@sfantuldumitrusuceava.ro
SUMMARY:Sfințirea Apei\, Acatistul Maicii Domnului ”Pantanassa”\, Taina Sfântului Maslu
DESCRIPTION:
URL:https://sfantuldumitrusuceava.ro/eveniment/sfintirea-apei-acatistul-maicii-domnului-pantanassa-taina-sfantului-maslu/2024-12-25/
END:VEVENT
BEGIN:VEVENT
DTSTART;TZID=UTC:20241225T080000
DTEND;TZID=UTC:20241225T093000
DTSTAMP:20260421T110450
CREATED:20241102T142044Z
LAST-MODIFIED:20241102T142044Z
UID:24579-1735113600-1735119000@sfantuldumitrusuceava.ro
SUMMARY:Sfânta Liturghie
DESCRIPTION:
URL:https://sfantuldumitrusuceava.ro/eveniment/sfanta-liturghie-2/2024-12-25/
END:VEVENT
BEGIN:VEVENT
DTSTART;TZID=UTC:20241224T080000
DTEND;TZID=UTC:20241224T093000
DTSTAMP:20260421T110450
CREATED:20241102T141955Z
LAST-MODIFIED:20241102T141955Z
UID:24556-1735027200-1735032600@sfantuldumitrusuceava.ro
SUMMARY:Sfânta Liturghie
DESCRIPTION:
URL:https://sfantuldumitrusuceava.ro/eveniment/sfanta-liturghie/2024-12-24/
END:VEVENT
BEGIN:VEVENT
DTSTART;TZID=UTC:20241223T090000
DTEND;TZID=UTC:20241223T103000
DTSTAMP:20260421T110450
CREATED:20241102T141724Z
LAST-MODIFIED:20241102T141724Z
UID:24443-1734944400-1734949800@sfantuldumitrusuceava.ro
SUMMARY:Sfânta Liturghie
DESCRIPTION:
URL:https://sfantuldumitrusuceava.ro/eveniment/program-de-curatenie-si-audiente/2024-12-23/
END:VEVENT
BEGIN:VEVENT
DTSTART;TZID=UTC:20241223T070000
DTEND;TZID=UTC:20241223T090000
DTSTAMP:20260421T110450
CREATED:20241102T141909Z
LAST-MODIFIED:20241102T141909Z
UID:24934-1734937200-1734944400@sfantuldumitrusuceava.ro
SUMMARY:Program de curățenie si Audiențe
DESCRIPTION:
URL:https://sfantuldumitrusuceava.ro/eveniment/program-de-curatenie-si-audiente-2/2024-12-23/
END:VEVENT
BEGIN:VEVENT
DTSTART;TZID=Europe/Helsinki:20241222T080000
DTEND;TZID=Europe/Helsinki:20241222T120000
DTSTAMP:20260421T110450
CREATED:20241102T100818Z
LAST-MODIFIED:20241102T100818Z
UID:24300-1734854400-1734868800@sfantuldumitrusuceava.ro
SUMMARY:Utrenia\, Acatistul și Sfânta Liturghie
DESCRIPTION:
URL:https://sfantuldumitrusuceava.ro/eveniment/duminica/2024-12-22/
END:VEVENT
BEGIN:VEVENT
DTSTART;TZID=UTC:20241221T080000
DTEND;TZID=UTC:20241221T093000
DTSTAMP:20260421T110450
CREATED:20241102T142433Z
LAST-MODIFIED:20241102T142433Z
UID:24778-1734768000-1734773400@sfantuldumitrusuceava.ro
SUMMARY:Sfânta Liturghie și Spovedanie
DESCRIPTION:
URL:https://sfantuldumitrusuceava.ro/eveniment/sfanta-liturghie-si-spovedanie/2024-12-21/
END:VEVENT
BEGIN:VEVENT
DTSTART;TZID=UTC:20241220T080000
DTEND;TZID=UTC:20241220T120000
DTSTAMP:20260421T110450
CREATED:20241102T142355Z
LAST-MODIFIED:20241102T142355Z
UID:24755-1734681600-1734696000@sfantuldumitrusuceava.ro
SUMMARY:Utrenia\, Sfânta Liturghie\, Sfințirea Apei și Taina Sfântului Maslu
DESCRIPTION:
URL:https://sfantuldumitrusuceava.ro/eveniment/utrenia-sfanta-liturghie-sfintirea-apei-si-taina-sfantului-maslu/2024-12-20/
END:VEVENT
BEGIN:VEVENT
DTSTART;TZID=UTC:20241219T080000
DTEND;TZID=UTC:20241219T093000
DTSTAMP:20260421T110450
CREATED:20241102T142240Z
LAST-MODIFIED:20241102T142240Z
UID:24651-1734595200-1734600600@sfantuldumitrusuceava.ro
SUMMARY:Sfânta Liturghie
DESCRIPTION:
URL:https://sfantuldumitrusuceava.ro/eveniment/sfanta-liturghie-3/2024-12-19/
END:VEVENT
BEGIN:VEVENT
DTSTART;TZID=UTC:20241218T170000
DTEND;TZID=UTC:20241218T193000
DTSTAMP:20260421T110450
CREATED:20241102T142205Z
LAST-MODIFIED:20241102T142205Z
UID:24617-1734541200-1734550200@sfantuldumitrusuceava.ro
SUMMARY:Sfințirea Apei\, Acatistul Maicii Domnului ”Pantanassa”\, Taina Sfântului Maslu
DESCRIPTION:
URL:https://sfantuldumitrusuceava.ro/eveniment/sfintirea-apei-acatistul-maicii-domnului-pantanassa-taina-sfantului-maslu/2024-12-18/
END:VEVENT
BEGIN:VEVENT
DTSTART;TZID=UTC:20241218T080000
DTEND;TZID=UTC:20241218T093000
DTSTAMP:20260421T110450
CREATED:20241102T142044Z
LAST-MODIFIED:20241102T142044Z
UID:24578-1734508800-1734514200@sfantuldumitrusuceava.ro
SUMMARY:Sfânta Liturghie
DESCRIPTION:
URL:https://sfantuldumitrusuceava.ro/eveniment/sfanta-liturghie-2/2024-12-18/
END:VEVENT
BEGIN:VEVENT
DTSTART;TZID=UTC:20241217T080000
DTEND;TZID=UTC:20241217T093000
DTSTAMP:20260421T110450
CREATED:20241102T141955Z
LAST-MODIFIED:20241102T141955Z
UID:24555-1734422400-1734427800@sfantuldumitrusuceava.ro
SUMMARY:Sfânta Liturghie
DESCRIPTION:
URL:https://sfantuldumitrusuceava.ro/eveniment/sfanta-liturghie/2024-12-17/
END:VEVENT
BEGIN:VEVENT
DTSTART;TZID=UTC:20241216T090000
DTEND;TZID=UTC:20241216T103000
DTSTAMP:20260421T110450
CREATED:20241102T141724Z
LAST-MODIFIED:20241102T141724Z
UID:24442-1734339600-1734345000@sfantuldumitrusuceava.ro
SUMMARY:Sfânta Liturghie
DESCRIPTION:
URL:https://sfantuldumitrusuceava.ro/eveniment/program-de-curatenie-si-audiente/2024-12-16/
END:VEVENT
BEGIN:VEVENT
DTSTART;TZID=UTC:20241216T070000
DTEND;TZID=UTC:20241216T090000
DTSTAMP:20260421T110450
CREATED:20241102T141909Z
LAST-MODIFIED:20241102T141909Z
UID:24933-1734332400-1734339600@sfantuldumitrusuceava.ro
SUMMARY:Program de curățenie si Audiențe
DESCRIPTION:
URL:https://sfantuldumitrusuceava.ro/eveniment/program-de-curatenie-si-audiente-2/2024-12-16/
END:VEVENT
BEGIN:VEVENT
DTSTART;TZID=Europe/Helsinki:20241215T080000
DTEND;TZID=Europe/Helsinki:20241215T120000
DTSTAMP:20260421T110450
CREATED:20241102T100818Z
LAST-MODIFIED:20241102T100818Z
UID:24299-1734249600-1734264000@sfantuldumitrusuceava.ro
SUMMARY:Utrenia\, Acatistul și Sfânta Liturghie
DESCRIPTION:
URL:https://sfantuldumitrusuceava.ro/eveniment/duminica/2024-12-15/
END:VEVENT
BEGIN:VEVENT
DTSTART;TZID=UTC:20241214T080000
DTEND;TZID=UTC:20241214T093000
DTSTAMP:20260421T110450
CREATED:20241102T142433Z
LAST-MODIFIED:20241102T142433Z
UID:24777-1734163200-1734168600@sfantuldumitrusuceava.ro
SUMMARY:Sfânta Liturghie și Spovedanie
DESCRIPTION:
URL:https://sfantuldumitrusuceava.ro/eveniment/sfanta-liturghie-si-spovedanie/2024-12-14/
END:VEVENT
BEGIN:VEVENT
DTSTART;TZID=UTC:20241213T080000
DTEND;TZID=UTC:20241213T120000
DTSTAMP:20260421T110450
CREATED:20241102T142355Z
LAST-MODIFIED:20241102T142355Z
UID:24754-1734076800-1734091200@sfantuldumitrusuceava.ro
SUMMARY:Utrenia\, Sfânta Liturghie\, Sfințirea Apei și Taina Sfântului Maslu
DESCRIPTION:
URL:https://sfantuldumitrusuceava.ro/eveniment/utrenia-sfanta-liturghie-sfintirea-apei-si-taina-sfantului-maslu/2024-12-13/
END:VEVENT
BEGIN:VEVENT
DTSTART;TZID=UTC:20241212T080000
DTEND;TZID=UTC:20241212T093000
DTSTAMP:20260421T110450
CREATED:20241102T142240Z
LAST-MODIFIED:20241102T142240Z
UID:24650-1733990400-1733995800@sfantuldumitrusuceava.ro
SUMMARY:Sfânta Liturghie
DESCRIPTION:
URL:https://sfantuldumitrusuceava.ro/eveniment/sfanta-liturghie-3/2024-12-12/
END:VEVENT
BEGIN:VEVENT
DTSTART;TZID=UTC:20241211T170000
DTEND;TZID=UTC:20241211T193000
DTSTAMP:20260421T110450
CREATED:20241102T142205Z
LAST-MODIFIED:20241102T142205Z
UID:24616-1733936400-1733945400@sfantuldumitrusuceava.ro
SUMMARY:Sfințirea Apei\, Acatistul Maicii Domnului ”Pantanassa”\, Taina Sfântului Maslu
DESCRIPTION:
URL:https://sfantuldumitrusuceava.ro/eveniment/sfintirea-apei-acatistul-maicii-domnului-pantanassa-taina-sfantului-maslu/2024-12-11/
END:VEVENT
BEGIN:VEVENT
DTSTART;TZID=UTC:20241211T080000
DTEND;TZID=UTC:20241211T093000
DTSTAMP:20260421T110450
CREATED:20241102T142044Z
LAST-MODIFIED:20241102T142044Z
UID:24577-1733904000-1733909400@sfantuldumitrusuceava.ro
SUMMARY:Sfânta Liturghie
DESCRIPTION:
URL:https://sfantuldumitrusuceava.ro/eveniment/sfanta-liturghie-2/2024-12-11/
END:VEVENT
BEGIN:VEVENT
DTSTART;TZID=UTC:20241210T080000
DTEND;TZID=UTC:20241210T093000
DTSTAMP:20260421T110450
CREATED:20241102T141955Z
LAST-MODIFIED:20241102T141955Z
UID:24554-1733817600-1733823000@sfantuldumitrusuceava.ro
SUMMARY:Sfânta Liturghie
DESCRIPTION:
URL:https://sfantuldumitrusuceava.ro/eveniment/sfanta-liturghie/2024-12-10/
END:VEVENT
BEGIN:VEVENT
DTSTART;TZID=UTC:20241209T090000
DTEND;TZID=UTC:20241209T103000
DTSTAMP:20260421T110450
CREATED:20241102T141724Z
LAST-MODIFIED:20241102T141724Z
UID:24441-1733734800-1733740200@sfantuldumitrusuceava.ro
SUMMARY:Sfânta Liturghie
DESCRIPTION:
URL:https://sfantuldumitrusuceava.ro/eveniment/program-de-curatenie-si-audiente/2024-12-09/
END:VEVENT
BEGIN:VEVENT
DTSTART;TZID=UTC:20241209T070000
DTEND;TZID=UTC:20241209T090000
DTSTAMP:20260421T110450
CREATED:20241102T141909Z
LAST-MODIFIED:20241102T141909Z
UID:24932-1733727600-1733734800@sfantuldumitrusuceava.ro
SUMMARY:Program de curățenie si Audiențe
DESCRIPTION:
URL:https://sfantuldumitrusuceava.ro/eveniment/program-de-curatenie-si-audiente-2/2024-12-09/
END:VEVENT
BEGIN:VEVENT
DTSTART;TZID=Europe/Helsinki:20241208T080000
DTEND;TZID=Europe/Helsinki:20241208T120000
DTSTAMP:20260421T110450
CREATED:20241102T100818Z
LAST-MODIFIED:20241102T100818Z
UID:24298-1733644800-1733659200@sfantuldumitrusuceava.ro
SUMMARY:Utrenia\, Acatistul și Sfânta Liturghie
DESCRIPTION:
URL:https://sfantuldumitrusuceava.ro/eveniment/duminica/2024-12-08/
END:VEVENT
BEGIN:VEVENT
DTSTART;TZID=UTC:20241207T080000
DTEND;TZID=UTC:20241207T093000
DTSTAMP:20260421T110450
CREATED:20241102T142433Z
LAST-MODIFIED:20241102T142433Z
UID:24776-1733558400-1733563800@sfantuldumitrusuceava.ro
SUMMARY:Sfânta Liturghie și Spovedanie
DESCRIPTION:
URL:https://sfantuldumitrusuceava.ro/eveniment/sfanta-liturghie-si-spovedanie/2024-12-07/
END:VEVENT
BEGIN:VEVENT
DTSTART;TZID=UTC:20241206T080000
DTEND;TZID=UTC:20241206T120000
DTSTAMP:20260421T110450
CREATED:20241102T142355Z
LAST-MODIFIED:20241102T142355Z
UID:24753-1733472000-1733486400@sfantuldumitrusuceava.ro
SUMMARY:Utrenia\, Sfânta Liturghie\, Sfințirea Apei și Taina Sfântului Maslu
DESCRIPTION:
URL:https://sfantuldumitrusuceava.ro/eveniment/utrenia-sfanta-liturghie-sfintirea-apei-si-taina-sfantului-maslu/2024-12-06/
END:VEVENT
END:VCALENDAR