BEGIN:VCALENDAR
VERSION:2.0
PRODID:-//Parohia Sfântul Dumitru Suceava - ECPv6.8.0//NONSGML v1.0//EN
CALSCALE:GREGORIAN
METHOD:PUBLISH
X-ORIGINAL-URL:https://sfantuldumitrusuceava.ro
X-WR-CALDESC:Events for Parohia Sfântul Dumitru Suceava
REFRESH-INTERVAL;VALUE=DURATION:PT1H
X-Robots-Tag:noindex
X-PUBLISHED-TTL:PT1H
BEGIN:VTIMEZONE
TZID:UTC
BEGIN:STANDARD
TZOFFSETFROM:+0000
TZOFFSETTO:+0000
TZNAME:UTC
DTSTART:20270101T000000
END:STANDARD
TZID:Europe/Helsinki
BEGIN:DAYLIGHT
TZOFFSETFROM:+0200
TZOFFSETTO:+0300
TZNAME:EEST
DTSTART:20270328T010000
END:DAYLIGHT
BEGIN:STANDARD
TZOFFSETFROM:+0300
TZOFFSETTO:+0200
TZNAME:EET
DTSTART:20271031T010000
END:STANDARD
END:VTIMEZONE
BEGIN:VEVENT
DTSTART;TZID=UTC:20270828T080000
DTEND;TZID=UTC:20270828T093000
DTSTAMP:20260422T224709
CREATED:20241102T142433Z
LAST-MODIFIED:20241102T142433Z
UID:25641-1819440000-1819445400@sfantuldumitrusuceava.ro
SUMMARY:Sfânta Liturghie și Spovedanie
DESCRIPTION:
URL:https://sfantuldumitrusuceava.ro/eveniment/sfanta-liturghie-si-spovedanie/2027-08-28/
END:VEVENT
BEGIN:VEVENT
DTSTART;TZID=UTC:20270828T103000
DTEND;TZID=UTC:20270828T110000
DTSTAMP:20260422T224709
CREATED:20241102T142519Z
LAST-MODIFIED:20241102T142519Z
UID:25642-1819449000-1819450800@sfantuldumitrusuceava.ro
SUMMARY:Pomenirea celor adormiți (Parastas)
DESCRIPTION:
URL:https://sfantuldumitrusuceava.ro/eveniment/pomenirea-celor-adormiti-parastas/2027-08-28/
END:VEVENT
BEGIN:VEVENT
DTSTART;TZID=Europe/Helsinki:20270829T080000
DTEND;TZID=Europe/Helsinki:20270829T120000
DTSTAMP:20260422T224709
CREATED:20241102T100818Z
LAST-MODIFIED:20241102T100818Z
UID:25643-1819526400-1819540800@sfantuldumitrusuceava.ro
SUMMARY:Utrenia\, Acatistul și Sfânta Liturghie
DESCRIPTION:
URL:https://sfantuldumitrusuceava.ro/eveniment/duminica/2027-08-29/
END:VEVENT
BEGIN:VEVENT
DTSTART;TZID=UTC:20270830T070000
DTEND;TZID=UTC:20270830T090000
DTSTAMP:20260422T224709
CREATED:20241102T141909Z
LAST-MODIFIED:20241102T141909Z
UID:25645-1819609200-1819616400@sfantuldumitrusuceava.ro
SUMMARY:Program de curățenie si Audiențe
DESCRIPTION:
URL:https://sfantuldumitrusuceava.ro/eveniment/program-de-curatenie-si-audiente-2/2027-08-30/
END:VEVENT
BEGIN:VEVENT
DTSTART;TZID=UTC:20270830T090000
DTEND;TZID=UTC:20270830T103000
DTSTAMP:20260422T224709
CREATED:20241102T141724Z
LAST-MODIFIED:20241102T141724Z
UID:25644-1819616400-1819621800@sfantuldumitrusuceava.ro
SUMMARY:Sfânta Liturghie
DESCRIPTION:
URL:https://sfantuldumitrusuceava.ro/eveniment/program-de-curatenie-si-audiente/2027-08-30/
END:VEVENT
BEGIN:VEVENT
DTSTART;TZID=UTC:20270831T080000
DTEND;TZID=UTC:20270831T093000
DTSTAMP:20260422T224709
CREATED:20241102T141955Z
LAST-MODIFIED:20241102T141955Z
UID:25646-1819699200-1819704600@sfantuldumitrusuceava.ro
SUMMARY:Sfânta Liturghie
DESCRIPTION:
URL:https://sfantuldumitrusuceava.ro/eveniment/sfanta-liturghie/2027-08-31/
END:VEVENT
BEGIN:VEVENT
DTSTART;TZID=UTC:20270901T080000
DTEND;TZID=UTC:20270901T093000
DTSTAMP:20260422T224709
CREATED:20241102T142044Z
LAST-MODIFIED:20241102T142044Z
UID:25647-1819785600-1819791000@sfantuldumitrusuceava.ro
SUMMARY:Sfânta Liturghie
DESCRIPTION:
URL:https://sfantuldumitrusuceava.ro/eveniment/sfanta-liturghie-2/2027-09-01/
END:VEVENT
BEGIN:VEVENT
DTSTART;TZID=UTC:20270901T170000
DTEND;TZID=UTC:20270901T193000
DTSTAMP:20260422T224709
CREATED:20241102T142205Z
LAST-MODIFIED:20241102T142205Z
UID:25648-1819818000-1819827000@sfantuldumitrusuceava.ro
SUMMARY:Sfințirea Apei\, Acatistul Maicii Domnului ”Pantanassa”\, Taina Sfântului Maslu
DESCRIPTION:
URL:https://sfantuldumitrusuceava.ro/eveniment/sfintirea-apei-acatistul-maicii-domnului-pantanassa-taina-sfantului-maslu/2027-09-01/
END:VEVENT
BEGIN:VEVENT
DTSTART;TZID=UTC:20270902T080000
DTEND;TZID=UTC:20270902T093000
DTSTAMP:20260422T224709
CREATED:20241102T142240Z
LAST-MODIFIED:20241102T142240Z
UID:25649-1819872000-1819877400@sfantuldumitrusuceava.ro
SUMMARY:Sfânta Liturghie
DESCRIPTION:
URL:https://sfantuldumitrusuceava.ro/eveniment/sfanta-liturghie-3/2027-09-02/
END:VEVENT
BEGIN:VEVENT
DTSTART;TZID=UTC:20270903T080000
DTEND;TZID=UTC:20270903T120000
DTSTAMP:20260422T224709
CREATED:20241102T142355Z
LAST-MODIFIED:20241102T142355Z
UID:25650-1819958400-1819972800@sfantuldumitrusuceava.ro
SUMMARY:Utrenia\, Sfânta Liturghie\, Sfințirea Apei și Taina Sfântului Maslu
DESCRIPTION:
URL:https://sfantuldumitrusuceava.ro/eveniment/utrenia-sfanta-liturghie-sfintirea-apei-si-taina-sfantului-maslu/2027-09-03/
END:VEVENT
BEGIN:VEVENT
DTSTART;TZID=UTC:20270904T080000
DTEND;TZID=UTC:20270904T093000
DTSTAMP:20260422T224709
CREATED:20241102T142433Z
LAST-MODIFIED:20241102T142433Z
UID:25651-1820044800-1820050200@sfantuldumitrusuceava.ro
SUMMARY:Sfânta Liturghie și Spovedanie
DESCRIPTION:
URL:https://sfantuldumitrusuceava.ro/eveniment/sfanta-liturghie-si-spovedanie/2027-09-04/
END:VEVENT
BEGIN:VEVENT
DTSTART;TZID=UTC:20270904T103000
DTEND;TZID=UTC:20270904T110000
DTSTAMP:20260422T224709
CREATED:20241102T142519Z
LAST-MODIFIED:20241102T142519Z
UID:25652-1820053800-1820055600@sfantuldumitrusuceava.ro
SUMMARY:Pomenirea celor adormiți (Parastas)
DESCRIPTION:
URL:https://sfantuldumitrusuceava.ro/eveniment/pomenirea-celor-adormiti-parastas/2027-09-04/
END:VEVENT
BEGIN:VEVENT
DTSTART;TZID=Europe/Helsinki:20270905T080000
DTEND;TZID=Europe/Helsinki:20270905T120000
DTSTAMP:20260422T224709
CREATED:20241102T100818Z
LAST-MODIFIED:20241102T100818Z
UID:25653-1820131200-1820145600@sfantuldumitrusuceava.ro
SUMMARY:Utrenia\, Acatistul și Sfânta Liturghie
DESCRIPTION:
URL:https://sfantuldumitrusuceava.ro/eveniment/duminica/2027-09-05/
END:VEVENT
BEGIN:VEVENT
DTSTART;TZID=UTC:20270906T070000
DTEND;TZID=UTC:20270906T090000
DTSTAMP:20260422T224709
CREATED:20241102T141909Z
LAST-MODIFIED:20241102T141909Z
UID:25655-1820214000-1820221200@sfantuldumitrusuceava.ro
SUMMARY:Program de curățenie si Audiențe
DESCRIPTION:
URL:https://sfantuldumitrusuceava.ro/eveniment/program-de-curatenie-si-audiente-2/2027-09-06/
END:VEVENT
BEGIN:VEVENT
DTSTART;TZID=UTC:20270906T090000
DTEND;TZID=UTC:20270906T103000
DTSTAMP:20260422T224709
CREATED:20241102T141724Z
LAST-MODIFIED:20241102T141724Z
UID:25654-1820221200-1820226600@sfantuldumitrusuceava.ro
SUMMARY:Sfânta Liturghie
DESCRIPTION:
URL:https://sfantuldumitrusuceava.ro/eveniment/program-de-curatenie-si-audiente/2027-09-06/
END:VEVENT
BEGIN:VEVENT
DTSTART;TZID=UTC:20270907T080000
DTEND;TZID=UTC:20270907T093000
DTSTAMP:20260422T224709
CREATED:20241102T141955Z
LAST-MODIFIED:20241102T141955Z
UID:25656-1820304000-1820309400@sfantuldumitrusuceava.ro
SUMMARY:Sfânta Liturghie
DESCRIPTION:
URL:https://sfantuldumitrusuceava.ro/eveniment/sfanta-liturghie/2027-09-07/
END:VEVENT
BEGIN:VEVENT
DTSTART;TZID=UTC:20270908T080000
DTEND;TZID=UTC:20270908T093000
DTSTAMP:20260422T224709
CREATED:20241102T142044Z
LAST-MODIFIED:20241102T142044Z
UID:25657-1820390400-1820395800@sfantuldumitrusuceava.ro
SUMMARY:Sfânta Liturghie
DESCRIPTION:
URL:https://sfantuldumitrusuceava.ro/eveniment/sfanta-liturghie-2/2027-09-08/
END:VEVENT
BEGIN:VEVENT
DTSTART;TZID=UTC:20270908T170000
DTEND;TZID=UTC:20270908T193000
DTSTAMP:20260422T224709
CREATED:20241102T142205Z
LAST-MODIFIED:20241102T142205Z
UID:25658-1820422800-1820431800@sfantuldumitrusuceava.ro
SUMMARY:Sfințirea Apei\, Acatistul Maicii Domnului ”Pantanassa”\, Taina Sfântului Maslu
DESCRIPTION:
URL:https://sfantuldumitrusuceava.ro/eveniment/sfintirea-apei-acatistul-maicii-domnului-pantanassa-taina-sfantului-maslu/2027-09-08/
END:VEVENT
BEGIN:VEVENT
DTSTART;TZID=UTC:20270909T080000
DTEND;TZID=UTC:20270909T093000
DTSTAMP:20260422T224709
CREATED:20241102T142240Z
LAST-MODIFIED:20241102T142240Z
UID:25659-1820476800-1820482200@sfantuldumitrusuceava.ro
SUMMARY:Sfânta Liturghie
DESCRIPTION:
URL:https://sfantuldumitrusuceava.ro/eveniment/sfanta-liturghie-3/2027-09-09/
END:VEVENT
BEGIN:VEVENT
DTSTART;TZID=UTC:20270910T080000
DTEND;TZID=UTC:20270910T120000
DTSTAMP:20260422T224709
CREATED:20241102T142355Z
LAST-MODIFIED:20241102T142355Z
UID:25660-1820563200-1820577600@sfantuldumitrusuceava.ro
SUMMARY:Utrenia\, Sfânta Liturghie\, Sfințirea Apei și Taina Sfântului Maslu
DESCRIPTION:
URL:https://sfantuldumitrusuceava.ro/eveniment/utrenia-sfanta-liturghie-sfintirea-apei-si-taina-sfantului-maslu/2027-09-10/
END:VEVENT
BEGIN:VEVENT
DTSTART;TZID=UTC:20270911T080000
DTEND;TZID=UTC:20270911T093000
DTSTAMP:20260422T224709
CREATED:20241102T142433Z
LAST-MODIFIED:20241102T142433Z
UID:25661-1820649600-1820655000@sfantuldumitrusuceava.ro
SUMMARY:Sfânta Liturghie și Spovedanie
DESCRIPTION:
URL:https://sfantuldumitrusuceava.ro/eveniment/sfanta-liturghie-si-spovedanie/2027-09-11/
END:VEVENT
BEGIN:VEVENT
DTSTART;TZID=UTC:20270911T103000
DTEND;TZID=UTC:20270911T110000
DTSTAMP:20260422T224709
CREATED:20241102T142519Z
LAST-MODIFIED:20241102T142519Z
UID:25662-1820658600-1820660400@sfantuldumitrusuceava.ro
SUMMARY:Pomenirea celor adormiți (Parastas)
DESCRIPTION:
URL:https://sfantuldumitrusuceava.ro/eveniment/pomenirea-celor-adormiti-parastas/2027-09-11/
END:VEVENT
BEGIN:VEVENT
DTSTART;TZID=Europe/Helsinki:20270912T080000
DTEND;TZID=Europe/Helsinki:20270912T120000
DTSTAMP:20260422T224709
CREATED:20241102T100818Z
LAST-MODIFIED:20241102T100818Z
UID:25663-1820736000-1820750400@sfantuldumitrusuceava.ro
SUMMARY:Utrenia\, Acatistul și Sfânta Liturghie
DESCRIPTION:
URL:https://sfantuldumitrusuceava.ro/eveniment/duminica/2027-09-12/
END:VEVENT
BEGIN:VEVENT
DTSTART;TZID=UTC:20270913T070000
DTEND;TZID=UTC:20270913T090000
DTSTAMP:20260422T224709
CREATED:20241102T141909Z
LAST-MODIFIED:20241102T141909Z
UID:25665-1820818800-1820826000@sfantuldumitrusuceava.ro
SUMMARY:Program de curățenie si Audiențe
DESCRIPTION:
URL:https://sfantuldumitrusuceava.ro/eveniment/program-de-curatenie-si-audiente-2/2027-09-13/
END:VEVENT
BEGIN:VEVENT
DTSTART;TZID=UTC:20270913T090000
DTEND;TZID=UTC:20270913T103000
DTSTAMP:20260422T224709
CREATED:20241102T141724Z
LAST-MODIFIED:20241102T141724Z
UID:25664-1820826000-1820831400@sfantuldumitrusuceava.ro
SUMMARY:Sfânta Liturghie
DESCRIPTION:
URL:https://sfantuldumitrusuceava.ro/eveniment/program-de-curatenie-si-audiente/2027-09-13/
END:VEVENT
BEGIN:VEVENT
DTSTART;TZID=UTC:20270914T080000
DTEND;TZID=UTC:20270914T093000
DTSTAMP:20260422T224709
CREATED:20241102T141955Z
LAST-MODIFIED:20241102T141955Z
UID:25666-1820908800-1820914200@sfantuldumitrusuceava.ro
SUMMARY:Sfânta Liturghie
DESCRIPTION:
URL:https://sfantuldumitrusuceava.ro/eveniment/sfanta-liturghie/2027-09-14/
END:VEVENT
BEGIN:VEVENT
DTSTART;TZID=UTC:20270915T080000
DTEND;TZID=UTC:20270915T093000
DTSTAMP:20260422T224709
CREATED:20241102T142044Z
LAST-MODIFIED:20241102T142044Z
UID:25667-1820995200-1821000600@sfantuldumitrusuceava.ro
SUMMARY:Sfânta Liturghie
DESCRIPTION:
URL:https://sfantuldumitrusuceava.ro/eveniment/sfanta-liturghie-2/2027-09-15/
END:VEVENT
BEGIN:VEVENT
DTSTART;TZID=UTC:20270915T170000
DTEND;TZID=UTC:20270915T193000
DTSTAMP:20260422T224709
CREATED:20241102T142205Z
LAST-MODIFIED:20241102T142205Z
UID:25668-1821027600-1821036600@sfantuldumitrusuceava.ro
SUMMARY:Sfințirea Apei\, Acatistul Maicii Domnului ”Pantanassa”\, Taina Sfântului Maslu
DESCRIPTION:
URL:https://sfantuldumitrusuceava.ro/eveniment/sfintirea-apei-acatistul-maicii-domnului-pantanassa-taina-sfantului-maslu/2027-09-15/
END:VEVENT
BEGIN:VEVENT
DTSTART;TZID=UTC:20270916T080000
DTEND;TZID=UTC:20270916T093000
DTSTAMP:20260422T224709
CREATED:20241102T142240Z
LAST-MODIFIED:20241102T142240Z
UID:25669-1821081600-1821087000@sfantuldumitrusuceava.ro
SUMMARY:Sfânta Liturghie
DESCRIPTION:
URL:https://sfantuldumitrusuceava.ro/eveniment/sfanta-liturghie-3/2027-09-16/
END:VEVENT
BEGIN:VEVENT
DTSTART;TZID=UTC:20270917T080000
DTEND;TZID=UTC:20270917T120000
DTSTAMP:20260422T224709
CREATED:20241102T142355Z
LAST-MODIFIED:20241102T142355Z
UID:25670-1821168000-1821182400@sfantuldumitrusuceava.ro
SUMMARY:Utrenia\, Sfânta Liturghie\, Sfințirea Apei și Taina Sfântului Maslu
DESCRIPTION:
URL:https://sfantuldumitrusuceava.ro/eveniment/utrenia-sfanta-liturghie-sfintirea-apei-si-taina-sfantului-maslu/2027-09-17/
END:VEVENT
END:VCALENDAR