BEGIN:VCALENDAR
VERSION:2.0
PRODID:-//Parohia Sfântul Dumitru Suceava - ECPv6.8.0//NONSGML v1.0//EN
CALSCALE:GREGORIAN
METHOD:PUBLISH
X-WR-CALNAME:Parohia Sfântul Dumitru Suceava
X-ORIGINAL-URL:https://sfantuldumitrusuceava.ro
X-WR-CALDESC:Events for Parohia Sfântul Dumitru Suceava
REFRESH-INTERVAL;VALUE=DURATION:PT1H
X-Robots-Tag:noindex
X-PUBLISHED-TTL:PT1H
BEGIN:VTIMEZONE
TZID:UTC
BEGIN:STANDARD
TZOFFSETFROM:+0000
TZOFFSETTO:+0000
TZNAME:UTC
DTSTART:20270101T000000
END:STANDARD
TZID:Europe/Helsinki
BEGIN:DAYLIGHT
TZOFFSETFROM:+0200
TZOFFSETTO:+0300
TZNAME:EEST
DTSTART:20270328T010000
END:DAYLIGHT
BEGIN:STANDARD
TZOFFSETFROM:+0300
TZOFFSETTO:+0200
TZNAME:EET
DTSTART:20271031T010000
END:STANDARD
END:VTIMEZONE
BEGIN:VEVENT
DTSTART;TZID=UTC:20270729T080000
DTEND;TZID=UTC:20270729T093000
DTSTAMP:20260422T230542
CREATED:20241102T142240Z
LAST-MODIFIED:20241102T142240Z
UID:25599-1816848000-1816853400@sfantuldumitrusuceava.ro
SUMMARY:Sfânta Liturghie
DESCRIPTION:
URL:https://sfantuldumitrusuceava.ro/eveniment/sfanta-liturghie-3/2027-07-29/
END:VEVENT
BEGIN:VEVENT
DTSTART;TZID=UTC:20270730T080000
DTEND;TZID=UTC:20270730T120000
DTSTAMP:20260422T230542
CREATED:20241102T142355Z
LAST-MODIFIED:20241102T142355Z
UID:25600-1816934400-1816948800@sfantuldumitrusuceava.ro
SUMMARY:Utrenia\, Sfânta Liturghie\, Sfințirea Apei și Taina Sfântului Maslu
DESCRIPTION:
URL:https://sfantuldumitrusuceava.ro/eveniment/utrenia-sfanta-liturghie-sfintirea-apei-si-taina-sfantului-maslu/2027-07-30/
END:VEVENT
BEGIN:VEVENT
DTSTART;TZID=UTC:20270731T080000
DTEND;TZID=UTC:20270731T093000
DTSTAMP:20260422T230542
CREATED:20241102T142433Z
LAST-MODIFIED:20241102T142433Z
UID:25601-1817020800-1817026200@sfantuldumitrusuceava.ro
SUMMARY:Sfânta Liturghie și Spovedanie
DESCRIPTION:
URL:https://sfantuldumitrusuceava.ro/eveniment/sfanta-liturghie-si-spovedanie/2027-07-31/
END:VEVENT
BEGIN:VEVENT
DTSTART;TZID=UTC:20270731T103000
DTEND;TZID=UTC:20270731T110000
DTSTAMP:20260422T230542
CREATED:20241102T142519Z
LAST-MODIFIED:20241102T142519Z
UID:25602-1817029800-1817031600@sfantuldumitrusuceava.ro
SUMMARY:Pomenirea celor adormiți (Parastas)
DESCRIPTION:
URL:https://sfantuldumitrusuceava.ro/eveniment/pomenirea-celor-adormiti-parastas/2027-07-31/
END:VEVENT
BEGIN:VEVENT
DTSTART;TZID=Europe/Helsinki:20270801T080000
DTEND;TZID=Europe/Helsinki:20270801T120000
DTSTAMP:20260422T230542
CREATED:20241102T100818Z
LAST-MODIFIED:20241102T100818Z
UID:25603-1817107200-1817121600@sfantuldumitrusuceava.ro
SUMMARY:Utrenia\, Acatistul și Sfânta Liturghie
DESCRIPTION:
URL:https://sfantuldumitrusuceava.ro/eveniment/duminica/2027-08-01/
END:VEVENT
BEGIN:VEVENT
DTSTART;TZID=UTC:20270802T070000
DTEND;TZID=UTC:20270802T090000
DTSTAMP:20260422T230542
CREATED:20241102T141909Z
LAST-MODIFIED:20241102T141909Z
UID:25605-1817190000-1817197200@sfantuldumitrusuceava.ro
SUMMARY:Program de curățenie si Audiențe
DESCRIPTION:
URL:https://sfantuldumitrusuceava.ro/eveniment/program-de-curatenie-si-audiente-2/2027-08-02/
END:VEVENT
BEGIN:VEVENT
DTSTART;TZID=UTC:20270802T090000
DTEND;TZID=UTC:20270802T103000
DTSTAMP:20260422T230542
CREATED:20241102T141724Z
LAST-MODIFIED:20241102T141724Z
UID:25604-1817197200-1817202600@sfantuldumitrusuceava.ro
SUMMARY:Sfânta Liturghie
DESCRIPTION:
URL:https://sfantuldumitrusuceava.ro/eveniment/program-de-curatenie-si-audiente/2027-08-02/
END:VEVENT
BEGIN:VEVENT
DTSTART;TZID=UTC:20270803T080000
DTEND;TZID=UTC:20270803T093000
DTSTAMP:20260422T230542
CREATED:20241102T141955Z
LAST-MODIFIED:20241102T141955Z
UID:25606-1817280000-1817285400@sfantuldumitrusuceava.ro
SUMMARY:Sfânta Liturghie
DESCRIPTION:
URL:https://sfantuldumitrusuceava.ro/eveniment/sfanta-liturghie/2027-08-03/
END:VEVENT
BEGIN:VEVENT
DTSTART;TZID=UTC:20270804T080000
DTEND;TZID=UTC:20270804T093000
DTSTAMP:20260422T230542
CREATED:20241102T142044Z
LAST-MODIFIED:20241102T142044Z
UID:25607-1817366400-1817371800@sfantuldumitrusuceava.ro
SUMMARY:Sfânta Liturghie
DESCRIPTION:
URL:https://sfantuldumitrusuceava.ro/eveniment/sfanta-liturghie-2/2027-08-04/
END:VEVENT
BEGIN:VEVENT
DTSTART;TZID=UTC:20270804T170000
DTEND;TZID=UTC:20270804T193000
DTSTAMP:20260422T230542
CREATED:20241102T142205Z
LAST-MODIFIED:20241102T142205Z
UID:25608-1817398800-1817407800@sfantuldumitrusuceava.ro
SUMMARY:Sfințirea Apei\, Acatistul Maicii Domnului ”Pantanassa”\, Taina Sfântului Maslu
DESCRIPTION:
URL:https://sfantuldumitrusuceava.ro/eveniment/sfintirea-apei-acatistul-maicii-domnului-pantanassa-taina-sfantului-maslu/2027-08-04/
END:VEVENT
BEGIN:VEVENT
DTSTART;TZID=UTC:20270805T080000
DTEND;TZID=UTC:20270805T093000
DTSTAMP:20260422T230542
CREATED:20241102T142240Z
LAST-MODIFIED:20241102T142240Z
UID:25609-1817452800-1817458200@sfantuldumitrusuceava.ro
SUMMARY:Sfânta Liturghie
DESCRIPTION:
URL:https://sfantuldumitrusuceava.ro/eveniment/sfanta-liturghie-3/2027-08-05/
END:VEVENT
BEGIN:VEVENT
DTSTART;TZID=UTC:20270806T080000
DTEND;TZID=UTC:20270806T120000
DTSTAMP:20260422T230542
CREATED:20241102T142355Z
LAST-MODIFIED:20241102T142355Z
UID:25610-1817539200-1817553600@sfantuldumitrusuceava.ro
SUMMARY:Utrenia\, Sfânta Liturghie\, Sfințirea Apei și Taina Sfântului Maslu
DESCRIPTION:
URL:https://sfantuldumitrusuceava.ro/eveniment/utrenia-sfanta-liturghie-sfintirea-apei-si-taina-sfantului-maslu/2027-08-06/
END:VEVENT
BEGIN:VEVENT
DTSTART;TZID=UTC:20270807T080000
DTEND;TZID=UTC:20270807T093000
DTSTAMP:20260422T230542
CREATED:20241102T142433Z
LAST-MODIFIED:20241102T142433Z
UID:25611-1817625600-1817631000@sfantuldumitrusuceava.ro
SUMMARY:Sfânta Liturghie și Spovedanie
DESCRIPTION:
URL:https://sfantuldumitrusuceava.ro/eveniment/sfanta-liturghie-si-spovedanie/2027-08-07/
END:VEVENT
BEGIN:VEVENT
DTSTART;TZID=UTC:20270807T103000
DTEND;TZID=UTC:20270807T110000
DTSTAMP:20260422T230542
CREATED:20241102T142519Z
LAST-MODIFIED:20241102T142519Z
UID:25612-1817634600-1817636400@sfantuldumitrusuceava.ro
SUMMARY:Pomenirea celor adormiți (Parastas)
DESCRIPTION:
URL:https://sfantuldumitrusuceava.ro/eveniment/pomenirea-celor-adormiti-parastas/2027-08-07/
END:VEVENT
BEGIN:VEVENT
DTSTART;TZID=Europe/Helsinki:20270808T080000
DTEND;TZID=Europe/Helsinki:20270808T120000
DTSTAMP:20260422T230542
CREATED:20241102T100818Z
LAST-MODIFIED:20241102T100818Z
UID:25613-1817712000-1817726400@sfantuldumitrusuceava.ro
SUMMARY:Utrenia\, Acatistul și Sfânta Liturghie
DESCRIPTION:
URL:https://sfantuldumitrusuceava.ro/eveniment/duminica/2027-08-08/
END:VEVENT
BEGIN:VEVENT
DTSTART;TZID=UTC:20270809T070000
DTEND;TZID=UTC:20270809T090000
DTSTAMP:20260422T230542
CREATED:20241102T141909Z
LAST-MODIFIED:20241102T141909Z
UID:25615-1817794800-1817802000@sfantuldumitrusuceava.ro
SUMMARY:Program de curățenie si Audiențe
DESCRIPTION:
URL:https://sfantuldumitrusuceava.ro/eveniment/program-de-curatenie-si-audiente-2/2027-08-09/
END:VEVENT
BEGIN:VEVENT
DTSTART;TZID=UTC:20270809T090000
DTEND;TZID=UTC:20270809T103000
DTSTAMP:20260422T230542
CREATED:20241102T141724Z
LAST-MODIFIED:20241102T141724Z
UID:25614-1817802000-1817807400@sfantuldumitrusuceava.ro
SUMMARY:Sfânta Liturghie
DESCRIPTION:
URL:https://sfantuldumitrusuceava.ro/eveniment/program-de-curatenie-si-audiente/2027-08-09/
END:VEVENT
BEGIN:VEVENT
DTSTART;TZID=UTC:20270810T080000
DTEND;TZID=UTC:20270810T093000
DTSTAMP:20260422T230542
CREATED:20241102T141955Z
LAST-MODIFIED:20241102T141955Z
UID:25616-1817884800-1817890200@sfantuldumitrusuceava.ro
SUMMARY:Sfânta Liturghie
DESCRIPTION:
URL:https://sfantuldumitrusuceava.ro/eveniment/sfanta-liturghie/2027-08-10/
END:VEVENT
BEGIN:VEVENT
DTSTART;TZID=UTC:20270811T080000
DTEND;TZID=UTC:20270811T093000
DTSTAMP:20260422T230542
CREATED:20241102T142044Z
LAST-MODIFIED:20241102T142044Z
UID:25617-1817971200-1817976600@sfantuldumitrusuceava.ro
SUMMARY:Sfânta Liturghie
DESCRIPTION:
URL:https://sfantuldumitrusuceava.ro/eveniment/sfanta-liturghie-2/2027-08-11/
END:VEVENT
BEGIN:VEVENT
DTSTART;TZID=UTC:20270811T170000
DTEND;TZID=UTC:20270811T193000
DTSTAMP:20260422T230542
CREATED:20241102T142205Z
LAST-MODIFIED:20241102T142205Z
UID:25618-1818003600-1818012600@sfantuldumitrusuceava.ro
SUMMARY:Sfințirea Apei\, Acatistul Maicii Domnului ”Pantanassa”\, Taina Sfântului Maslu
DESCRIPTION:
URL:https://sfantuldumitrusuceava.ro/eveniment/sfintirea-apei-acatistul-maicii-domnului-pantanassa-taina-sfantului-maslu/2027-08-11/
END:VEVENT
BEGIN:VEVENT
DTSTART;TZID=UTC:20270812T080000
DTEND;TZID=UTC:20270812T093000
DTSTAMP:20260422T230542
CREATED:20241102T142240Z
LAST-MODIFIED:20241102T142240Z
UID:25619-1818057600-1818063000@sfantuldumitrusuceava.ro
SUMMARY:Sfânta Liturghie
DESCRIPTION:
URL:https://sfantuldumitrusuceava.ro/eveniment/sfanta-liturghie-3/2027-08-12/
END:VEVENT
BEGIN:VEVENT
DTSTART;TZID=UTC:20270813T080000
DTEND;TZID=UTC:20270813T120000
DTSTAMP:20260422T230542
CREATED:20241102T142355Z
LAST-MODIFIED:20241102T142355Z
UID:25620-1818144000-1818158400@sfantuldumitrusuceava.ro
SUMMARY:Utrenia\, Sfânta Liturghie\, Sfințirea Apei și Taina Sfântului Maslu
DESCRIPTION:
URL:https://sfantuldumitrusuceava.ro/eveniment/utrenia-sfanta-liturghie-sfintirea-apei-si-taina-sfantului-maslu/2027-08-13/
END:VEVENT
BEGIN:VEVENT
DTSTART;TZID=UTC:20270814T080000
DTEND;TZID=UTC:20270814T093000
DTSTAMP:20260422T230542
CREATED:20241102T142433Z
LAST-MODIFIED:20241102T142433Z
UID:25621-1818230400-1818235800@sfantuldumitrusuceava.ro
SUMMARY:Sfânta Liturghie și Spovedanie
DESCRIPTION:
URL:https://sfantuldumitrusuceava.ro/eveniment/sfanta-liturghie-si-spovedanie/2027-08-14/
END:VEVENT
BEGIN:VEVENT
DTSTART;TZID=UTC:20270814T103000
DTEND;TZID=UTC:20270814T110000
DTSTAMP:20260422T230542
CREATED:20241102T142519Z
LAST-MODIFIED:20241102T142519Z
UID:25622-1818239400-1818241200@sfantuldumitrusuceava.ro
SUMMARY:Pomenirea celor adormiți (Parastas)
DESCRIPTION:
URL:https://sfantuldumitrusuceava.ro/eveniment/pomenirea-celor-adormiti-parastas/2027-08-14/
END:VEVENT
BEGIN:VEVENT
DTSTART;TZID=Europe/Helsinki:20270815T080000
DTEND;TZID=Europe/Helsinki:20270815T120000
DTSTAMP:20260422T230542
CREATED:20241102T100818Z
LAST-MODIFIED:20241102T100818Z
UID:25623-1818316800-1818331200@sfantuldumitrusuceava.ro
SUMMARY:Utrenia\, Acatistul și Sfânta Liturghie
DESCRIPTION:
URL:https://sfantuldumitrusuceava.ro/eveniment/duminica/2027-08-15/
END:VEVENT
BEGIN:VEVENT
DTSTART;TZID=UTC:20270816T070000
DTEND;TZID=UTC:20270816T090000
DTSTAMP:20260422T230542
CREATED:20241102T141909Z
LAST-MODIFIED:20241102T141909Z
UID:25625-1818399600-1818406800@sfantuldumitrusuceava.ro
SUMMARY:Program de curățenie si Audiențe
DESCRIPTION:
URL:https://sfantuldumitrusuceava.ro/eveniment/program-de-curatenie-si-audiente-2/2027-08-16/
END:VEVENT
BEGIN:VEVENT
DTSTART;TZID=UTC:20270816T090000
DTEND;TZID=UTC:20270816T103000
DTSTAMP:20260422T230542
CREATED:20241102T141724Z
LAST-MODIFIED:20241102T141724Z
UID:25624-1818406800-1818412200@sfantuldumitrusuceava.ro
SUMMARY:Sfânta Liturghie
DESCRIPTION:
URL:https://sfantuldumitrusuceava.ro/eveniment/program-de-curatenie-si-audiente/2027-08-16/
END:VEVENT
BEGIN:VEVENT
DTSTART;TZID=UTC:20270817T080000
DTEND;TZID=UTC:20270817T093000
DTSTAMP:20260422T230542
CREATED:20241102T141955Z
LAST-MODIFIED:20241102T141955Z
UID:25626-1818489600-1818495000@sfantuldumitrusuceava.ro
SUMMARY:Sfânta Liturghie
DESCRIPTION:
URL:https://sfantuldumitrusuceava.ro/eveniment/sfanta-liturghie/2027-08-17/
END:VEVENT
BEGIN:VEVENT
DTSTART;TZID=UTC:20270818T080000
DTEND;TZID=UTC:20270818T093000
DTSTAMP:20260422T230542
CREATED:20241102T142044Z
LAST-MODIFIED:20241102T142044Z
UID:25627-1818576000-1818581400@sfantuldumitrusuceava.ro
SUMMARY:Sfânta Liturghie
DESCRIPTION:
URL:https://sfantuldumitrusuceava.ro/eveniment/sfanta-liturghie-2/2027-08-18/
END:VEVENT
BEGIN:VEVENT
DTSTART;TZID=UTC:20270818T170000
DTEND;TZID=UTC:20270818T193000
DTSTAMP:20260422T230542
CREATED:20241102T142205Z
LAST-MODIFIED:20241102T142205Z
UID:25628-1818608400-1818617400@sfantuldumitrusuceava.ro
SUMMARY:Sfințirea Apei\, Acatistul Maicii Domnului ”Pantanassa”\, Taina Sfântului Maslu
DESCRIPTION:
URL:https://sfantuldumitrusuceava.ro/eveniment/sfintirea-apei-acatistul-maicii-domnului-pantanassa-taina-sfantului-maslu/2027-08-18/
END:VEVENT
END:VCALENDAR