BEGIN:VCALENDAR
VERSION:2.0
PRODID:-//Parohia Sfântul Dumitru Suceava - ECPv6.8.0//NONSGML v1.0//EN
CALSCALE:GREGORIAN
METHOD:PUBLISH
X-WR-CALNAME:Parohia Sfântul Dumitru Suceava
X-ORIGINAL-URL:https://sfantuldumitrusuceava.ro
X-WR-CALDESC:Events for Parohia Sfântul Dumitru Suceava
REFRESH-INTERVAL;VALUE=DURATION:PT1H
X-Robots-Tag:noindex
X-PUBLISHED-TTL:PT1H
BEGIN:VTIMEZONE
TZID:UTC
BEGIN:STANDARD
TZOFFSETFROM:+0000
TZOFFSETTO:+0000
TZNAME:UTC
DTSTART:20270101T000000
END:STANDARD
TZID:Europe/Helsinki
BEGIN:DAYLIGHT
TZOFFSETFROM:+0200
TZOFFSETTO:+0300
TZNAME:EEST
DTSTART:20270328T010000
END:DAYLIGHT
BEGIN:STANDARD
TZOFFSETFROM:+0300
TZOFFSETTO:+0200
TZNAME:EET
DTSTART:20271031T010000
END:STANDARD
END:VTIMEZONE
BEGIN:VEVENT
DTSTART;TZID=UTC:20270922T080000
DTEND;TZID=UTC:20270922T093000
DTSTAMP:20260423T030757
CREATED:20241102T142044Z
LAST-MODIFIED:20241102T142044Z
UID:25677-1821600000-1821605400@sfantuldumitrusuceava.ro
SUMMARY:Sfânta Liturghie
DESCRIPTION:
URL:https://sfantuldumitrusuceava.ro/eveniment/sfanta-liturghie-2/2027-09-22/
END:VEVENT
BEGIN:VEVENT
DTSTART;TZID=UTC:20270922T170000
DTEND;TZID=UTC:20270922T193000
DTSTAMP:20260423T030757
CREATED:20241102T142205Z
LAST-MODIFIED:20241102T142205Z
UID:25678-1821632400-1821641400@sfantuldumitrusuceava.ro
SUMMARY:Sfințirea Apei\, Acatistul Maicii Domnului ”Pantanassa”\, Taina Sfântului Maslu
DESCRIPTION:
URL:https://sfantuldumitrusuceava.ro/eveniment/sfintirea-apei-acatistul-maicii-domnului-pantanassa-taina-sfantului-maslu/2027-09-22/
END:VEVENT
BEGIN:VEVENT
DTSTART;TZID=UTC:20270923T080000
DTEND;TZID=UTC:20270923T093000
DTSTAMP:20260423T030757
CREATED:20241102T142240Z
LAST-MODIFIED:20241102T142240Z
UID:25679-1821686400-1821691800@sfantuldumitrusuceava.ro
SUMMARY:Sfânta Liturghie
DESCRIPTION:
URL:https://sfantuldumitrusuceava.ro/eveniment/sfanta-liturghie-3/2027-09-23/
END:VEVENT
BEGIN:VEVENT
DTSTART;TZID=UTC:20270924T080000
DTEND;TZID=UTC:20270924T120000
DTSTAMP:20260423T030757
CREATED:20241102T142355Z
LAST-MODIFIED:20241102T142355Z
UID:25680-1821772800-1821787200@sfantuldumitrusuceava.ro
SUMMARY:Utrenia\, Sfânta Liturghie\, Sfințirea Apei și Taina Sfântului Maslu
DESCRIPTION:
URL:https://sfantuldumitrusuceava.ro/eveniment/utrenia-sfanta-liturghie-sfintirea-apei-si-taina-sfantului-maslu/2027-09-24/
END:VEVENT
BEGIN:VEVENT
DTSTART;TZID=UTC:20270925T080000
DTEND;TZID=UTC:20270925T093000
DTSTAMP:20260423T030757
CREATED:20241102T142433Z
LAST-MODIFIED:20241102T142433Z
UID:25681-1821859200-1821864600@sfantuldumitrusuceava.ro
SUMMARY:Sfânta Liturghie și Spovedanie
DESCRIPTION:
URL:https://sfantuldumitrusuceava.ro/eveniment/sfanta-liturghie-si-spovedanie/2027-09-25/
END:VEVENT
BEGIN:VEVENT
DTSTART;TZID=UTC:20270925T103000
DTEND;TZID=UTC:20270925T110000
DTSTAMP:20260423T030757
CREATED:20241102T142519Z
LAST-MODIFIED:20241102T142519Z
UID:25682-1821868200-1821870000@sfantuldumitrusuceava.ro
SUMMARY:Pomenirea celor adormiți (Parastas)
DESCRIPTION:
URL:https://sfantuldumitrusuceava.ro/eveniment/pomenirea-celor-adormiti-parastas/2027-09-25/
END:VEVENT
BEGIN:VEVENT
DTSTART;TZID=Europe/Helsinki:20270926T080000
DTEND;TZID=Europe/Helsinki:20270926T120000
DTSTAMP:20260423T030757
CREATED:20241102T100818Z
LAST-MODIFIED:20241102T100818Z
UID:25683-1821945600-1821960000@sfantuldumitrusuceava.ro
SUMMARY:Utrenia\, Acatistul și Sfânta Liturghie
DESCRIPTION:
URL:https://sfantuldumitrusuceava.ro/eveniment/duminica/2027-09-26/
END:VEVENT
BEGIN:VEVENT
DTSTART;TZID=UTC:20270927T070000
DTEND;TZID=UTC:20270927T090000
DTSTAMP:20260423T030757
CREATED:20241102T141909Z
LAST-MODIFIED:20241102T141909Z
UID:25685-1822028400-1822035600@sfantuldumitrusuceava.ro
SUMMARY:Program de curățenie si Audiențe
DESCRIPTION:
URL:https://sfantuldumitrusuceava.ro/eveniment/program-de-curatenie-si-audiente-2/2027-09-27/
END:VEVENT
BEGIN:VEVENT
DTSTART;TZID=UTC:20270927T090000
DTEND;TZID=UTC:20270927T103000
DTSTAMP:20260423T030757
CREATED:20241102T141724Z
LAST-MODIFIED:20241102T141724Z
UID:25684-1822035600-1822041000@sfantuldumitrusuceava.ro
SUMMARY:Sfânta Liturghie
DESCRIPTION:
URL:https://sfantuldumitrusuceava.ro/eveniment/program-de-curatenie-si-audiente/2027-09-27/
END:VEVENT
BEGIN:VEVENT
DTSTART;TZID=UTC:20270928T080000
DTEND;TZID=UTC:20270928T093000
DTSTAMP:20260423T030757
CREATED:20241102T141955Z
LAST-MODIFIED:20241102T141955Z
UID:25686-1822118400-1822123800@sfantuldumitrusuceava.ro
SUMMARY:Sfânta Liturghie
DESCRIPTION:
URL:https://sfantuldumitrusuceava.ro/eveniment/sfanta-liturghie/2027-09-28/
END:VEVENT
BEGIN:VEVENT
DTSTART;TZID=UTC:20270929T080000
DTEND;TZID=UTC:20270929T093000
DTSTAMP:20260423T030757
CREATED:20241102T142044Z
LAST-MODIFIED:20241102T142044Z
UID:25687-1822204800-1822210200@sfantuldumitrusuceava.ro
SUMMARY:Sfânta Liturghie
DESCRIPTION:
URL:https://sfantuldumitrusuceava.ro/eveniment/sfanta-liturghie-2/2027-09-29/
END:VEVENT
BEGIN:VEVENT
DTSTART;TZID=UTC:20270929T170000
DTEND;TZID=UTC:20270929T193000
DTSTAMP:20260423T030757
CREATED:20241102T142205Z
LAST-MODIFIED:20241102T142205Z
UID:25688-1822237200-1822246200@sfantuldumitrusuceava.ro
SUMMARY:Sfințirea Apei\, Acatistul Maicii Domnului ”Pantanassa”\, Taina Sfântului Maslu
DESCRIPTION:
URL:https://sfantuldumitrusuceava.ro/eveniment/sfintirea-apei-acatistul-maicii-domnului-pantanassa-taina-sfantului-maslu/2027-09-29/
END:VEVENT
BEGIN:VEVENT
DTSTART;TZID=UTC:20270930T080000
DTEND;TZID=UTC:20270930T093000
DTSTAMP:20260423T030757
CREATED:20241102T142240Z
LAST-MODIFIED:20241102T142240Z
UID:25689-1822291200-1822296600@sfantuldumitrusuceava.ro
SUMMARY:Sfânta Liturghie
DESCRIPTION:
URL:https://sfantuldumitrusuceava.ro/eveniment/sfanta-liturghie-3/2027-09-30/
END:VEVENT
BEGIN:VEVENT
DTSTART;TZID=UTC:20271001T080000
DTEND;TZID=UTC:20271001T120000
DTSTAMP:20260423T030757
CREATED:20241102T142355Z
LAST-MODIFIED:20241102T142355Z
UID:25690-1822377600-1822392000@sfantuldumitrusuceava.ro
SUMMARY:Utrenia\, Sfânta Liturghie\, Sfințirea Apei și Taina Sfântului Maslu
DESCRIPTION:
URL:https://sfantuldumitrusuceava.ro/eveniment/utrenia-sfanta-liturghie-sfintirea-apei-si-taina-sfantului-maslu/2027-10-01/
END:VEVENT
BEGIN:VEVENT
DTSTART;TZID=UTC:20271002T080000
DTEND;TZID=UTC:20271002T093000
DTSTAMP:20260423T030757
CREATED:20241102T142433Z
LAST-MODIFIED:20241102T142433Z
UID:25691-1822464000-1822469400@sfantuldumitrusuceava.ro
SUMMARY:Sfânta Liturghie și Spovedanie
DESCRIPTION:
URL:https://sfantuldumitrusuceava.ro/eveniment/sfanta-liturghie-si-spovedanie/2027-10-02/
END:VEVENT
BEGIN:VEVENT
DTSTART;TZID=UTC:20271002T103000
DTEND;TZID=UTC:20271002T110000
DTSTAMP:20260423T030757
CREATED:20241102T142519Z
LAST-MODIFIED:20241102T142519Z
UID:25692-1822473000-1822474800@sfantuldumitrusuceava.ro
SUMMARY:Pomenirea celor adormiți (Parastas)
DESCRIPTION:
URL:https://sfantuldumitrusuceava.ro/eveniment/pomenirea-celor-adormiti-parastas/2027-10-02/
END:VEVENT
BEGIN:VEVENT
DTSTART;TZID=Europe/Helsinki:20271003T080000
DTEND;TZID=Europe/Helsinki:20271003T120000
DTSTAMP:20260423T030757
CREATED:20241102T100818Z
LAST-MODIFIED:20241102T100818Z
UID:25693-1822550400-1822564800@sfantuldumitrusuceava.ro
SUMMARY:Utrenia\, Acatistul și Sfânta Liturghie
DESCRIPTION:
URL:https://sfantuldumitrusuceava.ro/eveniment/duminica/2027-10-03/
END:VEVENT
BEGIN:VEVENT
DTSTART;TZID=UTC:20271004T070000
DTEND;TZID=UTC:20271004T090000
DTSTAMP:20260423T030757
CREATED:20241102T141909Z
LAST-MODIFIED:20241102T141909Z
UID:25695-1822633200-1822640400@sfantuldumitrusuceava.ro
SUMMARY:Program de curățenie si Audiențe
DESCRIPTION:
URL:https://sfantuldumitrusuceava.ro/eveniment/program-de-curatenie-si-audiente-2/2027-10-04/
END:VEVENT
BEGIN:VEVENT
DTSTART;TZID=UTC:20271004T090000
DTEND;TZID=UTC:20271004T103000
DTSTAMP:20260423T030757
CREATED:20241102T141724Z
LAST-MODIFIED:20241102T141724Z
UID:25694-1822640400-1822645800@sfantuldumitrusuceava.ro
SUMMARY:Sfânta Liturghie
DESCRIPTION:
URL:https://sfantuldumitrusuceava.ro/eveniment/program-de-curatenie-si-audiente/2027-10-04/
END:VEVENT
BEGIN:VEVENT
DTSTART;TZID=UTC:20271005T080000
DTEND;TZID=UTC:20271005T093000
DTSTAMP:20260423T030757
CREATED:20241102T141955Z
LAST-MODIFIED:20241102T141955Z
UID:25696-1822723200-1822728600@sfantuldumitrusuceava.ro
SUMMARY:Sfânta Liturghie
DESCRIPTION:
URL:https://sfantuldumitrusuceava.ro/eveniment/sfanta-liturghie/2027-10-05/
END:VEVENT
BEGIN:VEVENT
DTSTART;TZID=UTC:20271006T080000
DTEND;TZID=UTC:20271006T093000
DTSTAMP:20260423T030757
CREATED:20241102T142044Z
LAST-MODIFIED:20241102T142044Z
UID:25697-1822809600-1822815000@sfantuldumitrusuceava.ro
SUMMARY:Sfânta Liturghie
DESCRIPTION:
URL:https://sfantuldumitrusuceava.ro/eveniment/sfanta-liturghie-2/2027-10-06/
END:VEVENT
BEGIN:VEVENT
DTSTART;TZID=UTC:20271006T170000
DTEND;TZID=UTC:20271006T193000
DTSTAMP:20260423T030757
CREATED:20241102T142205Z
LAST-MODIFIED:20241102T142205Z
UID:25698-1822842000-1822851000@sfantuldumitrusuceava.ro
SUMMARY:Sfințirea Apei\, Acatistul Maicii Domnului ”Pantanassa”\, Taina Sfântului Maslu
DESCRIPTION:
URL:https://sfantuldumitrusuceava.ro/eveniment/sfintirea-apei-acatistul-maicii-domnului-pantanassa-taina-sfantului-maslu/2027-10-06/
END:VEVENT
BEGIN:VEVENT
DTSTART;TZID=UTC:20271007T080000
DTEND;TZID=UTC:20271007T093000
DTSTAMP:20260423T030757
CREATED:20241102T142240Z
LAST-MODIFIED:20241102T142240Z
UID:25699-1822896000-1822901400@sfantuldumitrusuceava.ro
SUMMARY:Sfânta Liturghie
DESCRIPTION:
URL:https://sfantuldumitrusuceava.ro/eveniment/sfanta-liturghie-3/2027-10-07/
END:VEVENT
BEGIN:VEVENT
DTSTART;TZID=UTC:20271008T080000
DTEND;TZID=UTC:20271008T120000
DTSTAMP:20260423T030757
CREATED:20241102T142355Z
LAST-MODIFIED:20241102T142355Z
UID:25700-1822982400-1822996800@sfantuldumitrusuceava.ro
SUMMARY:Utrenia\, Sfânta Liturghie\, Sfințirea Apei și Taina Sfântului Maslu
DESCRIPTION:
URL:https://sfantuldumitrusuceava.ro/eveniment/utrenia-sfanta-liturghie-sfintirea-apei-si-taina-sfantului-maslu/2027-10-08/
END:VEVENT
BEGIN:VEVENT
DTSTART;TZID=UTC:20271009T080000
DTEND;TZID=UTC:20271009T093000
DTSTAMP:20260423T030757
CREATED:20241102T142433Z
LAST-MODIFIED:20241102T142433Z
UID:25701-1823068800-1823074200@sfantuldumitrusuceava.ro
SUMMARY:Sfânta Liturghie și Spovedanie
DESCRIPTION:
URL:https://sfantuldumitrusuceava.ro/eveniment/sfanta-liturghie-si-spovedanie/2027-10-09/
END:VEVENT
BEGIN:VEVENT
DTSTART;TZID=UTC:20271009T103000
DTEND;TZID=UTC:20271009T110000
DTSTAMP:20260423T030757
CREATED:20241102T142519Z
LAST-MODIFIED:20241102T142519Z
UID:25702-1823077800-1823079600@sfantuldumitrusuceava.ro
SUMMARY:Pomenirea celor adormiți (Parastas)
DESCRIPTION:
URL:https://sfantuldumitrusuceava.ro/eveniment/pomenirea-celor-adormiti-parastas/2027-10-09/
END:VEVENT
BEGIN:VEVENT
DTSTART;TZID=Europe/Helsinki:20271010T080000
DTEND;TZID=Europe/Helsinki:20271010T120000
DTSTAMP:20260423T030757
CREATED:20241102T100818Z
LAST-MODIFIED:20241102T100818Z
UID:25703-1823155200-1823169600@sfantuldumitrusuceava.ro
SUMMARY:Utrenia\, Acatistul și Sfânta Liturghie
DESCRIPTION:
URL:https://sfantuldumitrusuceava.ro/eveniment/duminica/2027-10-10/
END:VEVENT
BEGIN:VEVENT
DTSTART;TZID=UTC:20271011T070000
DTEND;TZID=UTC:20271011T090000
DTSTAMP:20260423T030757
CREATED:20241102T141909Z
LAST-MODIFIED:20241102T141909Z
UID:25705-1823238000-1823245200@sfantuldumitrusuceava.ro
SUMMARY:Program de curățenie si Audiențe
DESCRIPTION:
URL:https://sfantuldumitrusuceava.ro/eveniment/program-de-curatenie-si-audiente-2/2027-10-11/
END:VEVENT
BEGIN:VEVENT
DTSTART;TZID=UTC:20271011T090000
DTEND;TZID=UTC:20271011T103000
DTSTAMP:20260423T030757
CREATED:20241102T141724Z
LAST-MODIFIED:20241102T141724Z
UID:25704-1823245200-1823250600@sfantuldumitrusuceava.ro
SUMMARY:Sfânta Liturghie
DESCRIPTION:
URL:https://sfantuldumitrusuceava.ro/eveniment/program-de-curatenie-si-audiente/2027-10-11/
END:VEVENT
BEGIN:VEVENT
DTSTART;TZID=UTC:20271012T080000
DTEND;TZID=UTC:20271012T093000
DTSTAMP:20260423T030757
CREATED:20241102T141955Z
LAST-MODIFIED:20241102T141955Z
UID:25706-1823328000-1823333400@sfantuldumitrusuceava.ro
SUMMARY:Sfânta Liturghie
DESCRIPTION:
URL:https://sfantuldumitrusuceava.ro/eveniment/sfanta-liturghie/2027-10-12/
END:VEVENT
END:VCALENDAR