BEGIN:VCALENDAR
VERSION:2.0
PRODID:-//Parohia Sfântul Dumitru Suceava - ECPv6.8.0//NONSGML v1.0//EN
CALSCALE:GREGORIAN
METHOD:PUBLISH
X-ORIGINAL-URL:https://sfantuldumitrusuceava.ro
X-WR-CALDESC:Events for Parohia Sfântul Dumitru Suceava
REFRESH-INTERVAL;VALUE=DURATION:PT1H
X-Robots-Tag:noindex
X-PUBLISHED-TTL:PT1H
BEGIN:VTIMEZONE
TZID:UTC
BEGIN:STANDARD
TZOFFSETFROM:+0000
TZOFFSETTO:+0000
TZNAME:UTC
DTSTART:20270101T000000
END:STANDARD
TZID:Europe/Helsinki
BEGIN:DAYLIGHT
TZOFFSETFROM:+0200
TZOFFSETTO:+0300
TZNAME:EEST
DTSTART:20270328T010000
END:DAYLIGHT
BEGIN:STANDARD
TZOFFSETFROM:+0300
TZOFFSETTO:+0200
TZNAME:EET
DTSTART:20271031T010000
END:STANDARD
END:VTIMEZONE
BEGIN:VEVENT
DTSTART;TZID=UTC:20271009T080000
DTEND;TZID=UTC:20271009T093000
DTSTAMP:20260423T091802
CREATED:20241102T142433Z
LAST-MODIFIED:20241102T142433Z
UID:25701-1823068800-1823074200@sfantuldumitrusuceava.ro
SUMMARY:Sfânta Liturghie și Spovedanie
DESCRIPTION:
URL:https://sfantuldumitrusuceava.ro/eveniment/sfanta-liturghie-si-spovedanie/2027-10-09/
END:VEVENT
BEGIN:VEVENT
DTSTART;TZID=UTC:20271009T103000
DTEND;TZID=UTC:20271009T110000
DTSTAMP:20260423T091802
CREATED:20241102T142519Z
LAST-MODIFIED:20241102T142519Z
UID:25702-1823077800-1823079600@sfantuldumitrusuceava.ro
SUMMARY:Pomenirea celor adormiți (Parastas)
DESCRIPTION:
URL:https://sfantuldumitrusuceava.ro/eveniment/pomenirea-celor-adormiti-parastas/2027-10-09/
END:VEVENT
BEGIN:VEVENT
DTSTART;TZID=Europe/Helsinki:20271010T080000
DTEND;TZID=Europe/Helsinki:20271010T120000
DTSTAMP:20260423T091802
CREATED:20241102T100818Z
LAST-MODIFIED:20241102T100818Z
UID:25703-1823155200-1823169600@sfantuldumitrusuceava.ro
SUMMARY:Utrenia\, Acatistul și Sfânta Liturghie
DESCRIPTION:
URL:https://sfantuldumitrusuceava.ro/eveniment/duminica/2027-10-10/
END:VEVENT
BEGIN:VEVENT
DTSTART;TZID=UTC:20271011T070000
DTEND;TZID=UTC:20271011T090000
DTSTAMP:20260423T091802
CREATED:20241102T141909Z
LAST-MODIFIED:20241102T141909Z
UID:25705-1823238000-1823245200@sfantuldumitrusuceava.ro
SUMMARY:Program de curățenie si Audiențe
DESCRIPTION:
URL:https://sfantuldumitrusuceava.ro/eveniment/program-de-curatenie-si-audiente-2/2027-10-11/
END:VEVENT
BEGIN:VEVENT
DTSTART;TZID=UTC:20271011T090000
DTEND;TZID=UTC:20271011T103000
DTSTAMP:20260423T091802
CREATED:20241102T141724Z
LAST-MODIFIED:20241102T141724Z
UID:25704-1823245200-1823250600@sfantuldumitrusuceava.ro
SUMMARY:Sfânta Liturghie
DESCRIPTION:
URL:https://sfantuldumitrusuceava.ro/eveniment/program-de-curatenie-si-audiente/2027-10-11/
END:VEVENT
BEGIN:VEVENT
DTSTART;TZID=UTC:20271012T080000
DTEND;TZID=UTC:20271012T093000
DTSTAMP:20260423T091802
CREATED:20241102T141955Z
LAST-MODIFIED:20241102T141955Z
UID:25706-1823328000-1823333400@sfantuldumitrusuceava.ro
SUMMARY:Sfânta Liturghie
DESCRIPTION:
URL:https://sfantuldumitrusuceava.ro/eveniment/sfanta-liturghie/2027-10-12/
END:VEVENT
BEGIN:VEVENT
DTSTART;TZID=UTC:20271013T080000
DTEND;TZID=UTC:20271013T093000
DTSTAMP:20260423T091802
CREATED:20241102T142044Z
LAST-MODIFIED:20241102T142044Z
UID:25707-1823414400-1823419800@sfantuldumitrusuceava.ro
SUMMARY:Sfânta Liturghie
DESCRIPTION:
URL:https://sfantuldumitrusuceava.ro/eveniment/sfanta-liturghie-2/2027-10-13/
END:VEVENT
BEGIN:VEVENT
DTSTART;TZID=UTC:20271013T170000
DTEND;TZID=UTC:20271013T193000
DTSTAMP:20260423T091802
CREATED:20241102T142205Z
LAST-MODIFIED:20241102T142205Z
UID:25708-1823446800-1823455800@sfantuldumitrusuceava.ro
SUMMARY:Sfințirea Apei\, Acatistul Maicii Domnului ”Pantanassa”\, Taina Sfântului Maslu
DESCRIPTION:
URL:https://sfantuldumitrusuceava.ro/eveniment/sfintirea-apei-acatistul-maicii-domnului-pantanassa-taina-sfantului-maslu/2027-10-13/
END:VEVENT
BEGIN:VEVENT
DTSTART;TZID=UTC:20271014T080000
DTEND;TZID=UTC:20271014T093000
DTSTAMP:20260423T091802
CREATED:20241102T142240Z
LAST-MODIFIED:20241102T142240Z
UID:25709-1823500800-1823506200@sfantuldumitrusuceava.ro
SUMMARY:Sfânta Liturghie
DESCRIPTION:
URL:https://sfantuldumitrusuceava.ro/eveniment/sfanta-liturghie-3/2027-10-14/
END:VEVENT
BEGIN:VEVENT
DTSTART;TZID=UTC:20271015T080000
DTEND;TZID=UTC:20271015T120000
DTSTAMP:20260423T091802
CREATED:20241102T142355Z
LAST-MODIFIED:20241102T142355Z
UID:25710-1823587200-1823601600@sfantuldumitrusuceava.ro
SUMMARY:Utrenia\, Sfânta Liturghie\, Sfințirea Apei și Taina Sfântului Maslu
DESCRIPTION:
URL:https://sfantuldumitrusuceava.ro/eveniment/utrenia-sfanta-liturghie-sfintirea-apei-si-taina-sfantului-maslu/2027-10-15/
END:VEVENT
BEGIN:VEVENT
DTSTART;TZID=UTC:20271016T080000
DTEND;TZID=UTC:20271016T093000
DTSTAMP:20260423T091802
CREATED:20241102T142433Z
LAST-MODIFIED:20241102T142433Z
UID:25711-1823673600-1823679000@sfantuldumitrusuceava.ro
SUMMARY:Sfânta Liturghie și Spovedanie
DESCRIPTION:
URL:https://sfantuldumitrusuceava.ro/eveniment/sfanta-liturghie-si-spovedanie/2027-10-16/
END:VEVENT
BEGIN:VEVENT
DTSTART;TZID=UTC:20271016T103000
DTEND;TZID=UTC:20271016T110000
DTSTAMP:20260423T091802
CREATED:20241102T142519Z
LAST-MODIFIED:20241102T142519Z
UID:25712-1823682600-1823684400@sfantuldumitrusuceava.ro
SUMMARY:Pomenirea celor adormiți (Parastas)
DESCRIPTION:
URL:https://sfantuldumitrusuceava.ro/eveniment/pomenirea-celor-adormiti-parastas/2027-10-16/
END:VEVENT
BEGIN:VEVENT
DTSTART;TZID=Europe/Helsinki:20271017T080000
DTEND;TZID=Europe/Helsinki:20271017T120000
DTSTAMP:20260423T091802
CREATED:20241102T100818Z
LAST-MODIFIED:20241102T100818Z
UID:25713-1823760000-1823774400@sfantuldumitrusuceava.ro
SUMMARY:Utrenia\, Acatistul și Sfânta Liturghie
DESCRIPTION:
URL:https://sfantuldumitrusuceava.ro/eveniment/duminica/2027-10-17/
END:VEVENT
BEGIN:VEVENT
DTSTART;TZID=UTC:20271018T070000
DTEND;TZID=UTC:20271018T090000
DTSTAMP:20260423T091802
CREATED:20241102T141909Z
LAST-MODIFIED:20241102T141909Z
UID:25715-1823842800-1823850000@sfantuldumitrusuceava.ro
SUMMARY:Program de curățenie si Audiențe
DESCRIPTION:
URL:https://sfantuldumitrusuceava.ro/eveniment/program-de-curatenie-si-audiente-2/2027-10-18/
END:VEVENT
BEGIN:VEVENT
DTSTART;TZID=UTC:20271018T090000
DTEND;TZID=UTC:20271018T103000
DTSTAMP:20260423T091802
CREATED:20241102T141724Z
LAST-MODIFIED:20241102T141724Z
UID:25714-1823850000-1823855400@sfantuldumitrusuceava.ro
SUMMARY:Sfânta Liturghie
DESCRIPTION:
URL:https://sfantuldumitrusuceava.ro/eveniment/program-de-curatenie-si-audiente/2027-10-18/
END:VEVENT
BEGIN:VEVENT
DTSTART;TZID=UTC:20271019T080000
DTEND;TZID=UTC:20271019T093000
DTSTAMP:20260423T091802
CREATED:20241102T141955Z
LAST-MODIFIED:20241102T141955Z
UID:25716-1823932800-1823938200@sfantuldumitrusuceava.ro
SUMMARY:Sfânta Liturghie
DESCRIPTION:
URL:https://sfantuldumitrusuceava.ro/eveniment/sfanta-liturghie/2027-10-19/
END:VEVENT
BEGIN:VEVENT
DTSTART;TZID=UTC:20271020T080000
DTEND;TZID=UTC:20271020T093000
DTSTAMP:20260423T091802
CREATED:20241102T142044Z
LAST-MODIFIED:20241102T142044Z
UID:25717-1824019200-1824024600@sfantuldumitrusuceava.ro
SUMMARY:Sfânta Liturghie
DESCRIPTION:
URL:https://sfantuldumitrusuceava.ro/eveniment/sfanta-liturghie-2/2027-10-20/
END:VEVENT
BEGIN:VEVENT
DTSTART;TZID=UTC:20271020T170000
DTEND;TZID=UTC:20271020T193000
DTSTAMP:20260423T091802
CREATED:20241102T142205Z
LAST-MODIFIED:20241102T142205Z
UID:25718-1824051600-1824060600@sfantuldumitrusuceava.ro
SUMMARY:Sfințirea Apei\, Acatistul Maicii Domnului ”Pantanassa”\, Taina Sfântului Maslu
DESCRIPTION:
URL:https://sfantuldumitrusuceava.ro/eveniment/sfintirea-apei-acatistul-maicii-domnului-pantanassa-taina-sfantului-maslu/2027-10-20/
END:VEVENT
BEGIN:VEVENT
DTSTART;TZID=UTC:20271021T080000
DTEND;TZID=UTC:20271021T093000
DTSTAMP:20260423T091802
CREATED:20241102T142240Z
LAST-MODIFIED:20241102T142240Z
UID:25719-1824105600-1824111000@sfantuldumitrusuceava.ro
SUMMARY:Sfânta Liturghie
DESCRIPTION:
URL:https://sfantuldumitrusuceava.ro/eveniment/sfanta-liturghie-3/2027-10-21/
END:VEVENT
BEGIN:VEVENT
DTSTART;TZID=UTC:20271022T080000
DTEND;TZID=UTC:20271022T120000
DTSTAMP:20260423T091802
CREATED:20241102T142355Z
LAST-MODIFIED:20241102T142355Z
UID:25720-1824192000-1824206400@sfantuldumitrusuceava.ro
SUMMARY:Utrenia\, Sfânta Liturghie\, Sfințirea Apei și Taina Sfântului Maslu
DESCRIPTION:
URL:https://sfantuldumitrusuceava.ro/eveniment/utrenia-sfanta-liturghie-sfintirea-apei-si-taina-sfantului-maslu/2027-10-22/
END:VEVENT
BEGIN:VEVENT
DTSTART;TZID=UTC:20271023T080000
DTEND;TZID=UTC:20271023T093000
DTSTAMP:20260423T091802
CREATED:20241102T142433Z
LAST-MODIFIED:20241102T142433Z
UID:25721-1824278400-1824283800@sfantuldumitrusuceava.ro
SUMMARY:Sfânta Liturghie și Spovedanie
DESCRIPTION:
URL:https://sfantuldumitrusuceava.ro/eveniment/sfanta-liturghie-si-spovedanie/2027-10-23/
END:VEVENT
BEGIN:VEVENT
DTSTART;TZID=UTC:20271023T103000
DTEND;TZID=UTC:20271023T110000
DTSTAMP:20260423T091802
CREATED:20241102T142519Z
LAST-MODIFIED:20241102T142519Z
UID:25722-1824287400-1824289200@sfantuldumitrusuceava.ro
SUMMARY:Pomenirea celor adormiți (Parastas)
DESCRIPTION:
URL:https://sfantuldumitrusuceava.ro/eveniment/pomenirea-celor-adormiti-parastas/2027-10-23/
END:VEVENT
BEGIN:VEVENT
DTSTART;TZID=Europe/Helsinki:20271024T080000
DTEND;TZID=Europe/Helsinki:20271024T120000
DTSTAMP:20260423T091802
CREATED:20241102T100818Z
LAST-MODIFIED:20241102T100818Z
UID:25723-1824364800-1824379200@sfantuldumitrusuceava.ro
SUMMARY:Utrenia\, Acatistul și Sfânta Liturghie
DESCRIPTION:
URL:https://sfantuldumitrusuceava.ro/eveniment/duminica/2027-10-24/
END:VEVENT
BEGIN:VEVENT
DTSTART;TZID=UTC:20271025T070000
DTEND;TZID=UTC:20271025T090000
DTSTAMP:20260423T091802
CREATED:20241102T141909Z
LAST-MODIFIED:20241102T141909Z
UID:25725-1824447600-1824454800@sfantuldumitrusuceava.ro
SUMMARY:Program de curățenie si Audiențe
DESCRIPTION:
URL:https://sfantuldumitrusuceava.ro/eveniment/program-de-curatenie-si-audiente-2/2027-10-25/
END:VEVENT
BEGIN:VEVENT
DTSTART;TZID=UTC:20271025T090000
DTEND;TZID=UTC:20271025T103000
DTSTAMP:20260423T091802
CREATED:20241102T141724Z
LAST-MODIFIED:20241102T141724Z
UID:25724-1824454800-1824460200@sfantuldumitrusuceava.ro
SUMMARY:Sfânta Liturghie
DESCRIPTION:
URL:https://sfantuldumitrusuceava.ro/eveniment/program-de-curatenie-si-audiente/2027-10-25/
END:VEVENT
BEGIN:VEVENT
DTSTART;TZID=UTC:20271026T080000
DTEND;TZID=UTC:20271026T093000
DTSTAMP:20260423T091802
CREATED:20241102T141955Z
LAST-MODIFIED:20241102T141955Z
UID:25726-1824537600-1824543000@sfantuldumitrusuceava.ro
SUMMARY:Sfânta Liturghie
DESCRIPTION:
URL:https://sfantuldumitrusuceava.ro/eveniment/sfanta-liturghie/2027-10-26/
END:VEVENT
BEGIN:VEVENT
DTSTART;TZID=UTC:20271027T080000
DTEND;TZID=UTC:20271027T093000
DTSTAMP:20260423T091802
CREATED:20241102T142044Z
LAST-MODIFIED:20241102T142044Z
UID:25727-1824624000-1824629400@sfantuldumitrusuceava.ro
SUMMARY:Sfânta Liturghie
DESCRIPTION:
URL:https://sfantuldumitrusuceava.ro/eveniment/sfanta-liturghie-2/2027-10-27/
END:VEVENT
BEGIN:VEVENT
DTSTART;TZID=UTC:20271027T170000
DTEND;TZID=UTC:20271027T193000
DTSTAMP:20260423T091802
CREATED:20241102T142205Z
LAST-MODIFIED:20241102T142205Z
UID:25728-1824656400-1824665400@sfantuldumitrusuceava.ro
SUMMARY:Sfințirea Apei\, Acatistul Maicii Domnului ”Pantanassa”\, Taina Sfântului Maslu
DESCRIPTION:
URL:https://sfantuldumitrusuceava.ro/eveniment/sfintirea-apei-acatistul-maicii-domnului-pantanassa-taina-sfantului-maslu/2027-10-27/
END:VEVENT
BEGIN:VEVENT
DTSTART;TZID=UTC:20271028T080000
DTEND;TZID=UTC:20271028T093000
DTSTAMP:20260423T091802
CREATED:20241102T142240Z
LAST-MODIFIED:20241102T142240Z
UID:25729-1824710400-1824715800@sfantuldumitrusuceava.ro
SUMMARY:Sfânta Liturghie
DESCRIPTION:
URL:https://sfantuldumitrusuceava.ro/eveniment/sfanta-liturghie-3/2027-10-28/
END:VEVENT
BEGIN:VEVENT
DTSTART;TZID=UTC:20271029T080000
DTEND;TZID=UTC:20271029T120000
DTSTAMP:20260423T091802
CREATED:20241102T142355Z
LAST-MODIFIED:20241102T142355Z
UID:25730-1824796800-1824811200@sfantuldumitrusuceava.ro
SUMMARY:Utrenia\, Sfânta Liturghie\, Sfințirea Apei și Taina Sfântului Maslu
DESCRIPTION:
URL:https://sfantuldumitrusuceava.ro/eveniment/utrenia-sfanta-liturghie-sfintirea-apei-si-taina-sfantului-maslu/2027-10-29/
END:VEVENT
END:VCALENDAR