BEGIN:VCALENDAR
VERSION:2.0
PRODID:-//Parohia Sfântul Dumitru Suceava - ECPv6.8.0//NONSGML v1.0//EN
CALSCALE:GREGORIAN
METHOD:PUBLISH
X-ORIGINAL-URL:https://sfantuldumitrusuceava.ro
X-WR-CALDESC:Events for Parohia Sfântul Dumitru Suceava
REFRESH-INTERVAL;VALUE=DURATION:PT1H
X-Robots-Tag:noindex
X-PUBLISHED-TTL:PT1H
BEGIN:VTIMEZONE
TZID:UTC
BEGIN:STANDARD
TZOFFSETFROM:+0000
TZOFFSETTO:+0000
TZNAME:UTC
DTSTART:20270101T000000
END:STANDARD
TZID:Europe/Helsinki
BEGIN:DAYLIGHT
TZOFFSETFROM:+0200
TZOFFSETTO:+0300
TZNAME:EEST
DTSTART:20270328T010000
END:DAYLIGHT
BEGIN:STANDARD
TZOFFSETFROM:+0300
TZOFFSETTO:+0200
TZNAME:EET
DTSTART:20271031T010000
END:STANDARD
END:VTIMEZONE
BEGIN:VEVENT
DTSTART;TZID=UTC:20271027T170000
DTEND;TZID=UTC:20271027T193000
DTSTAMP:20260423T111642
CREATED:20241102T142205Z
LAST-MODIFIED:20241102T142205Z
UID:25728-1824656400-1824665400@sfantuldumitrusuceava.ro
SUMMARY:Sfințirea Apei\, Acatistul Maicii Domnului ”Pantanassa”\, Taina Sfântului Maslu
DESCRIPTION:
URL:https://sfantuldumitrusuceava.ro/eveniment/sfintirea-apei-acatistul-maicii-domnului-pantanassa-taina-sfantului-maslu/2027-10-27/
END:VEVENT
BEGIN:VEVENT
DTSTART;TZID=UTC:20271028T080000
DTEND;TZID=UTC:20271028T093000
DTSTAMP:20260423T111642
CREATED:20241102T142240Z
LAST-MODIFIED:20241102T142240Z
UID:25729-1824710400-1824715800@sfantuldumitrusuceava.ro
SUMMARY:Sfânta Liturghie
DESCRIPTION:
URL:https://sfantuldumitrusuceava.ro/eveniment/sfanta-liturghie-3/2027-10-28/
END:VEVENT
BEGIN:VEVENT
DTSTART;TZID=UTC:20271029T080000
DTEND;TZID=UTC:20271029T120000
DTSTAMP:20260423T111642
CREATED:20241102T142355Z
LAST-MODIFIED:20241102T142355Z
UID:25730-1824796800-1824811200@sfantuldumitrusuceava.ro
SUMMARY:Utrenia\, Sfânta Liturghie\, Sfințirea Apei și Taina Sfântului Maslu
DESCRIPTION:
URL:https://sfantuldumitrusuceava.ro/eveniment/utrenia-sfanta-liturghie-sfintirea-apei-si-taina-sfantului-maslu/2027-10-29/
END:VEVENT
BEGIN:VEVENT
DTSTART;TZID=UTC:20271030T080000
DTEND;TZID=UTC:20271030T093000
DTSTAMP:20260423T111642
CREATED:20241102T142433Z
LAST-MODIFIED:20241102T142433Z
UID:25731-1824883200-1824888600@sfantuldumitrusuceava.ro
SUMMARY:Sfânta Liturghie și Spovedanie
DESCRIPTION:
URL:https://sfantuldumitrusuceava.ro/eveniment/sfanta-liturghie-si-spovedanie/2027-10-30/
END:VEVENT
BEGIN:VEVENT
DTSTART;TZID=UTC:20271030T103000
DTEND;TZID=UTC:20271030T110000
DTSTAMP:20260423T111642
CREATED:20241102T142519Z
LAST-MODIFIED:20241102T142519Z
UID:25732-1824892200-1824894000@sfantuldumitrusuceava.ro
SUMMARY:Pomenirea celor adormiți (Parastas)
DESCRIPTION:
URL:https://sfantuldumitrusuceava.ro/eveniment/pomenirea-celor-adormiti-parastas/2027-10-30/
END:VEVENT
BEGIN:VEVENT
DTSTART;TZID=Europe/Helsinki:20271031T080000
DTEND;TZID=Europe/Helsinki:20271031T120000
DTSTAMP:20260423T111642
CREATED:20241102T100818Z
LAST-MODIFIED:20241102T100818Z
UID:25733-1824969600-1824984000@sfantuldumitrusuceava.ro
SUMMARY:Utrenia\, Acatistul și Sfânta Liturghie
DESCRIPTION:
URL:https://sfantuldumitrusuceava.ro/eveniment/duminica/2027-10-31/
END:VEVENT
BEGIN:VEVENT
DTSTART;TZID=UTC:20271101T070000
DTEND;TZID=UTC:20271101T090000
DTSTAMP:20260423T111642
CREATED:20241102T141909Z
LAST-MODIFIED:20241102T141909Z
UID:25735-1825052400-1825059600@sfantuldumitrusuceava.ro
SUMMARY:Program de curățenie si Audiențe
DESCRIPTION:
URL:https://sfantuldumitrusuceava.ro/eveniment/program-de-curatenie-si-audiente-2/2027-11-01/
END:VEVENT
BEGIN:VEVENT
DTSTART;TZID=UTC:20271101T090000
DTEND;TZID=UTC:20271101T103000
DTSTAMP:20260423T111642
CREATED:20241102T141724Z
LAST-MODIFIED:20241102T141724Z
UID:25734-1825059600-1825065000@sfantuldumitrusuceava.ro
SUMMARY:Sfânta Liturghie
DESCRIPTION:
URL:https://sfantuldumitrusuceava.ro/eveniment/program-de-curatenie-si-audiente/2027-11-01/
END:VEVENT
BEGIN:VEVENT
DTSTART;TZID=UTC:20271102T080000
DTEND;TZID=UTC:20271102T093000
DTSTAMP:20260423T111642
CREATED:20241102T141955Z
LAST-MODIFIED:20241102T141955Z
UID:25736-1825142400-1825147800@sfantuldumitrusuceava.ro
SUMMARY:Sfânta Liturghie
DESCRIPTION:
URL:https://sfantuldumitrusuceava.ro/eveniment/sfanta-liturghie/2027-11-02/
END:VEVENT
BEGIN:VEVENT
DTSTART;TZID=UTC:20271103T080000
DTEND;TZID=UTC:20271103T093000
DTSTAMP:20260423T111642
CREATED:20241102T142044Z
LAST-MODIFIED:20241102T142044Z
UID:25737-1825228800-1825234200@sfantuldumitrusuceava.ro
SUMMARY:Sfânta Liturghie
DESCRIPTION:
URL:https://sfantuldumitrusuceava.ro/eveniment/sfanta-liturghie-2/2027-11-03/
END:VEVENT
BEGIN:VEVENT
DTSTART;TZID=UTC:20271103T170000
DTEND;TZID=UTC:20271103T193000
DTSTAMP:20260423T111642
CREATED:20241102T142205Z
LAST-MODIFIED:20241102T142205Z
UID:25738-1825261200-1825270200@sfantuldumitrusuceava.ro
SUMMARY:Sfințirea Apei\, Acatistul Maicii Domnului ”Pantanassa”\, Taina Sfântului Maslu
DESCRIPTION:
URL:https://sfantuldumitrusuceava.ro/eveniment/sfintirea-apei-acatistul-maicii-domnului-pantanassa-taina-sfantului-maslu/2027-11-03/
END:VEVENT
BEGIN:VEVENT
DTSTART;TZID=UTC:20271104T080000
DTEND;TZID=UTC:20271104T093000
DTSTAMP:20260423T111642
CREATED:20241102T142240Z
LAST-MODIFIED:20241102T142240Z
UID:25739-1825315200-1825320600@sfantuldumitrusuceava.ro
SUMMARY:Sfânta Liturghie
DESCRIPTION:
URL:https://sfantuldumitrusuceava.ro/eveniment/sfanta-liturghie-3/2027-11-04/
END:VEVENT
BEGIN:VEVENT
DTSTART;TZID=UTC:20271105T080000
DTEND;TZID=UTC:20271105T120000
DTSTAMP:20260423T111642
CREATED:20241102T142355Z
LAST-MODIFIED:20241102T142355Z
UID:25740-1825401600-1825416000@sfantuldumitrusuceava.ro
SUMMARY:Utrenia\, Sfânta Liturghie\, Sfințirea Apei și Taina Sfântului Maslu
DESCRIPTION:
URL:https://sfantuldumitrusuceava.ro/eveniment/utrenia-sfanta-liturghie-sfintirea-apei-si-taina-sfantului-maslu/2027-11-05/
END:VEVENT
BEGIN:VEVENT
DTSTART;TZID=UTC:20271106T080000
DTEND;TZID=UTC:20271106T093000
DTSTAMP:20260423T111642
CREATED:20241102T142433Z
LAST-MODIFIED:20241102T142433Z
UID:25741-1825488000-1825493400@sfantuldumitrusuceava.ro
SUMMARY:Sfânta Liturghie și Spovedanie
DESCRIPTION:
URL:https://sfantuldumitrusuceava.ro/eveniment/sfanta-liturghie-si-spovedanie/2027-11-06/
END:VEVENT
BEGIN:VEVENT
DTSTART;TZID=UTC:20271106T103000
DTEND;TZID=UTC:20271106T110000
DTSTAMP:20260423T111642
CREATED:20241102T142519Z
LAST-MODIFIED:20241102T142519Z
UID:25742-1825497000-1825498800@sfantuldumitrusuceava.ro
SUMMARY:Pomenirea celor adormiți (Parastas)
DESCRIPTION:
URL:https://sfantuldumitrusuceava.ro/eveniment/pomenirea-celor-adormiti-parastas/2027-11-06/
END:VEVENT
BEGIN:VEVENT
DTSTART;TZID=Europe/Helsinki:20271107T080000
DTEND;TZID=Europe/Helsinki:20271107T120000
DTSTAMP:20260423T111642
CREATED:20241102T100818Z
LAST-MODIFIED:20241102T100818Z
UID:25743-1825574400-1825588800@sfantuldumitrusuceava.ro
SUMMARY:Utrenia\, Acatistul și Sfânta Liturghie
DESCRIPTION:
URL:https://sfantuldumitrusuceava.ro/eveniment/duminica/2027-11-07/
END:VEVENT
BEGIN:VEVENT
DTSTART;TZID=UTC:20271108T070000
DTEND;TZID=UTC:20271108T090000
DTSTAMP:20260423T111642
CREATED:20241102T141909Z
LAST-MODIFIED:20241102T141909Z
UID:25745-1825657200-1825664400@sfantuldumitrusuceava.ro
SUMMARY:Program de curățenie si Audiențe
DESCRIPTION:
URL:https://sfantuldumitrusuceava.ro/eveniment/program-de-curatenie-si-audiente-2/2027-11-08/
END:VEVENT
BEGIN:VEVENT
DTSTART;TZID=UTC:20271108T090000
DTEND;TZID=UTC:20271108T103000
DTSTAMP:20260423T111642
CREATED:20241102T141724Z
LAST-MODIFIED:20241102T141724Z
UID:25744-1825664400-1825669800@sfantuldumitrusuceava.ro
SUMMARY:Sfânta Liturghie
DESCRIPTION:
URL:https://sfantuldumitrusuceava.ro/eveniment/program-de-curatenie-si-audiente/2027-11-08/
END:VEVENT
BEGIN:VEVENT
DTSTART;TZID=UTC:20271109T080000
DTEND;TZID=UTC:20271109T093000
DTSTAMP:20260423T111642
CREATED:20241102T141955Z
LAST-MODIFIED:20241102T141955Z
UID:25746-1825747200-1825752600@sfantuldumitrusuceava.ro
SUMMARY:Sfânta Liturghie
DESCRIPTION:
URL:https://sfantuldumitrusuceava.ro/eveniment/sfanta-liturghie/2027-11-09/
END:VEVENT
BEGIN:VEVENT
DTSTART;TZID=UTC:20271110T080000
DTEND;TZID=UTC:20271110T093000
DTSTAMP:20260423T111642
CREATED:20241102T142044Z
LAST-MODIFIED:20241102T142044Z
UID:25747-1825833600-1825839000@sfantuldumitrusuceava.ro
SUMMARY:Sfânta Liturghie
DESCRIPTION:
URL:https://sfantuldumitrusuceava.ro/eveniment/sfanta-liturghie-2/2027-11-10/
END:VEVENT
BEGIN:VEVENT
DTSTART;TZID=UTC:20271110T170000
DTEND;TZID=UTC:20271110T193000
DTSTAMP:20260423T111642
CREATED:20241102T142205Z
LAST-MODIFIED:20241102T142205Z
UID:25748-1825866000-1825875000@sfantuldumitrusuceava.ro
SUMMARY:Sfințirea Apei\, Acatistul Maicii Domnului ”Pantanassa”\, Taina Sfântului Maslu
DESCRIPTION:
URL:https://sfantuldumitrusuceava.ro/eveniment/sfintirea-apei-acatistul-maicii-domnului-pantanassa-taina-sfantului-maslu/2027-11-10/
END:VEVENT
BEGIN:VEVENT
DTSTART;TZID=UTC:20271111T080000
DTEND;TZID=UTC:20271111T093000
DTSTAMP:20260423T111642
CREATED:20241102T142240Z
LAST-MODIFIED:20241102T142240Z
UID:25749-1825920000-1825925400@sfantuldumitrusuceava.ro
SUMMARY:Sfânta Liturghie
DESCRIPTION:
URL:https://sfantuldumitrusuceava.ro/eveniment/sfanta-liturghie-3/2027-11-11/
END:VEVENT
BEGIN:VEVENT
DTSTART;TZID=UTC:20271112T080000
DTEND;TZID=UTC:20271112T120000
DTSTAMP:20260423T111642
CREATED:20241102T142355Z
LAST-MODIFIED:20241102T142355Z
UID:25750-1826006400-1826020800@sfantuldumitrusuceava.ro
SUMMARY:Utrenia\, Sfânta Liturghie\, Sfințirea Apei și Taina Sfântului Maslu
DESCRIPTION:
URL:https://sfantuldumitrusuceava.ro/eveniment/utrenia-sfanta-liturghie-sfintirea-apei-si-taina-sfantului-maslu/2027-11-12/
END:VEVENT
BEGIN:VEVENT
DTSTART;TZID=UTC:20271113T080000
DTEND;TZID=UTC:20271113T093000
DTSTAMP:20260423T111642
CREATED:20241102T142433Z
LAST-MODIFIED:20241102T142433Z
UID:25751-1826092800-1826098200@sfantuldumitrusuceava.ro
SUMMARY:Sfânta Liturghie și Spovedanie
DESCRIPTION:
URL:https://sfantuldumitrusuceava.ro/eveniment/sfanta-liturghie-si-spovedanie/2027-11-13/
END:VEVENT
BEGIN:VEVENT
DTSTART;TZID=UTC:20271113T103000
DTEND;TZID=UTC:20271113T110000
DTSTAMP:20260423T111642
CREATED:20241102T142519Z
LAST-MODIFIED:20241102T142519Z
UID:25752-1826101800-1826103600@sfantuldumitrusuceava.ro
SUMMARY:Pomenirea celor adormiți (Parastas)
DESCRIPTION:
URL:https://sfantuldumitrusuceava.ro/eveniment/pomenirea-celor-adormiti-parastas/2027-11-13/
END:VEVENT
BEGIN:VEVENT
DTSTART;TZID=Europe/Helsinki:20271114T080000
DTEND;TZID=Europe/Helsinki:20271114T120000
DTSTAMP:20260423T111642
CREATED:20241102T100818Z
LAST-MODIFIED:20241102T100818Z
UID:25753-1826179200-1826193600@sfantuldumitrusuceava.ro
SUMMARY:Utrenia\, Acatistul și Sfânta Liturghie
DESCRIPTION:
URL:https://sfantuldumitrusuceava.ro/eveniment/duminica/2027-11-14/
END:VEVENT
BEGIN:VEVENT
DTSTART;TZID=UTC:20271115T070000
DTEND;TZID=UTC:20271115T090000
DTSTAMP:20260423T111642
CREATED:20241102T141909Z
LAST-MODIFIED:20241102T141909Z
UID:25755-1826262000-1826269200@sfantuldumitrusuceava.ro
SUMMARY:Program de curățenie si Audiențe
DESCRIPTION:
URL:https://sfantuldumitrusuceava.ro/eveniment/program-de-curatenie-si-audiente-2/2027-11-15/
END:VEVENT
BEGIN:VEVENT
DTSTART;TZID=UTC:20271115T090000
DTEND;TZID=UTC:20271115T103000
DTSTAMP:20260423T111642
CREATED:20241102T141724Z
LAST-MODIFIED:20241102T141724Z
UID:25754-1826269200-1826274600@sfantuldumitrusuceava.ro
SUMMARY:Sfânta Liturghie
DESCRIPTION:
URL:https://sfantuldumitrusuceava.ro/eveniment/program-de-curatenie-si-audiente/2027-11-15/
END:VEVENT
BEGIN:VEVENT
DTSTART;TZID=UTC:20271116T080000
DTEND;TZID=UTC:20271116T093000
DTSTAMP:20260423T111642
CREATED:20241102T141955Z
LAST-MODIFIED:20241102T141955Z
UID:25756-1826352000-1826357400@sfantuldumitrusuceava.ro
SUMMARY:Sfânta Liturghie
DESCRIPTION:
URL:https://sfantuldumitrusuceava.ro/eveniment/sfanta-liturghie/2027-11-16/
END:VEVENT
BEGIN:VEVENT
DTSTART;TZID=UTC:20271117T080000
DTEND;TZID=UTC:20271117T093000
DTSTAMP:20260423T111642
CREATED:20241102T142044Z
LAST-MODIFIED:20241102T142044Z
UID:25757-1826438400-1826443800@sfantuldumitrusuceava.ro
SUMMARY:Sfânta Liturghie
DESCRIPTION:
URL:https://sfantuldumitrusuceava.ro/eveniment/sfanta-liturghie-2/2027-11-17/
END:VEVENT
END:VCALENDAR