BEGIN:VCALENDAR
VERSION:2.0
PRODID:-//Parohia Sfântul Dumitru Suceava - ECPv6.8.0//NONSGML v1.0//EN
CALSCALE:GREGORIAN
METHOD:PUBLISH
X-WR-CALNAME:Parohia Sfântul Dumitru Suceava
X-ORIGINAL-URL:https://sfantuldumitrusuceava.ro
X-WR-CALDESC:Events for Parohia Sfântul Dumitru Suceava
REFRESH-INTERVAL;VALUE=DURATION:PT1H
X-Robots-Tag:noindex
X-PUBLISHED-TTL:PT1H
BEGIN:VTIMEZONE
TZID:UTC
BEGIN:STANDARD
TZOFFSETFROM:+0000
TZOFFSETTO:+0000
TZNAME:UTC
DTSTART:20270101T000000
END:STANDARD
TZID:Europe/Helsinki
BEGIN:DAYLIGHT
TZOFFSETFROM:+0200
TZOFFSETTO:+0300
TZNAME:EEST
DTSTART:20270328T010000
END:DAYLIGHT
BEGIN:STANDARD
TZOFFSETFROM:+0300
TZOFFSETTO:+0200
TZNAME:EET
DTSTART:20271031T010000
END:STANDARD
END:VTIMEZONE
BEGIN:VEVENT
DTSTART;TZID=UTC:20270316T080000
DTEND;TZID=UTC:20270316T093000
DTSTAMP:20260420T181226
CREATED:20241102T141955Z
LAST-MODIFIED:20241102T141955Z
UID:25406-1805184000-1805189400@sfantuldumitrusuceava.ro
SUMMARY:Sfânta Liturghie
DESCRIPTION:
URL:https://sfantuldumitrusuceava.ro/eveniment/sfanta-liturghie/2027-03-16/
END:VEVENT
BEGIN:VEVENT
DTSTART;TZID=UTC:20270317T080000
DTEND;TZID=UTC:20270317T093000
DTSTAMP:20260420T181227
CREATED:20241102T142044Z
LAST-MODIFIED:20241102T142044Z
UID:25407-1805270400-1805275800@sfantuldumitrusuceava.ro
SUMMARY:Sfânta Liturghie
DESCRIPTION:
URL:https://sfantuldumitrusuceava.ro/eveniment/sfanta-liturghie-2/2027-03-17/
END:VEVENT
BEGIN:VEVENT
DTSTART;TZID=UTC:20270317T170000
DTEND;TZID=UTC:20270317T193000
DTSTAMP:20260420T181227
CREATED:20241102T142205Z
LAST-MODIFIED:20241102T142205Z
UID:25408-1805302800-1805311800@sfantuldumitrusuceava.ro
SUMMARY:Sfințirea Apei\, Acatistul Maicii Domnului ”Pantanassa”\, Taina Sfântului Maslu
DESCRIPTION:
URL:https://sfantuldumitrusuceava.ro/eveniment/sfintirea-apei-acatistul-maicii-domnului-pantanassa-taina-sfantului-maslu/2027-03-17/
END:VEVENT
BEGIN:VEVENT
DTSTART;TZID=UTC:20270318T080000
DTEND;TZID=UTC:20270318T093000
DTSTAMP:20260420T181227
CREATED:20241102T142240Z
LAST-MODIFIED:20241102T142240Z
UID:25409-1805356800-1805362200@sfantuldumitrusuceava.ro
SUMMARY:Sfânta Liturghie
DESCRIPTION:
URL:https://sfantuldumitrusuceava.ro/eveniment/sfanta-liturghie-3/2027-03-18/
END:VEVENT
BEGIN:VEVENT
DTSTART;TZID=UTC:20270319T080000
DTEND;TZID=UTC:20270319T120000
DTSTAMP:20260420T181227
CREATED:20241102T142355Z
LAST-MODIFIED:20241102T142355Z
UID:25410-1805443200-1805457600@sfantuldumitrusuceava.ro
SUMMARY:Utrenia\, Sfânta Liturghie\, Sfințirea Apei și Taina Sfântului Maslu
DESCRIPTION:
URL:https://sfantuldumitrusuceava.ro/eveniment/utrenia-sfanta-liturghie-sfintirea-apei-si-taina-sfantului-maslu/2027-03-19/
END:VEVENT
BEGIN:VEVENT
DTSTART;TZID=UTC:20270320T080000
DTEND;TZID=UTC:20270320T093000
DTSTAMP:20260420T181227
CREATED:20241102T142433Z
LAST-MODIFIED:20241102T142433Z
UID:25411-1805529600-1805535000@sfantuldumitrusuceava.ro
SUMMARY:Sfânta Liturghie și Spovedanie
DESCRIPTION:
URL:https://sfantuldumitrusuceava.ro/eveniment/sfanta-liturghie-si-spovedanie/2027-03-20/
END:VEVENT
BEGIN:VEVENT
DTSTART;TZID=UTC:20270320T103000
DTEND;TZID=UTC:20270320T110000
DTSTAMP:20260420T181227
CREATED:20241102T142519Z
LAST-MODIFIED:20241102T142519Z
UID:25412-1805538600-1805540400@sfantuldumitrusuceava.ro
SUMMARY:Pomenirea celor adormiți (Parastas)
DESCRIPTION:
URL:https://sfantuldumitrusuceava.ro/eveniment/pomenirea-celor-adormiti-parastas/2027-03-20/
END:VEVENT
BEGIN:VEVENT
DTSTART;TZID=Europe/Helsinki:20270321T080000
DTEND;TZID=Europe/Helsinki:20270321T120000
DTSTAMP:20260420T181227
CREATED:20241102T100818Z
LAST-MODIFIED:20241102T100818Z
UID:25413-1805616000-1805630400@sfantuldumitrusuceava.ro
SUMMARY:Utrenia\, Acatistul și Sfânta Liturghie
DESCRIPTION:
URL:https://sfantuldumitrusuceava.ro/eveniment/duminica/2027-03-21/
END:VEVENT
BEGIN:VEVENT
DTSTART;TZID=UTC:20270322T070000
DTEND;TZID=UTC:20270322T090000
DTSTAMP:20260420T181227
CREATED:20241102T141909Z
LAST-MODIFIED:20241102T141909Z
UID:25415-1805698800-1805706000@sfantuldumitrusuceava.ro
SUMMARY:Program de curățenie si Audiențe
DESCRIPTION:
URL:https://sfantuldumitrusuceava.ro/eveniment/program-de-curatenie-si-audiente-2/2027-03-22/
END:VEVENT
BEGIN:VEVENT
DTSTART;TZID=UTC:20270322T090000
DTEND;TZID=UTC:20270322T103000
DTSTAMP:20260420T181227
CREATED:20241102T141724Z
LAST-MODIFIED:20241102T141724Z
UID:25414-1805706000-1805711400@sfantuldumitrusuceava.ro
SUMMARY:Sfânta Liturghie
DESCRIPTION:
URL:https://sfantuldumitrusuceava.ro/eveniment/program-de-curatenie-si-audiente/2027-03-22/
END:VEVENT
BEGIN:VEVENT
DTSTART;TZID=UTC:20270323T080000
DTEND;TZID=UTC:20270323T093000
DTSTAMP:20260420T181227
CREATED:20241102T141955Z
LAST-MODIFIED:20241102T141955Z
UID:25416-1805788800-1805794200@sfantuldumitrusuceava.ro
SUMMARY:Sfânta Liturghie
DESCRIPTION:
URL:https://sfantuldumitrusuceava.ro/eveniment/sfanta-liturghie/2027-03-23/
END:VEVENT
BEGIN:VEVENT
DTSTART;TZID=UTC:20270324T080000
DTEND;TZID=UTC:20270324T093000
DTSTAMP:20260420T181227
CREATED:20241102T142044Z
LAST-MODIFIED:20241102T142044Z
UID:25417-1805875200-1805880600@sfantuldumitrusuceava.ro
SUMMARY:Sfânta Liturghie
DESCRIPTION:
URL:https://sfantuldumitrusuceava.ro/eveniment/sfanta-liturghie-2/2027-03-24/
END:VEVENT
BEGIN:VEVENT
DTSTART;TZID=UTC:20270324T170000
DTEND;TZID=UTC:20270324T193000
DTSTAMP:20260420T181227
CREATED:20241102T142205Z
LAST-MODIFIED:20241102T142205Z
UID:25418-1805907600-1805916600@sfantuldumitrusuceava.ro
SUMMARY:Sfințirea Apei\, Acatistul Maicii Domnului ”Pantanassa”\, Taina Sfântului Maslu
DESCRIPTION:
URL:https://sfantuldumitrusuceava.ro/eveniment/sfintirea-apei-acatistul-maicii-domnului-pantanassa-taina-sfantului-maslu/2027-03-24/
END:VEVENT
BEGIN:VEVENT
DTSTART;TZID=UTC:20270325T080000
DTEND;TZID=UTC:20270325T093000
DTSTAMP:20260420T181227
CREATED:20241102T142240Z
LAST-MODIFIED:20241102T142240Z
UID:25419-1805961600-1805967000@sfantuldumitrusuceava.ro
SUMMARY:Sfânta Liturghie
DESCRIPTION:
URL:https://sfantuldumitrusuceava.ro/eveniment/sfanta-liturghie-3/2027-03-25/
END:VEVENT
BEGIN:VEVENT
DTSTART;TZID=UTC:20270326T080000
DTEND;TZID=UTC:20270326T120000
DTSTAMP:20260420T181227
CREATED:20241102T142355Z
LAST-MODIFIED:20241102T142355Z
UID:25420-1806048000-1806062400@sfantuldumitrusuceava.ro
SUMMARY:Utrenia\, Sfânta Liturghie\, Sfințirea Apei și Taina Sfântului Maslu
DESCRIPTION:
URL:https://sfantuldumitrusuceava.ro/eveniment/utrenia-sfanta-liturghie-sfintirea-apei-si-taina-sfantului-maslu/2027-03-26/
END:VEVENT
BEGIN:VEVENT
DTSTART;TZID=UTC:20270327T080000
DTEND;TZID=UTC:20270327T093000
DTSTAMP:20260420T181227
CREATED:20241102T142433Z
LAST-MODIFIED:20241102T142433Z
UID:25421-1806134400-1806139800@sfantuldumitrusuceava.ro
SUMMARY:Sfânta Liturghie și Spovedanie
DESCRIPTION:
URL:https://sfantuldumitrusuceava.ro/eveniment/sfanta-liturghie-si-spovedanie/2027-03-27/
END:VEVENT
BEGIN:VEVENT
DTSTART;TZID=UTC:20270327T103000
DTEND;TZID=UTC:20270327T110000
DTSTAMP:20260420T181227
CREATED:20241102T142519Z
LAST-MODIFIED:20241102T142519Z
UID:25422-1806143400-1806145200@sfantuldumitrusuceava.ro
SUMMARY:Pomenirea celor adormiți (Parastas)
DESCRIPTION:
URL:https://sfantuldumitrusuceava.ro/eveniment/pomenirea-celor-adormiti-parastas/2027-03-27/
END:VEVENT
BEGIN:VEVENT
DTSTART;TZID=Europe/Helsinki:20270328T080000
DTEND;TZID=Europe/Helsinki:20270328T120000
DTSTAMP:20260420T181227
CREATED:20241102T100818Z
LAST-MODIFIED:20241102T100818Z
UID:25423-1806220800-1806235200@sfantuldumitrusuceava.ro
SUMMARY:Utrenia\, Acatistul și Sfânta Liturghie
DESCRIPTION:
URL:https://sfantuldumitrusuceava.ro/eveniment/duminica/2027-03-28/
END:VEVENT
BEGIN:VEVENT
DTSTART;TZID=UTC:20270329T070000
DTEND;TZID=UTC:20270329T090000
DTSTAMP:20260420T181227
CREATED:20241102T141909Z
LAST-MODIFIED:20241102T141909Z
UID:25425-1806303600-1806310800@sfantuldumitrusuceava.ro
SUMMARY:Program de curățenie si Audiențe
DESCRIPTION:
URL:https://sfantuldumitrusuceava.ro/eveniment/program-de-curatenie-si-audiente-2/2027-03-29/
END:VEVENT
BEGIN:VEVENT
DTSTART;TZID=UTC:20270329T090000
DTEND;TZID=UTC:20270329T103000
DTSTAMP:20260420T181227
CREATED:20241102T141724Z
LAST-MODIFIED:20241102T141724Z
UID:25424-1806310800-1806316200@sfantuldumitrusuceava.ro
SUMMARY:Sfânta Liturghie
DESCRIPTION:
URL:https://sfantuldumitrusuceava.ro/eveniment/program-de-curatenie-si-audiente/2027-03-29/
END:VEVENT
BEGIN:VEVENT
DTSTART;TZID=UTC:20270330T080000
DTEND;TZID=UTC:20270330T093000
DTSTAMP:20260420T181227
CREATED:20241102T141955Z
LAST-MODIFIED:20241102T141955Z
UID:25426-1806393600-1806399000@sfantuldumitrusuceava.ro
SUMMARY:Sfânta Liturghie
DESCRIPTION:
URL:https://sfantuldumitrusuceava.ro/eveniment/sfanta-liturghie/2027-03-30/
END:VEVENT
BEGIN:VEVENT
DTSTART;TZID=UTC:20270331T080000
DTEND;TZID=UTC:20270331T093000
DTSTAMP:20260420T181227
CREATED:20241102T142044Z
LAST-MODIFIED:20241102T142044Z
UID:25427-1806480000-1806485400@sfantuldumitrusuceava.ro
SUMMARY:Sfânta Liturghie
DESCRIPTION:
URL:https://sfantuldumitrusuceava.ro/eveniment/sfanta-liturghie-2/2027-03-31/
END:VEVENT
BEGIN:VEVENT
DTSTART;TZID=UTC:20270331T170000
DTEND;TZID=UTC:20270331T193000
DTSTAMP:20260420T181227
CREATED:20241102T142205Z
LAST-MODIFIED:20241102T142205Z
UID:25428-1806512400-1806521400@sfantuldumitrusuceava.ro
SUMMARY:Sfințirea Apei\, Acatistul Maicii Domnului ”Pantanassa”\, Taina Sfântului Maslu
DESCRIPTION:
URL:https://sfantuldumitrusuceava.ro/eveniment/sfintirea-apei-acatistul-maicii-domnului-pantanassa-taina-sfantului-maslu/2027-03-31/
END:VEVENT
BEGIN:VEVENT
DTSTART;TZID=UTC:20270401T080000
DTEND;TZID=UTC:20270401T093000
DTSTAMP:20260420T181227
CREATED:20241102T142240Z
LAST-MODIFIED:20241102T142240Z
UID:25429-1806566400-1806571800@sfantuldumitrusuceava.ro
SUMMARY:Sfânta Liturghie
DESCRIPTION:
URL:https://sfantuldumitrusuceava.ro/eveniment/sfanta-liturghie-3/2027-04-01/
END:VEVENT
BEGIN:VEVENT
DTSTART;TZID=UTC:20270402T080000
DTEND;TZID=UTC:20270402T120000
DTSTAMP:20260420T181227
CREATED:20241102T142355Z
LAST-MODIFIED:20241102T142355Z
UID:25430-1806652800-1806667200@sfantuldumitrusuceava.ro
SUMMARY:Utrenia\, Sfânta Liturghie\, Sfințirea Apei și Taina Sfântului Maslu
DESCRIPTION:
URL:https://sfantuldumitrusuceava.ro/eveniment/utrenia-sfanta-liturghie-sfintirea-apei-si-taina-sfantului-maslu/2027-04-02/
END:VEVENT
BEGIN:VEVENT
DTSTART;TZID=UTC:20270403T080000
DTEND;TZID=UTC:20270403T093000
DTSTAMP:20260420T181227
CREATED:20241102T142433Z
LAST-MODIFIED:20241102T142433Z
UID:25431-1806739200-1806744600@sfantuldumitrusuceava.ro
SUMMARY:Sfânta Liturghie și Spovedanie
DESCRIPTION:
URL:https://sfantuldumitrusuceava.ro/eveniment/sfanta-liturghie-si-spovedanie/2027-04-03/
END:VEVENT
BEGIN:VEVENT
DTSTART;TZID=UTC:20270403T103000
DTEND;TZID=UTC:20270403T110000
DTSTAMP:20260420T181227
CREATED:20241102T142519Z
LAST-MODIFIED:20241102T142519Z
UID:25432-1806748200-1806750000@sfantuldumitrusuceava.ro
SUMMARY:Pomenirea celor adormiți (Parastas)
DESCRIPTION:
URL:https://sfantuldumitrusuceava.ro/eveniment/pomenirea-celor-adormiti-parastas/2027-04-03/
END:VEVENT
BEGIN:VEVENT
DTSTART;TZID=Europe/Helsinki:20270404T080000
DTEND;TZID=Europe/Helsinki:20270404T120000
DTSTAMP:20260420T181227
CREATED:20241102T100818Z
LAST-MODIFIED:20241102T100818Z
UID:25433-1806825600-1806840000@sfantuldumitrusuceava.ro
SUMMARY:Utrenia\, Acatistul și Sfânta Liturghie
DESCRIPTION:
URL:https://sfantuldumitrusuceava.ro/eveniment/duminica/2027-04-04/
END:VEVENT
BEGIN:VEVENT
DTSTART;TZID=UTC:20270405T070000
DTEND;TZID=UTC:20270405T090000
DTSTAMP:20260420T181227
CREATED:20241102T141909Z
LAST-MODIFIED:20241102T141909Z
UID:25435-1806908400-1806915600@sfantuldumitrusuceava.ro
SUMMARY:Program de curățenie si Audiențe
DESCRIPTION:
URL:https://sfantuldumitrusuceava.ro/eveniment/program-de-curatenie-si-audiente-2/2027-04-05/
END:VEVENT
BEGIN:VEVENT
DTSTART;TZID=UTC:20270405T090000
DTEND;TZID=UTC:20270405T103000
DTSTAMP:20260420T181227
CREATED:20241102T141724Z
LAST-MODIFIED:20241102T141724Z
UID:25434-1806915600-1806921000@sfantuldumitrusuceava.ro
SUMMARY:Sfânta Liturghie
DESCRIPTION:
URL:https://sfantuldumitrusuceava.ro/eveniment/program-de-curatenie-si-audiente/2027-04-05/
END:VEVENT
END:VCALENDAR