BEGIN:VCALENDAR
VERSION:2.0
PRODID:-//Parohia Sfântul Dumitru Suceava - ECPv6.8.0//NONSGML v1.0//EN
CALSCALE:GREGORIAN
METHOD:PUBLISH
X-WR-CALNAME:Parohia Sfântul Dumitru Suceava
X-ORIGINAL-URL:https://sfantuldumitrusuceava.ro
X-WR-CALDESC:Events for Parohia Sfântul Dumitru Suceava
REFRESH-INTERVAL;VALUE=DURATION:PT1H
X-Robots-Tag:noindex
X-PUBLISHED-TTL:PT1H
BEGIN:VTIMEZONE
TZID:UTC
BEGIN:STANDARD
TZOFFSETFROM:+0000
TZOFFSETTO:+0000
TZNAME:UTC
DTSTART:20270101T000000
END:STANDARD
TZID:Europe/Helsinki
BEGIN:DAYLIGHT
TZOFFSETFROM:+0200
TZOFFSETTO:+0300
TZNAME:EEST
DTSTART:20270328T010000
END:DAYLIGHT
BEGIN:STANDARD
TZOFFSETFROM:+0300
TZOFFSETTO:+0200
TZNAME:EET
DTSTART:20271031T010000
END:STANDARD
END:VTIMEZONE
BEGIN:VEVENT
DTSTART;TZID=UTC:20271111T080000
DTEND;TZID=UTC:20271111T093000
DTSTAMP:20260423T163418
CREATED:20241102T142240Z
LAST-MODIFIED:20241102T142240Z
UID:25749-1825920000-1825925400@sfantuldumitrusuceava.ro
SUMMARY:Sfânta Liturghie
DESCRIPTION:
URL:https://sfantuldumitrusuceava.ro/eveniment/sfanta-liturghie-3/2027-11-11/
END:VEVENT
BEGIN:VEVENT
DTSTART;TZID=UTC:20271112T080000
DTEND;TZID=UTC:20271112T120000
DTSTAMP:20260423T163418
CREATED:20241102T142355Z
LAST-MODIFIED:20241102T142355Z
UID:25750-1826006400-1826020800@sfantuldumitrusuceava.ro
SUMMARY:Utrenia\, Sfânta Liturghie\, Sfințirea Apei și Taina Sfântului Maslu
DESCRIPTION:
URL:https://sfantuldumitrusuceava.ro/eveniment/utrenia-sfanta-liturghie-sfintirea-apei-si-taina-sfantului-maslu/2027-11-12/
END:VEVENT
BEGIN:VEVENT
DTSTART;TZID=UTC:20271113T080000
DTEND;TZID=UTC:20271113T093000
DTSTAMP:20260423T163418
CREATED:20241102T142433Z
LAST-MODIFIED:20241102T142433Z
UID:25751-1826092800-1826098200@sfantuldumitrusuceava.ro
SUMMARY:Sfânta Liturghie și Spovedanie
DESCRIPTION:
URL:https://sfantuldumitrusuceava.ro/eveniment/sfanta-liturghie-si-spovedanie/2027-11-13/
END:VEVENT
BEGIN:VEVENT
DTSTART;TZID=UTC:20271113T103000
DTEND;TZID=UTC:20271113T110000
DTSTAMP:20260423T163418
CREATED:20241102T142519Z
LAST-MODIFIED:20241102T142519Z
UID:25752-1826101800-1826103600@sfantuldumitrusuceava.ro
SUMMARY:Pomenirea celor adormiți (Parastas)
DESCRIPTION:
URL:https://sfantuldumitrusuceava.ro/eveniment/pomenirea-celor-adormiti-parastas/2027-11-13/
END:VEVENT
BEGIN:VEVENT
DTSTART;TZID=Europe/Helsinki:20271114T080000
DTEND;TZID=Europe/Helsinki:20271114T120000
DTSTAMP:20260423T163418
CREATED:20241102T100818Z
LAST-MODIFIED:20241102T100818Z
UID:25753-1826179200-1826193600@sfantuldumitrusuceava.ro
SUMMARY:Utrenia\, Acatistul și Sfânta Liturghie
DESCRIPTION:
URL:https://sfantuldumitrusuceava.ro/eveniment/duminica/2027-11-14/
END:VEVENT
BEGIN:VEVENT
DTSTART;TZID=UTC:20271115T070000
DTEND;TZID=UTC:20271115T090000
DTSTAMP:20260423T163418
CREATED:20241102T141909Z
LAST-MODIFIED:20241102T141909Z
UID:25755-1826262000-1826269200@sfantuldumitrusuceava.ro
SUMMARY:Program de curățenie si Audiențe
DESCRIPTION:
URL:https://sfantuldumitrusuceava.ro/eveniment/program-de-curatenie-si-audiente-2/2027-11-15/
END:VEVENT
BEGIN:VEVENT
DTSTART;TZID=UTC:20271115T090000
DTEND;TZID=UTC:20271115T103000
DTSTAMP:20260423T163418
CREATED:20241102T141724Z
LAST-MODIFIED:20241102T141724Z
UID:25754-1826269200-1826274600@sfantuldumitrusuceava.ro
SUMMARY:Sfânta Liturghie
DESCRIPTION:
URL:https://sfantuldumitrusuceava.ro/eveniment/program-de-curatenie-si-audiente/2027-11-15/
END:VEVENT
BEGIN:VEVENT
DTSTART;TZID=UTC:20271116T080000
DTEND;TZID=UTC:20271116T093000
DTSTAMP:20260423T163418
CREATED:20241102T141955Z
LAST-MODIFIED:20241102T141955Z
UID:25756-1826352000-1826357400@sfantuldumitrusuceava.ro
SUMMARY:Sfânta Liturghie
DESCRIPTION:
URL:https://sfantuldumitrusuceava.ro/eveniment/sfanta-liturghie/2027-11-16/
END:VEVENT
BEGIN:VEVENT
DTSTART;TZID=UTC:20271117T080000
DTEND;TZID=UTC:20271117T093000
DTSTAMP:20260423T163418
CREATED:20241102T142044Z
LAST-MODIFIED:20241102T142044Z
UID:25757-1826438400-1826443800@sfantuldumitrusuceava.ro
SUMMARY:Sfânta Liturghie
DESCRIPTION:
URL:https://sfantuldumitrusuceava.ro/eveniment/sfanta-liturghie-2/2027-11-17/
END:VEVENT
BEGIN:VEVENT
DTSTART;TZID=UTC:20271117T170000
DTEND;TZID=UTC:20271117T193000
DTSTAMP:20260423T163418
CREATED:20241102T142205Z
LAST-MODIFIED:20241102T142205Z
UID:25758-1826470800-1826479800@sfantuldumitrusuceava.ro
SUMMARY:Sfințirea Apei\, Acatistul Maicii Domnului ”Pantanassa”\, Taina Sfântului Maslu
DESCRIPTION:
URL:https://sfantuldumitrusuceava.ro/eveniment/sfintirea-apei-acatistul-maicii-domnului-pantanassa-taina-sfantului-maslu/2027-11-17/
END:VEVENT
BEGIN:VEVENT
DTSTART;TZID=UTC:20271118T080000
DTEND;TZID=UTC:20271118T093000
DTSTAMP:20260423T163418
CREATED:20241102T142240Z
LAST-MODIFIED:20241102T142240Z
UID:25759-1826524800-1826530200@sfantuldumitrusuceava.ro
SUMMARY:Sfânta Liturghie
DESCRIPTION:
URL:https://sfantuldumitrusuceava.ro/eveniment/sfanta-liturghie-3/2027-11-18/
END:VEVENT
BEGIN:VEVENT
DTSTART;TZID=UTC:20271119T080000
DTEND;TZID=UTC:20271119T120000
DTSTAMP:20260423T163418
CREATED:20241102T142355Z
LAST-MODIFIED:20241102T142355Z
UID:25760-1826611200-1826625600@sfantuldumitrusuceava.ro
SUMMARY:Utrenia\, Sfânta Liturghie\, Sfințirea Apei și Taina Sfântului Maslu
DESCRIPTION:
URL:https://sfantuldumitrusuceava.ro/eveniment/utrenia-sfanta-liturghie-sfintirea-apei-si-taina-sfantului-maslu/2027-11-19/
END:VEVENT
BEGIN:VEVENT
DTSTART;TZID=UTC:20271120T080000
DTEND;TZID=UTC:20271120T093000
DTSTAMP:20260423T163418
CREATED:20241102T142433Z
LAST-MODIFIED:20241102T142433Z
UID:25761-1826697600-1826703000@sfantuldumitrusuceava.ro
SUMMARY:Sfânta Liturghie și Spovedanie
DESCRIPTION:
URL:https://sfantuldumitrusuceava.ro/eveniment/sfanta-liturghie-si-spovedanie/2027-11-20/
END:VEVENT
BEGIN:VEVENT
DTSTART;TZID=UTC:20271120T103000
DTEND;TZID=UTC:20271120T110000
DTSTAMP:20260423T163418
CREATED:20241102T142519Z
LAST-MODIFIED:20241102T142519Z
UID:25762-1826706600-1826708400@sfantuldumitrusuceava.ro
SUMMARY:Pomenirea celor adormiți (Parastas)
DESCRIPTION:
URL:https://sfantuldumitrusuceava.ro/eveniment/pomenirea-celor-adormiti-parastas/2027-11-20/
END:VEVENT
BEGIN:VEVENT
DTSTART;TZID=Europe/Helsinki:20271121T080000
DTEND;TZID=Europe/Helsinki:20271121T120000
DTSTAMP:20260423T163418
CREATED:20241102T100818Z
LAST-MODIFIED:20241102T100818Z
UID:25763-1826784000-1826798400@sfantuldumitrusuceava.ro
SUMMARY:Utrenia\, Acatistul și Sfânta Liturghie
DESCRIPTION:
URL:https://sfantuldumitrusuceava.ro/eveniment/duminica/2027-11-21/
END:VEVENT
BEGIN:VEVENT
DTSTART;TZID=UTC:20271122T070000
DTEND;TZID=UTC:20271122T090000
DTSTAMP:20260423T163418
CREATED:20241102T141909Z
LAST-MODIFIED:20241102T141909Z
UID:25765-1826866800-1826874000@sfantuldumitrusuceava.ro
SUMMARY:Program de curățenie si Audiențe
DESCRIPTION:
URL:https://sfantuldumitrusuceava.ro/eveniment/program-de-curatenie-si-audiente-2/2027-11-22/
END:VEVENT
BEGIN:VEVENT
DTSTART;TZID=UTC:20271122T090000
DTEND;TZID=UTC:20271122T103000
DTSTAMP:20260423T163418
CREATED:20241102T141724Z
LAST-MODIFIED:20241102T141724Z
UID:25764-1826874000-1826879400@sfantuldumitrusuceava.ro
SUMMARY:Sfânta Liturghie
DESCRIPTION:
URL:https://sfantuldumitrusuceava.ro/eveniment/program-de-curatenie-si-audiente/2027-11-22/
END:VEVENT
BEGIN:VEVENT
DTSTART;TZID=UTC:20271123T080000
DTEND;TZID=UTC:20271123T093000
DTSTAMP:20260423T163418
CREATED:20241102T141955Z
LAST-MODIFIED:20241102T141955Z
UID:25766-1826956800-1826962200@sfantuldumitrusuceava.ro
SUMMARY:Sfânta Liturghie
DESCRIPTION:
URL:https://sfantuldumitrusuceava.ro/eveniment/sfanta-liturghie/2027-11-23/
END:VEVENT
BEGIN:VEVENT
DTSTART;TZID=UTC:20271124T080000
DTEND;TZID=UTC:20271124T093000
DTSTAMP:20260423T163418
CREATED:20241102T142044Z
LAST-MODIFIED:20241102T142044Z
UID:25767-1827043200-1827048600@sfantuldumitrusuceava.ro
SUMMARY:Sfânta Liturghie
DESCRIPTION:
URL:https://sfantuldumitrusuceava.ro/eveniment/sfanta-liturghie-2/2027-11-24/
END:VEVENT
BEGIN:VEVENT
DTSTART;TZID=UTC:20271124T170000
DTEND;TZID=UTC:20271124T193000
DTSTAMP:20260423T163418
CREATED:20241102T142205Z
LAST-MODIFIED:20241102T142205Z
UID:25768-1827075600-1827084600@sfantuldumitrusuceava.ro
SUMMARY:Sfințirea Apei\, Acatistul Maicii Domnului ”Pantanassa”\, Taina Sfântului Maslu
DESCRIPTION:
URL:https://sfantuldumitrusuceava.ro/eveniment/sfintirea-apei-acatistul-maicii-domnului-pantanassa-taina-sfantului-maslu/2027-11-24/
END:VEVENT
BEGIN:VEVENT
DTSTART;TZID=UTC:20271125T080000
DTEND;TZID=UTC:20271125T093000
DTSTAMP:20260423T163418
CREATED:20241102T142240Z
LAST-MODIFIED:20241102T142240Z
UID:25769-1827129600-1827135000@sfantuldumitrusuceava.ro
SUMMARY:Sfânta Liturghie
DESCRIPTION:
URL:https://sfantuldumitrusuceava.ro/eveniment/sfanta-liturghie-3/2027-11-25/
END:VEVENT
BEGIN:VEVENT
DTSTART;TZID=UTC:20271126T080000
DTEND;TZID=UTC:20271126T120000
DTSTAMP:20260423T163418
CREATED:20241102T142355Z
LAST-MODIFIED:20241102T142355Z
UID:25770-1827216000-1827230400@sfantuldumitrusuceava.ro
SUMMARY:Utrenia\, Sfânta Liturghie\, Sfințirea Apei și Taina Sfântului Maslu
DESCRIPTION:
URL:https://sfantuldumitrusuceava.ro/eveniment/utrenia-sfanta-liturghie-sfintirea-apei-si-taina-sfantului-maslu/2027-11-26/
END:VEVENT
BEGIN:VEVENT
DTSTART;TZID=UTC:20271127T080000
DTEND;TZID=UTC:20271127T093000
DTSTAMP:20260423T163418
CREATED:20241102T142433Z
LAST-MODIFIED:20241102T142433Z
UID:25771-1827302400-1827307800@sfantuldumitrusuceava.ro
SUMMARY:Sfânta Liturghie și Spovedanie
DESCRIPTION:
URL:https://sfantuldumitrusuceava.ro/eveniment/sfanta-liturghie-si-spovedanie/2027-11-27/
END:VEVENT
BEGIN:VEVENT
DTSTART;TZID=UTC:20271127T103000
DTEND;TZID=UTC:20271127T110000
DTSTAMP:20260423T163418
CREATED:20241102T142519Z
LAST-MODIFIED:20241102T142519Z
UID:25772-1827311400-1827313200@sfantuldumitrusuceava.ro
SUMMARY:Pomenirea celor adormiți (Parastas)
DESCRIPTION:
URL:https://sfantuldumitrusuceava.ro/eveniment/pomenirea-celor-adormiti-parastas/2027-11-27/
END:VEVENT
BEGIN:VEVENT
DTSTART;TZID=Europe/Helsinki:20271128T080000
DTEND;TZID=Europe/Helsinki:20271128T120000
DTSTAMP:20260423T163418
CREATED:20241102T100818Z
LAST-MODIFIED:20241102T100818Z
UID:25773-1827388800-1827403200@sfantuldumitrusuceava.ro
SUMMARY:Utrenia\, Acatistul și Sfânta Liturghie
DESCRIPTION:
URL:https://sfantuldumitrusuceava.ro/eveniment/duminica/2027-11-28/
END:VEVENT
BEGIN:VEVENT
DTSTART;TZID=UTC:20271129T070000
DTEND;TZID=UTC:20271129T090000
DTSTAMP:20260423T163418
CREATED:20241102T141909Z
LAST-MODIFIED:20241102T141909Z
UID:25775-1827471600-1827478800@sfantuldumitrusuceava.ro
SUMMARY:Program de curățenie si Audiențe
DESCRIPTION:
URL:https://sfantuldumitrusuceava.ro/eveniment/program-de-curatenie-si-audiente-2/2027-11-29/
END:VEVENT
BEGIN:VEVENT
DTSTART;TZID=UTC:20271129T090000
DTEND;TZID=UTC:20271129T103000
DTSTAMP:20260423T163418
CREATED:20241102T141724Z
LAST-MODIFIED:20241102T141724Z
UID:25774-1827478800-1827484200@sfantuldumitrusuceava.ro
SUMMARY:Sfânta Liturghie
DESCRIPTION:
URL:https://sfantuldumitrusuceava.ro/eveniment/program-de-curatenie-si-audiente/2027-11-29/
END:VEVENT
BEGIN:VEVENT
DTSTART;TZID=UTC:20271130T080000
DTEND;TZID=UTC:20271130T093000
DTSTAMP:20260423T163418
CREATED:20241102T141955Z
LAST-MODIFIED:20241102T141955Z
UID:25776-1827561600-1827567000@sfantuldumitrusuceava.ro
SUMMARY:Sfânta Liturghie
DESCRIPTION:
URL:https://sfantuldumitrusuceava.ro/eveniment/sfanta-liturghie/2027-11-30/
END:VEVENT
BEGIN:VEVENT
DTSTART;TZID=UTC:20271201T080000
DTEND;TZID=UTC:20271201T093000
DTSTAMP:20260423T163418
CREATED:20241102T142044Z
LAST-MODIFIED:20241102T142044Z
UID:25777-1827648000-1827653400@sfantuldumitrusuceava.ro
SUMMARY:Sfânta Liturghie
DESCRIPTION:
URL:https://sfantuldumitrusuceava.ro/eveniment/sfanta-liturghie-2/2027-12-01/
END:VEVENT
BEGIN:VEVENT
DTSTART;TZID=UTC:20271201T170000
DTEND;TZID=UTC:20271201T193000
DTSTAMP:20260423T163418
CREATED:20241102T142205Z
LAST-MODIFIED:20241102T142205Z
UID:25778-1827680400-1827689400@sfantuldumitrusuceava.ro
SUMMARY:Sfințirea Apei\, Acatistul Maicii Domnului ”Pantanassa”\, Taina Sfântului Maslu
DESCRIPTION:
URL:https://sfantuldumitrusuceava.ro/eveniment/sfintirea-apei-acatistul-maicii-domnului-pantanassa-taina-sfantului-maslu/2027-12-01/
END:VEVENT
END:VCALENDAR