BEGIN:VCALENDAR
VERSION:2.0
PRODID:-//Parohia Sfântul Dumitru Suceava - ECPv6.8.0//NONSGML v1.0//EN
CALSCALE:GREGORIAN
METHOD:PUBLISH
X-WR-CALNAME:Parohia Sfântul Dumitru Suceava
X-ORIGINAL-URL:https://sfantuldumitrusuceava.ro
X-WR-CALDESC:Events for Parohia Sfântul Dumitru Suceava
REFRESH-INTERVAL;VALUE=DURATION:PT1H
X-Robots-Tag:noindex
X-PUBLISHED-TTL:PT1H
BEGIN:VTIMEZONE
TZID:Europe/Helsinki
BEGIN:DAYLIGHT
TZOFFSETFROM:+0200
TZOFFSETTO:+0300
TZNAME:EEST
DTSTART:20270328T010000
END:DAYLIGHT
BEGIN:STANDARD
TZOFFSETFROM:+0300
TZOFFSETTO:+0200
TZNAME:EET
DTSTART:20271031T010000
END:STANDARD
TZID:UTC
BEGIN:STANDARD
TZOFFSETFROM:+0000
TZOFFSETTO:+0000
TZNAME:UTC
DTSTART:20270101T000000
END:STANDARD
END:VTIMEZONE
BEGIN:VEVENT
DTSTART;TZID=Europe/Helsinki:20271205T080000
DTEND;TZID=Europe/Helsinki:20271205T120000
DTSTAMP:20260424T001348
CREATED:20241102T100818Z
LAST-MODIFIED:20241102T100818Z
UID:25783-1827993600-1828008000@sfantuldumitrusuceava.ro
SUMMARY:Utrenia\, Acatistul și Sfânta Liturghie
DESCRIPTION:
URL:https://sfantuldumitrusuceava.ro/eveniment/duminica/2027-12-05/
END:VEVENT
BEGIN:VEVENT
DTSTART;TZID=UTC:20271206T070000
DTEND;TZID=UTC:20271206T090000
DTSTAMP:20260424T001348
CREATED:20241102T141909Z
LAST-MODIFIED:20241102T141909Z
UID:25785-1828076400-1828083600@sfantuldumitrusuceava.ro
SUMMARY:Program de curățenie si Audiențe
DESCRIPTION:
URL:https://sfantuldumitrusuceava.ro/eveniment/program-de-curatenie-si-audiente-2/2027-12-06/
END:VEVENT
BEGIN:VEVENT
DTSTART;TZID=UTC:20271206T090000
DTEND;TZID=UTC:20271206T103000
DTSTAMP:20260424T001348
CREATED:20241102T141724Z
LAST-MODIFIED:20241102T141724Z
UID:25784-1828083600-1828089000@sfantuldumitrusuceava.ro
SUMMARY:Sfânta Liturghie
DESCRIPTION:
URL:https://sfantuldumitrusuceava.ro/eveniment/program-de-curatenie-si-audiente/2027-12-06/
END:VEVENT
BEGIN:VEVENT
DTSTART;TZID=UTC:20271207T080000
DTEND;TZID=UTC:20271207T093000
DTSTAMP:20260424T001348
CREATED:20241102T141955Z
LAST-MODIFIED:20241102T141955Z
UID:25786-1828166400-1828171800@sfantuldumitrusuceava.ro
SUMMARY:Sfânta Liturghie
DESCRIPTION:
URL:https://sfantuldumitrusuceava.ro/eveniment/sfanta-liturghie/2027-12-07/
END:VEVENT
BEGIN:VEVENT
DTSTART;TZID=UTC:20271208T080000
DTEND;TZID=UTC:20271208T093000
DTSTAMP:20260424T001348
CREATED:20241102T142044Z
LAST-MODIFIED:20241102T142044Z
UID:25787-1828252800-1828258200@sfantuldumitrusuceava.ro
SUMMARY:Sfânta Liturghie
DESCRIPTION:
URL:https://sfantuldumitrusuceava.ro/eveniment/sfanta-liturghie-2/2027-12-08/
END:VEVENT
BEGIN:VEVENT
DTSTART;TZID=UTC:20271208T170000
DTEND;TZID=UTC:20271208T193000
DTSTAMP:20260424T001348
CREATED:20241102T142205Z
LAST-MODIFIED:20241102T142205Z
UID:25788-1828285200-1828294200@sfantuldumitrusuceava.ro
SUMMARY:Sfințirea Apei\, Acatistul Maicii Domnului ”Pantanassa”\, Taina Sfântului Maslu
DESCRIPTION:
URL:https://sfantuldumitrusuceava.ro/eveniment/sfintirea-apei-acatistul-maicii-domnului-pantanassa-taina-sfantului-maslu/2027-12-08/
END:VEVENT
BEGIN:VEVENT
DTSTART;TZID=UTC:20271209T080000
DTEND;TZID=UTC:20271209T093000
DTSTAMP:20260424T001348
CREATED:20241102T142240Z
LAST-MODIFIED:20241102T142240Z
UID:25789-1828339200-1828344600@sfantuldumitrusuceava.ro
SUMMARY:Sfânta Liturghie
DESCRIPTION:
URL:https://sfantuldumitrusuceava.ro/eveniment/sfanta-liturghie-3/2027-12-09/
END:VEVENT
BEGIN:VEVENT
DTSTART;TZID=UTC:20271210T080000
DTEND;TZID=UTC:20271210T120000
DTSTAMP:20260424T001348
CREATED:20241102T142355Z
LAST-MODIFIED:20241102T142355Z
UID:25790-1828425600-1828440000@sfantuldumitrusuceava.ro
SUMMARY:Utrenia\, Sfânta Liturghie\, Sfințirea Apei și Taina Sfântului Maslu
DESCRIPTION:
URL:https://sfantuldumitrusuceava.ro/eveniment/utrenia-sfanta-liturghie-sfintirea-apei-si-taina-sfantului-maslu/2027-12-10/
END:VEVENT
BEGIN:VEVENT
DTSTART;TZID=UTC:20271211T080000
DTEND;TZID=UTC:20271211T093000
DTSTAMP:20260424T001348
CREATED:20241102T142433Z
LAST-MODIFIED:20241102T142433Z
UID:25791-1828512000-1828517400@sfantuldumitrusuceava.ro
SUMMARY:Sfânta Liturghie și Spovedanie
DESCRIPTION:
URL:https://sfantuldumitrusuceava.ro/eveniment/sfanta-liturghie-si-spovedanie/2027-12-11/
END:VEVENT
BEGIN:VEVENT
DTSTART;TZID=UTC:20271211T103000
DTEND;TZID=UTC:20271211T110000
DTSTAMP:20260424T001348
CREATED:20241102T142519Z
LAST-MODIFIED:20241102T142519Z
UID:25792-1828521000-1828522800@sfantuldumitrusuceava.ro
SUMMARY:Pomenirea celor adormiți (Parastas)
DESCRIPTION:
URL:https://sfantuldumitrusuceava.ro/eveniment/pomenirea-celor-adormiti-parastas/2027-12-11/
END:VEVENT
BEGIN:VEVENT
DTSTART;TZID=Europe/Helsinki:20271212T080000
DTEND;TZID=Europe/Helsinki:20271212T120000
DTSTAMP:20260424T001348
CREATED:20241102T100818Z
LAST-MODIFIED:20241102T100818Z
UID:25793-1828598400-1828612800@sfantuldumitrusuceava.ro
SUMMARY:Utrenia\, Acatistul și Sfânta Liturghie
DESCRIPTION:
URL:https://sfantuldumitrusuceava.ro/eveniment/duminica/2027-12-12/
END:VEVENT
BEGIN:VEVENT
DTSTART;TZID=UTC:20271213T070000
DTEND;TZID=UTC:20271213T090000
DTSTAMP:20260424T001348
CREATED:20241102T141909Z
LAST-MODIFIED:20241102T141909Z
UID:25795-1828681200-1828688400@sfantuldumitrusuceava.ro
SUMMARY:Program de curățenie si Audiențe
DESCRIPTION:
URL:https://sfantuldumitrusuceava.ro/eveniment/program-de-curatenie-si-audiente-2/2027-12-13/
END:VEVENT
BEGIN:VEVENT
DTSTART;TZID=UTC:20271213T090000
DTEND;TZID=UTC:20271213T103000
DTSTAMP:20260424T001348
CREATED:20241102T141724Z
LAST-MODIFIED:20241102T141724Z
UID:25794-1828688400-1828693800@sfantuldumitrusuceava.ro
SUMMARY:Sfânta Liturghie
DESCRIPTION:
URL:https://sfantuldumitrusuceava.ro/eveniment/program-de-curatenie-si-audiente/2027-12-13/
END:VEVENT
BEGIN:VEVENT
DTSTART;TZID=UTC:20271214T080000
DTEND;TZID=UTC:20271214T093000
DTSTAMP:20260424T001348
CREATED:20241102T141955Z
LAST-MODIFIED:20241102T141955Z
UID:25796-1828771200-1828776600@sfantuldumitrusuceava.ro
SUMMARY:Sfânta Liturghie
DESCRIPTION:
URL:https://sfantuldumitrusuceava.ro/eveniment/sfanta-liturghie/2027-12-14/
END:VEVENT
BEGIN:VEVENT
DTSTART;TZID=UTC:20271215T080000
DTEND;TZID=UTC:20271215T093000
DTSTAMP:20260424T001348
CREATED:20241102T142044Z
LAST-MODIFIED:20241102T142044Z
UID:25797-1828857600-1828863000@sfantuldumitrusuceava.ro
SUMMARY:Sfânta Liturghie
DESCRIPTION:
URL:https://sfantuldumitrusuceava.ro/eveniment/sfanta-liturghie-2/2027-12-15/
END:VEVENT
BEGIN:VEVENT
DTSTART;TZID=UTC:20271215T170000
DTEND;TZID=UTC:20271215T193000
DTSTAMP:20260424T001348
CREATED:20241102T142205Z
LAST-MODIFIED:20241102T142205Z
UID:25798-1828890000-1828899000@sfantuldumitrusuceava.ro
SUMMARY:Sfințirea Apei\, Acatistul Maicii Domnului ”Pantanassa”\, Taina Sfântului Maslu
DESCRIPTION:
URL:https://sfantuldumitrusuceava.ro/eveniment/sfintirea-apei-acatistul-maicii-domnului-pantanassa-taina-sfantului-maslu/2027-12-15/
END:VEVENT
BEGIN:VEVENT
DTSTART;TZID=UTC:20271216T080000
DTEND;TZID=UTC:20271216T093000
DTSTAMP:20260424T001348
CREATED:20241102T142240Z
LAST-MODIFIED:20241102T142240Z
UID:25799-1828944000-1828949400@sfantuldumitrusuceava.ro
SUMMARY:Sfânta Liturghie
DESCRIPTION:
URL:https://sfantuldumitrusuceava.ro/eveniment/sfanta-liturghie-3/2027-12-16/
END:VEVENT
BEGIN:VEVENT
DTSTART;TZID=UTC:20271217T080000
DTEND;TZID=UTC:20271217T120000
DTSTAMP:20260424T001348
CREATED:20241102T142355Z
LAST-MODIFIED:20241102T142355Z
UID:25800-1829030400-1829044800@sfantuldumitrusuceava.ro
SUMMARY:Utrenia\, Sfânta Liturghie\, Sfințirea Apei și Taina Sfântului Maslu
DESCRIPTION:
URL:https://sfantuldumitrusuceava.ro/eveniment/utrenia-sfanta-liturghie-sfintirea-apei-si-taina-sfantului-maslu/2027-12-17/
END:VEVENT
BEGIN:VEVENT
DTSTART;TZID=UTC:20271218T080000
DTEND;TZID=UTC:20271218T093000
DTSTAMP:20260424T001348
CREATED:20241102T142433Z
LAST-MODIFIED:20241102T142433Z
UID:25801-1829116800-1829122200@sfantuldumitrusuceava.ro
SUMMARY:Sfânta Liturghie și Spovedanie
DESCRIPTION:
URL:https://sfantuldumitrusuceava.ro/eveniment/sfanta-liturghie-si-spovedanie/2027-12-18/
END:VEVENT
BEGIN:VEVENT
DTSTART;TZID=UTC:20271218T103000
DTEND;TZID=UTC:20271218T110000
DTSTAMP:20260424T001348
CREATED:20241102T142519Z
LAST-MODIFIED:20241102T142519Z
UID:25802-1829125800-1829127600@sfantuldumitrusuceava.ro
SUMMARY:Pomenirea celor adormiți (Parastas)
DESCRIPTION:
URL:https://sfantuldumitrusuceava.ro/eveniment/pomenirea-celor-adormiti-parastas/2027-12-18/
END:VEVENT
BEGIN:VEVENT
DTSTART;TZID=Europe/Helsinki:20271219T080000
DTEND;TZID=Europe/Helsinki:20271219T120000
DTSTAMP:20260424T001348
CREATED:20241102T100818Z
LAST-MODIFIED:20241102T100818Z
UID:25803-1829203200-1829217600@sfantuldumitrusuceava.ro
SUMMARY:Utrenia\, Acatistul și Sfânta Liturghie
DESCRIPTION:
URL:https://sfantuldumitrusuceava.ro/eveniment/duminica/2027-12-19/
END:VEVENT
BEGIN:VEVENT
DTSTART;TZID=UTC:20271220T070000
DTEND;TZID=UTC:20271220T090000
DTSTAMP:20260424T001348
CREATED:20241102T141909Z
LAST-MODIFIED:20241102T141909Z
UID:25805-1829286000-1829293200@sfantuldumitrusuceava.ro
SUMMARY:Program de curățenie si Audiențe
DESCRIPTION:
URL:https://sfantuldumitrusuceava.ro/eveniment/program-de-curatenie-si-audiente-2/2027-12-20/
END:VEVENT
BEGIN:VEVENT
DTSTART;TZID=UTC:20271220T090000
DTEND;TZID=UTC:20271220T103000
DTSTAMP:20260424T001348
CREATED:20241102T141724Z
LAST-MODIFIED:20241102T141724Z
UID:25804-1829293200-1829298600@sfantuldumitrusuceava.ro
SUMMARY:Sfânta Liturghie
DESCRIPTION:
URL:https://sfantuldumitrusuceava.ro/eveniment/program-de-curatenie-si-audiente/2027-12-20/
END:VEVENT
BEGIN:VEVENT
DTSTART;TZID=UTC:20271221T080000
DTEND;TZID=UTC:20271221T093000
DTSTAMP:20260424T001348
CREATED:20241102T141955Z
LAST-MODIFIED:20241102T141955Z
UID:25806-1829376000-1829381400@sfantuldumitrusuceava.ro
SUMMARY:Sfânta Liturghie
DESCRIPTION:
URL:https://sfantuldumitrusuceava.ro/eveniment/sfanta-liturghie/2027-12-21/
END:VEVENT
BEGIN:VEVENT
DTSTART;TZID=UTC:20271222T080000
DTEND;TZID=UTC:20271222T093000
DTSTAMP:20260424T001348
CREATED:20241102T142044Z
LAST-MODIFIED:20241102T142044Z
UID:25807-1829462400-1829467800@sfantuldumitrusuceava.ro
SUMMARY:Sfânta Liturghie
DESCRIPTION:
URL:https://sfantuldumitrusuceava.ro/eveniment/sfanta-liturghie-2/2027-12-22/
END:VEVENT
BEGIN:VEVENT
DTSTART;TZID=UTC:20271222T170000
DTEND;TZID=UTC:20271222T193000
DTSTAMP:20260424T001348
CREATED:20241102T142205Z
LAST-MODIFIED:20241102T142205Z
UID:25808-1829494800-1829503800@sfantuldumitrusuceava.ro
SUMMARY:Sfințirea Apei\, Acatistul Maicii Domnului ”Pantanassa”\, Taina Sfântului Maslu
DESCRIPTION:
URL:https://sfantuldumitrusuceava.ro/eveniment/sfintirea-apei-acatistul-maicii-domnului-pantanassa-taina-sfantului-maslu/2027-12-22/
END:VEVENT
BEGIN:VEVENT
DTSTART;TZID=UTC:20271223T080000
DTEND;TZID=UTC:20271223T093000
DTSTAMP:20260424T001348
CREATED:20241102T142240Z
LAST-MODIFIED:20241102T142240Z
UID:25809-1829548800-1829554200@sfantuldumitrusuceava.ro
SUMMARY:Sfânta Liturghie
DESCRIPTION:
URL:https://sfantuldumitrusuceava.ro/eveniment/sfanta-liturghie-3/2027-12-23/
END:VEVENT
BEGIN:VEVENT
DTSTART;TZID=UTC:20271224T080000
DTEND;TZID=UTC:20271224T120000
DTSTAMP:20260424T001348
CREATED:20241102T142355Z
LAST-MODIFIED:20241102T142355Z
UID:25810-1829635200-1829649600@sfantuldumitrusuceava.ro
SUMMARY:Utrenia\, Sfânta Liturghie\, Sfințirea Apei și Taina Sfântului Maslu
DESCRIPTION:
URL:https://sfantuldumitrusuceava.ro/eveniment/utrenia-sfanta-liturghie-sfintirea-apei-si-taina-sfantului-maslu/2027-12-24/
END:VEVENT
BEGIN:VEVENT
DTSTART;TZID=UTC:20271225T080000
DTEND;TZID=UTC:20271225T093000
DTSTAMP:20260424T001348
CREATED:20241102T142433Z
LAST-MODIFIED:20241102T142433Z
UID:25811-1829721600-1829727000@sfantuldumitrusuceava.ro
SUMMARY:Sfânta Liturghie și Spovedanie
DESCRIPTION:
URL:https://sfantuldumitrusuceava.ro/eveniment/sfanta-liturghie-si-spovedanie/2027-12-25/
END:VEVENT
BEGIN:VEVENT
DTSTART;TZID=UTC:20271225T103000
DTEND;TZID=UTC:20271225T110000
DTSTAMP:20260424T001348
CREATED:20241102T142519Z
LAST-MODIFIED:20241102T142519Z
UID:25812-1829730600-1829732400@sfantuldumitrusuceava.ro
SUMMARY:Pomenirea celor adormiți (Parastas)
DESCRIPTION:
URL:https://sfantuldumitrusuceava.ro/eveniment/pomenirea-celor-adormiti-parastas/2027-12-25/
END:VEVENT
END:VCALENDAR