BEGIN:VCALENDAR
VERSION:2.0
PRODID:-//Parohia Sfântul Dumitru Suceava - ECPv6.8.0//NONSGML v1.0//EN
CALSCALE:GREGORIAN
METHOD:PUBLISH
X-ORIGINAL-URL:https://sfantuldumitrusuceava.ro
X-WR-CALDESC:Events for Parohia Sfântul Dumitru Suceava
REFRESH-INTERVAL;VALUE=DURATION:PT1H
X-Robots-Tag:noindex
X-PUBLISHED-TTL:PT1H
BEGIN:VTIMEZONE
TZID:UTC
BEGIN:STANDARD
TZOFFSETFROM:+0000
TZOFFSETTO:+0000
TZNAME:UTC
DTSTART:20280101T000000
END:STANDARD
TZID:Europe/Helsinki
BEGIN:DAYLIGHT
TZOFFSETFROM:+0200
TZOFFSETTO:+0300
TZNAME:EEST
DTSTART:20280326T010000
END:DAYLIGHT
BEGIN:STANDARD
TZOFFSETFROM:+0300
TZOFFSETTO:+0200
TZNAME:EET
DTSTART:20281029T010000
END:STANDARD
END:VTIMEZONE
BEGIN:VEVENT
DTSTART;TZID=UTC:20280129T080000
DTEND;TZID=UTC:20280129T093000
DTSTAMP:20260424T150310
CREATED:20241102T142433Z
LAST-MODIFIED:20241102T142433Z
UID:25861-1832745600-1832751000@sfantuldumitrusuceava.ro
SUMMARY:Sfânta Liturghie și Spovedanie
DESCRIPTION:
URL:https://sfantuldumitrusuceava.ro/eveniment/sfanta-liturghie-si-spovedanie/2028-01-29/
END:VEVENT
BEGIN:VEVENT
DTSTART;TZID=UTC:20280129T103000
DTEND;TZID=UTC:20280129T110000
DTSTAMP:20260424T150310
CREATED:20241102T142519Z
LAST-MODIFIED:20241102T142519Z
UID:25862-1832754600-1832756400@sfantuldumitrusuceava.ro
SUMMARY:Pomenirea celor adormiți (Parastas)
DESCRIPTION:
URL:https://sfantuldumitrusuceava.ro/eveniment/pomenirea-celor-adormiti-parastas/2028-01-29/
END:VEVENT
BEGIN:VEVENT
DTSTART;TZID=Europe/Helsinki:20280130T080000
DTEND;TZID=Europe/Helsinki:20280130T120000
DTSTAMP:20260424T150311
CREATED:20241102T100818Z
LAST-MODIFIED:20241102T100818Z
UID:25863-1832832000-1832846400@sfantuldumitrusuceava.ro
SUMMARY:Utrenia\, Acatistul și Sfânta Liturghie
DESCRIPTION:
URL:https://sfantuldumitrusuceava.ro/eveniment/duminica/2028-01-30/
END:VEVENT
BEGIN:VEVENT
DTSTART;TZID=UTC:20280131T070000
DTEND;TZID=UTC:20280131T090000
DTSTAMP:20260424T150311
CREATED:20241102T141909Z
LAST-MODIFIED:20241102T141909Z
UID:25865-1832914800-1832922000@sfantuldumitrusuceava.ro
SUMMARY:Program de curățenie si Audiențe
DESCRIPTION:
URL:https://sfantuldumitrusuceava.ro/eveniment/program-de-curatenie-si-audiente-2/2028-01-31/
END:VEVENT
BEGIN:VEVENT
DTSTART;TZID=UTC:20280131T090000
DTEND;TZID=UTC:20280131T103000
DTSTAMP:20260424T150311
CREATED:20241102T141724Z
LAST-MODIFIED:20241102T141724Z
UID:25864-1832922000-1832927400@sfantuldumitrusuceava.ro
SUMMARY:Sfânta Liturghie
DESCRIPTION:
URL:https://sfantuldumitrusuceava.ro/eveniment/program-de-curatenie-si-audiente/2028-01-31/
END:VEVENT
BEGIN:VEVENT
DTSTART;TZID=UTC:20280201T080000
DTEND;TZID=UTC:20280201T093000
DTSTAMP:20260424T150311
CREATED:20241102T141955Z
LAST-MODIFIED:20241102T141955Z
UID:25866-1833004800-1833010200@sfantuldumitrusuceava.ro
SUMMARY:Sfânta Liturghie
DESCRIPTION:
URL:https://sfantuldumitrusuceava.ro/eveniment/sfanta-liturghie/2028-02-01/
END:VEVENT
BEGIN:VEVENT
DTSTART;TZID=UTC:20280202T080000
DTEND;TZID=UTC:20280202T093000
DTSTAMP:20260424T150311
CREATED:20241102T142044Z
LAST-MODIFIED:20241102T142044Z
UID:25867-1833091200-1833096600@sfantuldumitrusuceava.ro
SUMMARY:Sfânta Liturghie
DESCRIPTION:
URL:https://sfantuldumitrusuceava.ro/eveniment/sfanta-liturghie-2/2028-02-02/
END:VEVENT
BEGIN:VEVENT
DTSTART;TZID=UTC:20280202T170000
DTEND;TZID=UTC:20280202T193000
DTSTAMP:20260424T150311
CREATED:20241102T142205Z
LAST-MODIFIED:20241102T142205Z
UID:25868-1833123600-1833132600@sfantuldumitrusuceava.ro
SUMMARY:Sfințirea Apei\, Acatistul Maicii Domnului ”Pantanassa”\, Taina Sfântului Maslu
DESCRIPTION:
URL:https://sfantuldumitrusuceava.ro/eveniment/sfintirea-apei-acatistul-maicii-domnului-pantanassa-taina-sfantului-maslu/2028-02-02/
END:VEVENT
BEGIN:VEVENT
DTSTART;TZID=UTC:20280203T080000
DTEND;TZID=UTC:20280203T093000
DTSTAMP:20260424T150311
CREATED:20241102T142240Z
LAST-MODIFIED:20241102T142240Z
UID:25869-1833177600-1833183000@sfantuldumitrusuceava.ro
SUMMARY:Sfânta Liturghie
DESCRIPTION:
URL:https://sfantuldumitrusuceava.ro/eveniment/sfanta-liturghie-3/2028-02-03/
END:VEVENT
BEGIN:VEVENT
DTSTART;TZID=UTC:20280204T080000
DTEND;TZID=UTC:20280204T120000
DTSTAMP:20260424T150311
CREATED:20241102T142355Z
LAST-MODIFIED:20241102T142355Z
UID:25870-1833264000-1833278400@sfantuldumitrusuceava.ro
SUMMARY:Utrenia\, Sfânta Liturghie\, Sfințirea Apei și Taina Sfântului Maslu
DESCRIPTION:
URL:https://sfantuldumitrusuceava.ro/eveniment/utrenia-sfanta-liturghie-sfintirea-apei-si-taina-sfantului-maslu/2028-02-04/
END:VEVENT
BEGIN:VEVENT
DTSTART;TZID=UTC:20280205T080000
DTEND;TZID=UTC:20280205T093000
DTSTAMP:20260424T150311
CREATED:20241102T142433Z
LAST-MODIFIED:20241102T142433Z
UID:25871-1833350400-1833355800@sfantuldumitrusuceava.ro
SUMMARY:Sfânta Liturghie și Spovedanie
DESCRIPTION:
URL:https://sfantuldumitrusuceava.ro/eveniment/sfanta-liturghie-si-spovedanie/2028-02-05/
END:VEVENT
BEGIN:VEVENT
DTSTART;TZID=UTC:20280205T103000
DTEND;TZID=UTC:20280205T110000
DTSTAMP:20260424T150311
CREATED:20241102T142519Z
LAST-MODIFIED:20241102T142519Z
UID:25872-1833359400-1833361200@sfantuldumitrusuceava.ro
SUMMARY:Pomenirea celor adormiți (Parastas)
DESCRIPTION:
URL:https://sfantuldumitrusuceava.ro/eveniment/pomenirea-celor-adormiti-parastas/2028-02-05/
END:VEVENT
BEGIN:VEVENT
DTSTART;TZID=Europe/Helsinki:20280206T080000
DTEND;TZID=Europe/Helsinki:20280206T120000
DTSTAMP:20260424T150311
CREATED:20241102T100818Z
LAST-MODIFIED:20241102T100818Z
UID:25873-1833436800-1833451200@sfantuldumitrusuceava.ro
SUMMARY:Utrenia\, Acatistul și Sfânta Liturghie
DESCRIPTION:
URL:https://sfantuldumitrusuceava.ro/eveniment/duminica/2028-02-06/
END:VEVENT
BEGIN:VEVENT
DTSTART;TZID=UTC:20280207T070000
DTEND;TZID=UTC:20280207T090000
DTSTAMP:20260424T150311
CREATED:20241102T141909Z
LAST-MODIFIED:20241102T141909Z
UID:25875-1833519600-1833526800@sfantuldumitrusuceava.ro
SUMMARY:Program de curățenie si Audiențe
DESCRIPTION:
URL:https://sfantuldumitrusuceava.ro/eveniment/program-de-curatenie-si-audiente-2/2028-02-07/
END:VEVENT
BEGIN:VEVENT
DTSTART;TZID=UTC:20280207T090000
DTEND;TZID=UTC:20280207T103000
DTSTAMP:20260424T150311
CREATED:20241102T141724Z
LAST-MODIFIED:20241102T141724Z
UID:25874-1833526800-1833532200@sfantuldumitrusuceava.ro
SUMMARY:Sfânta Liturghie
DESCRIPTION:
URL:https://sfantuldumitrusuceava.ro/eveniment/program-de-curatenie-si-audiente/2028-02-07/
END:VEVENT
BEGIN:VEVENT
DTSTART;TZID=UTC:20280208T080000
DTEND;TZID=UTC:20280208T093000
DTSTAMP:20260424T150311
CREATED:20241102T141955Z
LAST-MODIFIED:20241102T141955Z
UID:25876-1833609600-1833615000@sfantuldumitrusuceava.ro
SUMMARY:Sfânta Liturghie
DESCRIPTION:
URL:https://sfantuldumitrusuceava.ro/eveniment/sfanta-liturghie/2028-02-08/
END:VEVENT
BEGIN:VEVENT
DTSTART;TZID=UTC:20280209T080000
DTEND;TZID=UTC:20280209T093000
DTSTAMP:20260424T150311
CREATED:20241102T142044Z
LAST-MODIFIED:20241102T142044Z
UID:25877-1833696000-1833701400@sfantuldumitrusuceava.ro
SUMMARY:Sfânta Liturghie
DESCRIPTION:
URL:https://sfantuldumitrusuceava.ro/eveniment/sfanta-liturghie-2/2028-02-09/
END:VEVENT
BEGIN:VEVENT
DTSTART;TZID=UTC:20280209T170000
DTEND;TZID=UTC:20280209T193000
DTSTAMP:20260424T150311
CREATED:20241102T142205Z
LAST-MODIFIED:20241102T142205Z
UID:25878-1833728400-1833737400@sfantuldumitrusuceava.ro
SUMMARY:Sfințirea Apei\, Acatistul Maicii Domnului ”Pantanassa”\, Taina Sfântului Maslu
DESCRIPTION:
URL:https://sfantuldumitrusuceava.ro/eveniment/sfintirea-apei-acatistul-maicii-domnului-pantanassa-taina-sfantului-maslu/2028-02-09/
END:VEVENT
BEGIN:VEVENT
DTSTART;TZID=UTC:20280210T080000
DTEND;TZID=UTC:20280210T093000
DTSTAMP:20260424T150311
CREATED:20241102T142240Z
LAST-MODIFIED:20241102T142240Z
UID:25879-1833782400-1833787800@sfantuldumitrusuceava.ro
SUMMARY:Sfânta Liturghie
DESCRIPTION:
URL:https://sfantuldumitrusuceava.ro/eveniment/sfanta-liturghie-3/2028-02-10/
END:VEVENT
BEGIN:VEVENT
DTSTART;TZID=UTC:20280211T080000
DTEND;TZID=UTC:20280211T120000
DTSTAMP:20260424T150311
CREATED:20241102T142355Z
LAST-MODIFIED:20241102T142355Z
UID:25880-1833868800-1833883200@sfantuldumitrusuceava.ro
SUMMARY:Utrenia\, Sfânta Liturghie\, Sfințirea Apei și Taina Sfântului Maslu
DESCRIPTION:
URL:https://sfantuldumitrusuceava.ro/eveniment/utrenia-sfanta-liturghie-sfintirea-apei-si-taina-sfantului-maslu/2028-02-11/
END:VEVENT
BEGIN:VEVENT
DTSTART;TZID=UTC:20280212T080000
DTEND;TZID=UTC:20280212T093000
DTSTAMP:20260424T150311
CREATED:20241102T142433Z
LAST-MODIFIED:20241102T142433Z
UID:25881-1833955200-1833960600@sfantuldumitrusuceava.ro
SUMMARY:Sfânta Liturghie și Spovedanie
DESCRIPTION:
URL:https://sfantuldumitrusuceava.ro/eveniment/sfanta-liturghie-si-spovedanie/2028-02-12/
END:VEVENT
BEGIN:VEVENT
DTSTART;TZID=UTC:20280212T103000
DTEND;TZID=UTC:20280212T110000
DTSTAMP:20260424T150311
CREATED:20241102T142519Z
LAST-MODIFIED:20241102T142519Z
UID:25882-1833964200-1833966000@sfantuldumitrusuceava.ro
SUMMARY:Pomenirea celor adormiți (Parastas)
DESCRIPTION:
URL:https://sfantuldumitrusuceava.ro/eveniment/pomenirea-celor-adormiti-parastas/2028-02-12/
END:VEVENT
BEGIN:VEVENT
DTSTART;TZID=Europe/Helsinki:20280213T080000
DTEND;TZID=Europe/Helsinki:20280213T120000
DTSTAMP:20260424T150311
CREATED:20241102T100818Z
LAST-MODIFIED:20241102T100818Z
UID:25883-1834041600-1834056000@sfantuldumitrusuceava.ro
SUMMARY:Utrenia\, Acatistul și Sfânta Liturghie
DESCRIPTION:
URL:https://sfantuldumitrusuceava.ro/eveniment/duminica/2028-02-13/
END:VEVENT
BEGIN:VEVENT
DTSTART;TZID=UTC:20280214T070000
DTEND;TZID=UTC:20280214T090000
DTSTAMP:20260424T150311
CREATED:20241102T141909Z
LAST-MODIFIED:20241102T141909Z
UID:25885-1834124400-1834131600@sfantuldumitrusuceava.ro
SUMMARY:Program de curățenie si Audiențe
DESCRIPTION:
URL:https://sfantuldumitrusuceava.ro/eveniment/program-de-curatenie-si-audiente-2/2028-02-14/
END:VEVENT
BEGIN:VEVENT
DTSTART;TZID=UTC:20280214T090000
DTEND;TZID=UTC:20280214T103000
DTSTAMP:20260424T150311
CREATED:20241102T141724Z
LAST-MODIFIED:20241102T141724Z
UID:25884-1834131600-1834137000@sfantuldumitrusuceava.ro
SUMMARY:Sfânta Liturghie
DESCRIPTION:
URL:https://sfantuldumitrusuceava.ro/eveniment/program-de-curatenie-si-audiente/2028-02-14/
END:VEVENT
BEGIN:VEVENT
DTSTART;TZID=UTC:20280215T080000
DTEND;TZID=UTC:20280215T093000
DTSTAMP:20260424T150311
CREATED:20241102T141955Z
LAST-MODIFIED:20241102T141955Z
UID:25886-1834214400-1834219800@sfantuldumitrusuceava.ro
SUMMARY:Sfânta Liturghie
DESCRIPTION:
URL:https://sfantuldumitrusuceava.ro/eveniment/sfanta-liturghie/2028-02-15/
END:VEVENT
BEGIN:VEVENT
DTSTART;TZID=UTC:20280216T080000
DTEND;TZID=UTC:20280216T093000
DTSTAMP:20260424T150311
CREATED:20241102T142044Z
LAST-MODIFIED:20241102T142044Z
UID:25887-1834300800-1834306200@sfantuldumitrusuceava.ro
SUMMARY:Sfânta Liturghie
DESCRIPTION:
URL:https://sfantuldumitrusuceava.ro/eveniment/sfanta-liturghie-2/2028-02-16/
END:VEVENT
BEGIN:VEVENT
DTSTART;TZID=UTC:20280216T170000
DTEND;TZID=UTC:20280216T193000
DTSTAMP:20260424T150311
CREATED:20241102T142205Z
LAST-MODIFIED:20241102T142205Z
UID:25888-1834333200-1834342200@sfantuldumitrusuceava.ro
SUMMARY:Sfințirea Apei\, Acatistul Maicii Domnului ”Pantanassa”\, Taina Sfântului Maslu
DESCRIPTION:
URL:https://sfantuldumitrusuceava.ro/eveniment/sfintirea-apei-acatistul-maicii-domnului-pantanassa-taina-sfantului-maslu/2028-02-16/
END:VEVENT
BEGIN:VEVENT
DTSTART;TZID=UTC:20280217T080000
DTEND;TZID=UTC:20280217T093000
DTSTAMP:20260424T150311
CREATED:20241102T142240Z
LAST-MODIFIED:20241102T142240Z
UID:25889-1834387200-1834392600@sfantuldumitrusuceava.ro
SUMMARY:Sfânta Liturghie
DESCRIPTION:
URL:https://sfantuldumitrusuceava.ro/eveniment/sfanta-liturghie-3/2028-02-17/
END:VEVENT
BEGIN:VEVENT
DTSTART;TZID=UTC:20280218T080000
DTEND;TZID=UTC:20280218T120000
DTSTAMP:20260424T150311
CREATED:20241102T142355Z
LAST-MODIFIED:20241102T142355Z
UID:25890-1834473600-1834488000@sfantuldumitrusuceava.ro
SUMMARY:Utrenia\, Sfânta Liturghie\, Sfințirea Apei și Taina Sfântului Maslu
DESCRIPTION:
URL:https://sfantuldumitrusuceava.ro/eveniment/utrenia-sfanta-liturghie-sfintirea-apei-si-taina-sfantului-maslu/2028-02-18/
END:VEVENT
END:VCALENDAR