BEGIN:VCALENDAR
VERSION:2.0
PRODID:-//Parohia Sfântul Dumitru Suceava - ECPv6.8.0//NONSGML v1.0//EN
CALSCALE:GREGORIAN
METHOD:PUBLISH
X-ORIGINAL-URL:https://sfantuldumitrusuceava.ro
X-WR-CALDESC:Events for Parohia Sfântul Dumitru Suceava
REFRESH-INTERVAL;VALUE=DURATION:PT1H
X-Robots-Tag:noindex
X-PUBLISHED-TTL:PT1H
BEGIN:VTIMEZONE
TZID:UTC
BEGIN:STANDARD
TZOFFSETFROM:+0000
TZOFFSETTO:+0000
TZNAME:UTC
DTSTART:20280101T000000
END:STANDARD
TZID:Europe/Helsinki
BEGIN:DAYLIGHT
TZOFFSETFROM:+0200
TZOFFSETTO:+0300
TZNAME:EEST
DTSTART:20280326T010000
END:DAYLIGHT
BEGIN:STANDARD
TZOFFSETFROM:+0300
TZOFFSETTO:+0200
TZNAME:EET
DTSTART:20281029T010000
END:STANDARD
END:VTIMEZONE
BEGIN:VEVENT
DTSTART;TZID=UTC:20280105T080000
DTEND;TZID=UTC:20280105T093000
DTSTAMP:20260425T115727
CREATED:20241102T142044Z
LAST-MODIFIED:20241102T142044Z
UID:25827-1830672000-1830677400@sfantuldumitrusuceava.ro
SUMMARY:Sfânta Liturghie
DESCRIPTION:
URL:https://sfantuldumitrusuceava.ro/eveniment/sfanta-liturghie-2/2028-01-05/
END:VEVENT
BEGIN:VEVENT
DTSTART;TZID=UTC:20280105T170000
DTEND;TZID=UTC:20280105T193000
DTSTAMP:20260425T115727
CREATED:20241102T142205Z
LAST-MODIFIED:20241102T142205Z
UID:25828-1830704400-1830713400@sfantuldumitrusuceava.ro
SUMMARY:Sfințirea Apei\, Acatistul Maicii Domnului ”Pantanassa”\, Taina Sfântului Maslu
DESCRIPTION:
URL:https://sfantuldumitrusuceava.ro/eveniment/sfintirea-apei-acatistul-maicii-domnului-pantanassa-taina-sfantului-maslu/2028-01-05/
END:VEVENT
BEGIN:VEVENT
DTSTART;TZID=UTC:20280106T080000
DTEND;TZID=UTC:20280106T093000
DTSTAMP:20260425T115727
CREATED:20241102T142240Z
LAST-MODIFIED:20241102T142240Z
UID:25829-1830758400-1830763800@sfantuldumitrusuceava.ro
SUMMARY:Sfânta Liturghie
DESCRIPTION:
URL:https://sfantuldumitrusuceava.ro/eveniment/sfanta-liturghie-3/2028-01-06/
END:VEVENT
BEGIN:VEVENT
DTSTART;TZID=UTC:20280107T080000
DTEND;TZID=UTC:20280107T120000
DTSTAMP:20260425T115727
CREATED:20241102T142355Z
LAST-MODIFIED:20241102T142355Z
UID:25830-1830844800-1830859200@sfantuldumitrusuceava.ro
SUMMARY:Utrenia\, Sfânta Liturghie\, Sfințirea Apei și Taina Sfântului Maslu
DESCRIPTION:
URL:https://sfantuldumitrusuceava.ro/eveniment/utrenia-sfanta-liturghie-sfintirea-apei-si-taina-sfantului-maslu/2028-01-07/
END:VEVENT
BEGIN:VEVENT
DTSTART;TZID=UTC:20280108T080000
DTEND;TZID=UTC:20280108T093000
DTSTAMP:20260425T115727
CREATED:20241102T142433Z
LAST-MODIFIED:20241102T142433Z
UID:25831-1830931200-1830936600@sfantuldumitrusuceava.ro
SUMMARY:Sfânta Liturghie și Spovedanie
DESCRIPTION:
URL:https://sfantuldumitrusuceava.ro/eveniment/sfanta-liturghie-si-spovedanie/2028-01-08/
END:VEVENT
BEGIN:VEVENT
DTSTART;TZID=UTC:20280108T103000
DTEND;TZID=UTC:20280108T110000
DTSTAMP:20260425T115727
CREATED:20241102T142519Z
LAST-MODIFIED:20241102T142519Z
UID:25832-1830940200-1830942000@sfantuldumitrusuceava.ro
SUMMARY:Pomenirea celor adormiți (Parastas)
DESCRIPTION:
URL:https://sfantuldumitrusuceava.ro/eveniment/pomenirea-celor-adormiti-parastas/2028-01-08/
END:VEVENT
BEGIN:VEVENT
DTSTART;TZID=Europe/Helsinki:20280109T080000
DTEND;TZID=Europe/Helsinki:20280109T120000
DTSTAMP:20260425T115727
CREATED:20241102T100818Z
LAST-MODIFIED:20241102T100818Z
UID:25833-1831017600-1831032000@sfantuldumitrusuceava.ro
SUMMARY:Utrenia\, Acatistul și Sfânta Liturghie
DESCRIPTION:
URL:https://sfantuldumitrusuceava.ro/eveniment/duminica/2028-01-09/
END:VEVENT
BEGIN:VEVENT
DTSTART;TZID=UTC:20280110T070000
DTEND;TZID=UTC:20280110T090000
DTSTAMP:20260425T115727
CREATED:20241102T141909Z
LAST-MODIFIED:20241102T141909Z
UID:25835-1831100400-1831107600@sfantuldumitrusuceava.ro
SUMMARY:Program de curățenie si Audiențe
DESCRIPTION:
URL:https://sfantuldumitrusuceava.ro/eveniment/program-de-curatenie-si-audiente-2/2028-01-10/
END:VEVENT
BEGIN:VEVENT
DTSTART;TZID=UTC:20280110T090000
DTEND;TZID=UTC:20280110T103000
DTSTAMP:20260425T115727
CREATED:20241102T141724Z
LAST-MODIFIED:20241102T141724Z
UID:25834-1831107600-1831113000@sfantuldumitrusuceava.ro
SUMMARY:Sfânta Liturghie
DESCRIPTION:
URL:https://sfantuldumitrusuceava.ro/eveniment/program-de-curatenie-si-audiente/2028-01-10/
END:VEVENT
BEGIN:VEVENT
DTSTART;TZID=UTC:20280111T080000
DTEND;TZID=UTC:20280111T093000
DTSTAMP:20260425T115727
CREATED:20241102T141955Z
LAST-MODIFIED:20241102T141955Z
UID:25836-1831190400-1831195800@sfantuldumitrusuceava.ro
SUMMARY:Sfânta Liturghie
DESCRIPTION:
URL:https://sfantuldumitrusuceava.ro/eveniment/sfanta-liturghie/2028-01-11/
END:VEVENT
BEGIN:VEVENT
DTSTART;TZID=UTC:20280112T080000
DTEND;TZID=UTC:20280112T093000
DTSTAMP:20260425T115727
CREATED:20241102T142044Z
LAST-MODIFIED:20241102T142044Z
UID:25837-1831276800-1831282200@sfantuldumitrusuceava.ro
SUMMARY:Sfânta Liturghie
DESCRIPTION:
URL:https://sfantuldumitrusuceava.ro/eveniment/sfanta-liturghie-2/2028-01-12/
END:VEVENT
BEGIN:VEVENT
DTSTART;TZID=UTC:20280112T170000
DTEND;TZID=UTC:20280112T193000
DTSTAMP:20260425T115727
CREATED:20241102T142205Z
LAST-MODIFIED:20241102T142205Z
UID:25838-1831309200-1831318200@sfantuldumitrusuceava.ro
SUMMARY:Sfințirea Apei\, Acatistul Maicii Domnului ”Pantanassa”\, Taina Sfântului Maslu
DESCRIPTION:
URL:https://sfantuldumitrusuceava.ro/eveniment/sfintirea-apei-acatistul-maicii-domnului-pantanassa-taina-sfantului-maslu/2028-01-12/
END:VEVENT
BEGIN:VEVENT
DTSTART;TZID=UTC:20280113T080000
DTEND;TZID=UTC:20280113T093000
DTSTAMP:20260425T115727
CREATED:20241102T142240Z
LAST-MODIFIED:20241102T142240Z
UID:25839-1831363200-1831368600@sfantuldumitrusuceava.ro
SUMMARY:Sfânta Liturghie
DESCRIPTION:
URL:https://sfantuldumitrusuceava.ro/eveniment/sfanta-liturghie-3/2028-01-13/
END:VEVENT
BEGIN:VEVENT
DTSTART;TZID=UTC:20280114T080000
DTEND;TZID=UTC:20280114T120000
DTSTAMP:20260425T115727
CREATED:20241102T142355Z
LAST-MODIFIED:20241102T142355Z
UID:25840-1831449600-1831464000@sfantuldumitrusuceava.ro
SUMMARY:Utrenia\, Sfânta Liturghie\, Sfințirea Apei și Taina Sfântului Maslu
DESCRIPTION:
URL:https://sfantuldumitrusuceava.ro/eveniment/utrenia-sfanta-liturghie-sfintirea-apei-si-taina-sfantului-maslu/2028-01-14/
END:VEVENT
BEGIN:VEVENT
DTSTART;TZID=UTC:20280115T080000
DTEND;TZID=UTC:20280115T093000
DTSTAMP:20260425T115727
CREATED:20241102T142433Z
LAST-MODIFIED:20241102T142433Z
UID:25841-1831536000-1831541400@sfantuldumitrusuceava.ro
SUMMARY:Sfânta Liturghie și Spovedanie
DESCRIPTION:
URL:https://sfantuldumitrusuceava.ro/eveniment/sfanta-liturghie-si-spovedanie/2028-01-15/
END:VEVENT
BEGIN:VEVENT
DTSTART;TZID=UTC:20280115T103000
DTEND;TZID=UTC:20280115T110000
DTSTAMP:20260425T115727
CREATED:20241102T142519Z
LAST-MODIFIED:20241102T142519Z
UID:25842-1831545000-1831546800@sfantuldumitrusuceava.ro
SUMMARY:Pomenirea celor adormiți (Parastas)
DESCRIPTION:
URL:https://sfantuldumitrusuceava.ro/eveniment/pomenirea-celor-adormiti-parastas/2028-01-15/
END:VEVENT
BEGIN:VEVENT
DTSTART;TZID=Europe/Helsinki:20280116T080000
DTEND;TZID=Europe/Helsinki:20280116T120000
DTSTAMP:20260425T115727
CREATED:20241102T100818Z
LAST-MODIFIED:20241102T100818Z
UID:25843-1831622400-1831636800@sfantuldumitrusuceava.ro
SUMMARY:Utrenia\, Acatistul și Sfânta Liturghie
DESCRIPTION:
URL:https://sfantuldumitrusuceava.ro/eveniment/duminica/2028-01-16/
END:VEVENT
BEGIN:VEVENT
DTSTART;TZID=UTC:20280117T070000
DTEND;TZID=UTC:20280117T090000
DTSTAMP:20260425T115727
CREATED:20241102T141909Z
LAST-MODIFIED:20241102T141909Z
UID:25845-1831705200-1831712400@sfantuldumitrusuceava.ro
SUMMARY:Program de curățenie si Audiențe
DESCRIPTION:
URL:https://sfantuldumitrusuceava.ro/eveniment/program-de-curatenie-si-audiente-2/2028-01-17/
END:VEVENT
BEGIN:VEVENT
DTSTART;TZID=UTC:20280117T090000
DTEND;TZID=UTC:20280117T103000
DTSTAMP:20260425T115727
CREATED:20241102T141724Z
LAST-MODIFIED:20241102T141724Z
UID:25844-1831712400-1831717800@sfantuldumitrusuceava.ro
SUMMARY:Sfânta Liturghie
DESCRIPTION:
URL:https://sfantuldumitrusuceava.ro/eveniment/program-de-curatenie-si-audiente/2028-01-17/
END:VEVENT
BEGIN:VEVENT
DTSTART;TZID=UTC:20280118T080000
DTEND;TZID=UTC:20280118T093000
DTSTAMP:20260425T115727
CREATED:20241102T141955Z
LAST-MODIFIED:20241102T141955Z
UID:25846-1831795200-1831800600@sfantuldumitrusuceava.ro
SUMMARY:Sfânta Liturghie
DESCRIPTION:
URL:https://sfantuldumitrusuceava.ro/eveniment/sfanta-liturghie/2028-01-18/
END:VEVENT
BEGIN:VEVENT
DTSTART;TZID=UTC:20280119T080000
DTEND;TZID=UTC:20280119T093000
DTSTAMP:20260425T115727
CREATED:20241102T142044Z
LAST-MODIFIED:20241102T142044Z
UID:25847-1831881600-1831887000@sfantuldumitrusuceava.ro
SUMMARY:Sfânta Liturghie
DESCRIPTION:
URL:https://sfantuldumitrusuceava.ro/eveniment/sfanta-liturghie-2/2028-01-19/
END:VEVENT
BEGIN:VEVENT
DTSTART;TZID=UTC:20280119T170000
DTEND;TZID=UTC:20280119T193000
DTSTAMP:20260425T115727
CREATED:20241102T142205Z
LAST-MODIFIED:20241102T142205Z
UID:25848-1831914000-1831923000@sfantuldumitrusuceava.ro
SUMMARY:Sfințirea Apei\, Acatistul Maicii Domnului ”Pantanassa”\, Taina Sfântului Maslu
DESCRIPTION:
URL:https://sfantuldumitrusuceava.ro/eveniment/sfintirea-apei-acatistul-maicii-domnului-pantanassa-taina-sfantului-maslu/2028-01-19/
END:VEVENT
BEGIN:VEVENT
DTSTART;TZID=UTC:20280120T080000
DTEND;TZID=UTC:20280120T093000
DTSTAMP:20260425T115727
CREATED:20241102T142240Z
LAST-MODIFIED:20241102T142240Z
UID:25849-1831968000-1831973400@sfantuldumitrusuceava.ro
SUMMARY:Sfânta Liturghie
DESCRIPTION:
URL:https://sfantuldumitrusuceava.ro/eveniment/sfanta-liturghie-3/2028-01-20/
END:VEVENT
BEGIN:VEVENT
DTSTART;TZID=UTC:20280121T080000
DTEND;TZID=UTC:20280121T120000
DTSTAMP:20260425T115727
CREATED:20241102T142355Z
LAST-MODIFIED:20241102T142355Z
UID:25850-1832054400-1832068800@sfantuldumitrusuceava.ro
SUMMARY:Utrenia\, Sfânta Liturghie\, Sfințirea Apei și Taina Sfântului Maslu
DESCRIPTION:
URL:https://sfantuldumitrusuceava.ro/eveniment/utrenia-sfanta-liturghie-sfintirea-apei-si-taina-sfantului-maslu/2028-01-21/
END:VEVENT
BEGIN:VEVENT
DTSTART;TZID=UTC:20280122T080000
DTEND;TZID=UTC:20280122T093000
DTSTAMP:20260425T115727
CREATED:20241102T142433Z
LAST-MODIFIED:20241102T142433Z
UID:25851-1832140800-1832146200@sfantuldumitrusuceava.ro
SUMMARY:Sfânta Liturghie și Spovedanie
DESCRIPTION:
URL:https://sfantuldumitrusuceava.ro/eveniment/sfanta-liturghie-si-spovedanie/2028-01-22/
END:VEVENT
BEGIN:VEVENT
DTSTART;TZID=UTC:20280122T103000
DTEND;TZID=UTC:20280122T110000
DTSTAMP:20260425T115727
CREATED:20241102T142519Z
LAST-MODIFIED:20241102T142519Z
UID:25852-1832149800-1832151600@sfantuldumitrusuceava.ro
SUMMARY:Pomenirea celor adormiți (Parastas)
DESCRIPTION:
URL:https://sfantuldumitrusuceava.ro/eveniment/pomenirea-celor-adormiti-parastas/2028-01-22/
END:VEVENT
BEGIN:VEVENT
DTSTART;TZID=Europe/Helsinki:20280123T080000
DTEND;TZID=Europe/Helsinki:20280123T120000
DTSTAMP:20260425T115727
CREATED:20241102T100818Z
LAST-MODIFIED:20241102T100818Z
UID:25853-1832227200-1832241600@sfantuldumitrusuceava.ro
SUMMARY:Utrenia\, Acatistul și Sfânta Liturghie
DESCRIPTION:
URL:https://sfantuldumitrusuceava.ro/eveniment/duminica/2028-01-23/
END:VEVENT
BEGIN:VEVENT
DTSTART;TZID=UTC:20280124T070000
DTEND;TZID=UTC:20280124T090000
DTSTAMP:20260425T115727
CREATED:20241102T141909Z
LAST-MODIFIED:20241102T141909Z
UID:25855-1832310000-1832317200@sfantuldumitrusuceava.ro
SUMMARY:Program de curățenie si Audiențe
DESCRIPTION:
URL:https://sfantuldumitrusuceava.ro/eveniment/program-de-curatenie-si-audiente-2/2028-01-24/
END:VEVENT
BEGIN:VEVENT
DTSTART;TZID=UTC:20280124T090000
DTEND;TZID=UTC:20280124T103000
DTSTAMP:20260425T115727
CREATED:20241102T141724Z
LAST-MODIFIED:20241102T141724Z
UID:25854-1832317200-1832322600@sfantuldumitrusuceava.ro
SUMMARY:Sfânta Liturghie
DESCRIPTION:
URL:https://sfantuldumitrusuceava.ro/eveniment/program-de-curatenie-si-audiente/2028-01-24/
END:VEVENT
BEGIN:VEVENT
DTSTART;TZID=UTC:20280125T080000
DTEND;TZID=UTC:20280125T093000
DTSTAMP:20260425T115727
CREATED:20241102T141955Z
LAST-MODIFIED:20241102T141955Z
UID:25856-1832400000-1832405400@sfantuldumitrusuceava.ro
SUMMARY:Sfânta Liturghie
DESCRIPTION:
URL:https://sfantuldumitrusuceava.ro/eveniment/sfanta-liturghie/2028-01-25/
END:VEVENT
END:VCALENDAR