BEGIN:VCALENDAR
VERSION:2.0
PRODID:-//Parohia Sfântul Dumitru Suceava - ECPv6.8.0//NONSGML v1.0//EN
CALSCALE:GREGORIAN
METHOD:PUBLISH
X-ORIGINAL-URL:https://sfantuldumitrusuceava.ro
X-WR-CALDESC:Events for Parohia Sfântul Dumitru Suceava
REFRESH-INTERVAL;VALUE=DURATION:PT1H
X-Robots-Tag:noindex
X-PUBLISHED-TTL:PT1H
BEGIN:VTIMEZONE
TZID:UTC
BEGIN:STANDARD
TZOFFSETFROM:+0000
TZOFFSETTO:+0000
TZNAME:UTC
DTSTART:20280101T000000
END:STANDARD
TZID:Europe/Helsinki
BEGIN:DAYLIGHT
TZOFFSETFROM:+0200
TZOFFSETTO:+0300
TZNAME:EEST
DTSTART:20280326T010000
END:DAYLIGHT
BEGIN:STANDARD
TZOFFSETFROM:+0300
TZOFFSETTO:+0200
TZNAME:EET
DTSTART:20281029T010000
END:STANDARD
END:VTIMEZONE
BEGIN:VEVENT
DTSTART;TZID=UTC:20280315T080000
DTEND;TZID=UTC:20280315T093000
DTSTAMP:20260426T004437
CREATED:20241102T142044Z
LAST-MODIFIED:20241102T142044Z
UID:25927-1836720000-1836725400@sfantuldumitrusuceava.ro
SUMMARY:Sfânta Liturghie
DESCRIPTION:
URL:https://sfantuldumitrusuceava.ro/eveniment/sfanta-liturghie-2/2028-03-15/
END:VEVENT
BEGIN:VEVENT
DTSTART;TZID=UTC:20280315T170000
DTEND;TZID=UTC:20280315T193000
DTSTAMP:20260426T004437
CREATED:20241102T142205Z
LAST-MODIFIED:20241102T142205Z
UID:25928-1836752400-1836761400@sfantuldumitrusuceava.ro
SUMMARY:Sfințirea Apei\, Acatistul Maicii Domnului ”Pantanassa”\, Taina Sfântului Maslu
DESCRIPTION:
URL:https://sfantuldumitrusuceava.ro/eveniment/sfintirea-apei-acatistul-maicii-domnului-pantanassa-taina-sfantului-maslu/2028-03-15/
END:VEVENT
BEGIN:VEVENT
DTSTART;TZID=UTC:20280316T080000
DTEND;TZID=UTC:20280316T093000
DTSTAMP:20260426T004437
CREATED:20241102T142240Z
LAST-MODIFIED:20241102T142240Z
UID:25929-1836806400-1836811800@sfantuldumitrusuceava.ro
SUMMARY:Sfânta Liturghie
DESCRIPTION:
URL:https://sfantuldumitrusuceava.ro/eveniment/sfanta-liturghie-3/2028-03-16/
END:VEVENT
BEGIN:VEVENT
DTSTART;TZID=UTC:20280317T080000
DTEND;TZID=UTC:20280317T120000
DTSTAMP:20260426T004437
CREATED:20241102T142355Z
LAST-MODIFIED:20241102T142355Z
UID:25930-1836892800-1836907200@sfantuldumitrusuceava.ro
SUMMARY:Utrenia\, Sfânta Liturghie\, Sfințirea Apei și Taina Sfântului Maslu
DESCRIPTION:
URL:https://sfantuldumitrusuceava.ro/eveniment/utrenia-sfanta-liturghie-sfintirea-apei-si-taina-sfantului-maslu/2028-03-17/
END:VEVENT
BEGIN:VEVENT
DTSTART;TZID=UTC:20280318T080000
DTEND;TZID=UTC:20280318T093000
DTSTAMP:20260426T004437
CREATED:20241102T142433Z
LAST-MODIFIED:20241102T142433Z
UID:25931-1836979200-1836984600@sfantuldumitrusuceava.ro
SUMMARY:Sfânta Liturghie și Spovedanie
DESCRIPTION:
URL:https://sfantuldumitrusuceava.ro/eveniment/sfanta-liturghie-si-spovedanie/2028-03-18/
END:VEVENT
BEGIN:VEVENT
DTSTART;TZID=UTC:20280318T103000
DTEND;TZID=UTC:20280318T110000
DTSTAMP:20260426T004437
CREATED:20241102T142519Z
LAST-MODIFIED:20241102T142519Z
UID:25932-1836988200-1836990000@sfantuldumitrusuceava.ro
SUMMARY:Pomenirea celor adormiți (Parastas)
DESCRIPTION:
URL:https://sfantuldumitrusuceava.ro/eveniment/pomenirea-celor-adormiti-parastas/2028-03-18/
END:VEVENT
BEGIN:VEVENT
DTSTART;TZID=Europe/Helsinki:20280319T080000
DTEND;TZID=Europe/Helsinki:20280319T120000
DTSTAMP:20260426T004437
CREATED:20241102T100818Z
LAST-MODIFIED:20241102T100818Z
UID:25933-1837065600-1837080000@sfantuldumitrusuceava.ro
SUMMARY:Utrenia\, Acatistul și Sfânta Liturghie
DESCRIPTION:
URL:https://sfantuldumitrusuceava.ro/eveniment/duminica/2028-03-19/
END:VEVENT
BEGIN:VEVENT
DTSTART;TZID=UTC:20280320T070000
DTEND;TZID=UTC:20280320T090000
DTSTAMP:20260426T004437
CREATED:20241102T141909Z
LAST-MODIFIED:20241102T141909Z
UID:25935-1837148400-1837155600@sfantuldumitrusuceava.ro
SUMMARY:Program de curățenie si Audiențe
DESCRIPTION:
URL:https://sfantuldumitrusuceava.ro/eveniment/program-de-curatenie-si-audiente-2/2028-03-20/
END:VEVENT
BEGIN:VEVENT
DTSTART;TZID=UTC:20280320T090000
DTEND;TZID=UTC:20280320T103000
DTSTAMP:20260426T004437
CREATED:20241102T141724Z
LAST-MODIFIED:20241102T141724Z
UID:25934-1837155600-1837161000@sfantuldumitrusuceava.ro
SUMMARY:Sfânta Liturghie
DESCRIPTION:
URL:https://sfantuldumitrusuceava.ro/eveniment/program-de-curatenie-si-audiente/2028-03-20/
END:VEVENT
BEGIN:VEVENT
DTSTART;TZID=UTC:20280321T080000
DTEND;TZID=UTC:20280321T093000
DTSTAMP:20260426T004437
CREATED:20241102T141955Z
LAST-MODIFIED:20241102T141955Z
UID:25936-1837238400-1837243800@sfantuldumitrusuceava.ro
SUMMARY:Sfânta Liturghie
DESCRIPTION:
URL:https://sfantuldumitrusuceava.ro/eveniment/sfanta-liturghie/2028-03-21/
END:VEVENT
BEGIN:VEVENT
DTSTART;TZID=UTC:20280322T080000
DTEND;TZID=UTC:20280322T093000
DTSTAMP:20260426T004437
CREATED:20241102T142044Z
LAST-MODIFIED:20241102T142044Z
UID:25937-1837324800-1837330200@sfantuldumitrusuceava.ro
SUMMARY:Sfânta Liturghie
DESCRIPTION:
URL:https://sfantuldumitrusuceava.ro/eveniment/sfanta-liturghie-2/2028-03-22/
END:VEVENT
BEGIN:VEVENT
DTSTART;TZID=UTC:20280322T170000
DTEND;TZID=UTC:20280322T193000
DTSTAMP:20260426T004437
CREATED:20241102T142205Z
LAST-MODIFIED:20241102T142205Z
UID:25938-1837357200-1837366200@sfantuldumitrusuceava.ro
SUMMARY:Sfințirea Apei\, Acatistul Maicii Domnului ”Pantanassa”\, Taina Sfântului Maslu
DESCRIPTION:
URL:https://sfantuldumitrusuceava.ro/eveniment/sfintirea-apei-acatistul-maicii-domnului-pantanassa-taina-sfantului-maslu/2028-03-22/
END:VEVENT
BEGIN:VEVENT
DTSTART;TZID=UTC:20280323T080000
DTEND;TZID=UTC:20280323T093000
DTSTAMP:20260426T004437
CREATED:20241102T142240Z
LAST-MODIFIED:20241102T142240Z
UID:25939-1837411200-1837416600@sfantuldumitrusuceava.ro
SUMMARY:Sfânta Liturghie
DESCRIPTION:
URL:https://sfantuldumitrusuceava.ro/eveniment/sfanta-liturghie-3/2028-03-23/
END:VEVENT
BEGIN:VEVENT
DTSTART;TZID=UTC:20280324T080000
DTEND;TZID=UTC:20280324T120000
DTSTAMP:20260426T004437
CREATED:20241102T142355Z
LAST-MODIFIED:20241102T142355Z
UID:25940-1837497600-1837512000@sfantuldumitrusuceava.ro
SUMMARY:Utrenia\, Sfânta Liturghie\, Sfințirea Apei și Taina Sfântului Maslu
DESCRIPTION:
URL:https://sfantuldumitrusuceava.ro/eveniment/utrenia-sfanta-liturghie-sfintirea-apei-si-taina-sfantului-maslu/2028-03-24/
END:VEVENT
BEGIN:VEVENT
DTSTART;TZID=UTC:20280325T080000
DTEND;TZID=UTC:20280325T093000
DTSTAMP:20260426T004437
CREATED:20241102T142433Z
LAST-MODIFIED:20241102T142433Z
UID:25941-1837584000-1837589400@sfantuldumitrusuceava.ro
SUMMARY:Sfânta Liturghie și Spovedanie
DESCRIPTION:
URL:https://sfantuldumitrusuceava.ro/eveniment/sfanta-liturghie-si-spovedanie/2028-03-25/
END:VEVENT
BEGIN:VEVENT
DTSTART;TZID=UTC:20280325T103000
DTEND;TZID=UTC:20280325T110000
DTSTAMP:20260426T004437
CREATED:20241102T142519Z
LAST-MODIFIED:20241102T142519Z
UID:25942-1837593000-1837594800@sfantuldumitrusuceava.ro
SUMMARY:Pomenirea celor adormiți (Parastas)
DESCRIPTION:
URL:https://sfantuldumitrusuceava.ro/eveniment/pomenirea-celor-adormiti-parastas/2028-03-25/
END:VEVENT
BEGIN:VEVENT
DTSTART;TZID=Europe/Helsinki:20280326T080000
DTEND;TZID=Europe/Helsinki:20280326T120000
DTSTAMP:20260426T004437
CREATED:20241102T100818Z
LAST-MODIFIED:20241102T100818Z
UID:25943-1837670400-1837684800@sfantuldumitrusuceava.ro
SUMMARY:Utrenia\, Acatistul și Sfânta Liturghie
DESCRIPTION:
URL:https://sfantuldumitrusuceava.ro/eveniment/duminica/2028-03-26/
END:VEVENT
BEGIN:VEVENT
DTSTART;TZID=UTC:20280327T070000
DTEND;TZID=UTC:20280327T090000
DTSTAMP:20260426T004437
CREATED:20241102T141909Z
LAST-MODIFIED:20241102T141909Z
UID:25945-1837753200-1837760400@sfantuldumitrusuceava.ro
SUMMARY:Program de curățenie si Audiențe
DESCRIPTION:
URL:https://sfantuldumitrusuceava.ro/eveniment/program-de-curatenie-si-audiente-2/2028-03-27/
END:VEVENT
BEGIN:VEVENT
DTSTART;TZID=UTC:20280327T090000
DTEND;TZID=UTC:20280327T103000
DTSTAMP:20260426T004437
CREATED:20241102T141724Z
LAST-MODIFIED:20241102T141724Z
UID:25944-1837760400-1837765800@sfantuldumitrusuceava.ro
SUMMARY:Sfânta Liturghie
DESCRIPTION:
URL:https://sfantuldumitrusuceava.ro/eveniment/program-de-curatenie-si-audiente/2028-03-27/
END:VEVENT
BEGIN:VEVENT
DTSTART;TZID=UTC:20280328T080000
DTEND;TZID=UTC:20280328T093000
DTSTAMP:20260426T004437
CREATED:20241102T141955Z
LAST-MODIFIED:20241102T141955Z
UID:25946-1837843200-1837848600@sfantuldumitrusuceava.ro
SUMMARY:Sfânta Liturghie
DESCRIPTION:
URL:https://sfantuldumitrusuceava.ro/eveniment/sfanta-liturghie/2028-03-28/
END:VEVENT
BEGIN:VEVENT
DTSTART;TZID=UTC:20280329T080000
DTEND;TZID=UTC:20280329T093000
DTSTAMP:20260426T004437
CREATED:20241102T142044Z
LAST-MODIFIED:20241102T142044Z
UID:25947-1837929600-1837935000@sfantuldumitrusuceava.ro
SUMMARY:Sfânta Liturghie
DESCRIPTION:
URL:https://sfantuldumitrusuceava.ro/eveniment/sfanta-liturghie-2/2028-03-29/
END:VEVENT
BEGIN:VEVENT
DTSTART;TZID=UTC:20280329T170000
DTEND;TZID=UTC:20280329T193000
DTSTAMP:20260426T004437
CREATED:20241102T142205Z
LAST-MODIFIED:20241102T142205Z
UID:25948-1837962000-1837971000@sfantuldumitrusuceava.ro
SUMMARY:Sfințirea Apei\, Acatistul Maicii Domnului ”Pantanassa”\, Taina Sfântului Maslu
DESCRIPTION:
URL:https://sfantuldumitrusuceava.ro/eveniment/sfintirea-apei-acatistul-maicii-domnului-pantanassa-taina-sfantului-maslu/2028-03-29/
END:VEVENT
BEGIN:VEVENT
DTSTART;TZID=UTC:20280330T080000
DTEND;TZID=UTC:20280330T093000
DTSTAMP:20260426T004437
CREATED:20241102T142240Z
LAST-MODIFIED:20241102T142240Z
UID:25949-1838016000-1838021400@sfantuldumitrusuceava.ro
SUMMARY:Sfânta Liturghie
DESCRIPTION:
URL:https://sfantuldumitrusuceava.ro/eveniment/sfanta-liturghie-3/2028-03-30/
END:VEVENT
BEGIN:VEVENT
DTSTART;TZID=UTC:20280331T080000
DTEND;TZID=UTC:20280331T120000
DTSTAMP:20260426T004437
CREATED:20241102T142355Z
LAST-MODIFIED:20241102T142355Z
UID:25950-1838102400-1838116800@sfantuldumitrusuceava.ro
SUMMARY:Utrenia\, Sfânta Liturghie\, Sfințirea Apei și Taina Sfântului Maslu
DESCRIPTION:
URL:https://sfantuldumitrusuceava.ro/eveniment/utrenia-sfanta-liturghie-sfintirea-apei-si-taina-sfantului-maslu/2028-03-31/
END:VEVENT
BEGIN:VEVENT
DTSTART;TZID=UTC:20280401T080000
DTEND;TZID=UTC:20280401T093000
DTSTAMP:20260426T004437
CREATED:20241102T142433Z
LAST-MODIFIED:20241102T142433Z
UID:25951-1838188800-1838194200@sfantuldumitrusuceava.ro
SUMMARY:Sfânta Liturghie și Spovedanie
DESCRIPTION:
URL:https://sfantuldumitrusuceava.ro/eveniment/sfanta-liturghie-si-spovedanie/2028-04-01/
END:VEVENT
BEGIN:VEVENT
DTSTART;TZID=UTC:20280401T103000
DTEND;TZID=UTC:20280401T110000
DTSTAMP:20260426T004437
CREATED:20241102T142519Z
LAST-MODIFIED:20241102T142519Z
UID:25952-1838197800-1838199600@sfantuldumitrusuceava.ro
SUMMARY:Pomenirea celor adormiți (Parastas)
DESCRIPTION:
URL:https://sfantuldumitrusuceava.ro/eveniment/pomenirea-celor-adormiti-parastas/2028-04-01/
END:VEVENT
BEGIN:VEVENT
DTSTART;TZID=Europe/Helsinki:20280402T080000
DTEND;TZID=Europe/Helsinki:20280402T120000
DTSTAMP:20260426T004437
CREATED:20241102T100818Z
LAST-MODIFIED:20241102T100818Z
UID:25953-1838275200-1838289600@sfantuldumitrusuceava.ro
SUMMARY:Utrenia\, Acatistul și Sfânta Liturghie
DESCRIPTION:
URL:https://sfantuldumitrusuceava.ro/eveniment/duminica/2028-04-02/
END:VEVENT
BEGIN:VEVENT
DTSTART;TZID=UTC:20280403T070000
DTEND;TZID=UTC:20280403T090000
DTSTAMP:20260426T004437
CREATED:20241102T141909Z
LAST-MODIFIED:20241102T141909Z
UID:25955-1838358000-1838365200@sfantuldumitrusuceava.ro
SUMMARY:Program de curățenie si Audiențe
DESCRIPTION:
URL:https://sfantuldumitrusuceava.ro/eveniment/program-de-curatenie-si-audiente-2/2028-04-03/
END:VEVENT
BEGIN:VEVENT
DTSTART;TZID=UTC:20280403T090000
DTEND;TZID=UTC:20280403T103000
DTSTAMP:20260426T004437
CREATED:20241102T141724Z
LAST-MODIFIED:20241102T141724Z
UID:25954-1838365200-1838370600@sfantuldumitrusuceava.ro
SUMMARY:Sfânta Liturghie
DESCRIPTION:
URL:https://sfantuldumitrusuceava.ro/eveniment/program-de-curatenie-si-audiente/2028-04-03/
END:VEVENT
BEGIN:VEVENT
DTSTART;TZID=UTC:20280404T080000
DTEND;TZID=UTC:20280404T093000
DTSTAMP:20260426T004437
CREATED:20241102T141955Z
LAST-MODIFIED:20241102T141955Z
UID:25956-1838448000-1838453400@sfantuldumitrusuceava.ro
SUMMARY:Sfânta Liturghie
DESCRIPTION:
URL:https://sfantuldumitrusuceava.ro/eveniment/sfanta-liturghie/2028-04-04/
END:VEVENT
END:VCALENDAR